BEGIN:VCALENDAR
VERSION:2.0
PRODID:-//Edlio Inc//Edlio Calendar//EN
CALSCALE:GREGORIAN
METHOD:PUBLISH
X-WR-CALNAME:7th Grade Math 25-26 - Pillow Academy
X-ORIGINAL-URL:https://www.pillowacademy.com
X-WR-CALDESC:Events calendar for www.pillowacademy.com
X-WR-TIMEZONE:US/Central
REFRESH-INTERVAL;VALUE=DURATION:PT1H
X-Robots-Tag:noindex
X-PUBLISHED-TTL:PT1H
BEGIN:VTIMEZONE
TZID:US/Central
BEGIN:STANDARD
TZOFFSETFROM:-0500
TZOFFSETTO:-0600
DTSTART:20071104T020000
RRULE:FREQ=YEARLY;BYMONTH=11;BYDAY=1SU
END:STANDARD
BEGIN:DAYLIGHT
TZOFFSETFROM:-0600
TZOFFSETTO:-0500
DTSTART:20070311T020000
RRULE:FREQ=YEARLY;BYMONTH=3;BYDAY=2SU
END:DAYLIGHT
END:VTIMEZONE
BEGIN:VTIMEZONE
TZID:US/East-Indiana
BEGIN:STANDARD
TZOFFSETFROM:-0500
TZOFFSETTO:-0500
DTSTART:19701025T020000
END:STANDARD
END:VTIMEZONE
BEGIN:VTIMEZONE
TZID:US/Eastern
BEGIN:STANDARD
TZOFFSETFROM:-0400
TZOFFSETTO:-0500
DTSTART:19701025T020000
RRULE:FREQ=YEARLY;BYMONTH=10;BYDAY=-1SU;UNTIL=20070311T020000
END:STANDARD
BEGIN:STANDARD
TZOFFSETFROM:-0400
TZOFFSETTO:-0500
DTSTART:20071104T020000
RRULE:FREQ=YEARLY;BYMONTH=11;BYDAY=1SU
END:STANDARD
BEGIN:DAYLIGHT
TZOFFSETFROM:-0500
TZOFFSETTO:-0400
DTSTART:19870405T020000
RRULE:FREQ=YEARLY;BYMONTH=4;BYDAY=1SU;UNTIL=20061029T020000
END:DAYLIGHT
BEGIN:DAYLIGHT
TZOFFSETFROM:-0500
TZOFFSETTO:-0400
DTSTART:20070311T020000
RRULE:FREQ=YEARLY;BYMONTH=3;BYDAY=2SU
END:DAYLIGHT
END:VTIMEZONE
BEGIN:VTIMEZONE
TZID:US/Michigan
BEGIN:STANDARD
TZOFFSETFROM:-0400
TZOFFSETTO:-0500
DTSTART:19701025T020000
RRULE:FREQ=YEARLY;BYMONTH=10;BYDAY=-1SU;UNTIL=20070311T020000
END:STANDARD
BEGIN:STANDARD
TZOFFSETFROM:-0400
TZOFFSETTO:-0500
DTSTART:20071104T020000
RRULE:FREQ=YEARLY;BYMONTH=11;BYDAY=1SU
END:STANDARD
BEGIN:DAYLIGHT
TZOFFSETFROM:-0500
TZOFFSETTO:-0400
DTSTART:19870405T020000
RRULE:FREQ=YEARLY;BYMONTH=4;BYDAY=1SU;UNTIL=20061029T020000
END:DAYLIGHT
BEGIN:DAYLIGHT
TZOFFSETFROM:-0500
TZOFFSETTO:-0400
DTSTART:20070311T020000
RRULE:FREQ=YEARLY;BYMONTH=3;BYDAY=2SU
END:DAYLIGHT
END:VTIMEZONE
BEGIN:VTIMEZONE
TZID:US/Central
BEGIN:STANDARD
TZOFFSETFROM:-0500
TZOFFSETTO:-0600
DTSTART:19701025T020000
RRULE:FREQ=YEARLY;BYMONTH=10;BYDAY=-1SU;UNTIL=20070311T020000
END:STANDARD
BEGIN:STANDARD
TZOFFSETFROM:-0500
TZOFFSETTO:-0600
DTSTART:20071104T020000
RRULE:FREQ=YEARLY;BYMONTH=11;BYDAY=1SU
END:STANDARD
BEGIN:DAYLIGHT
TZOFFSETFROM:-0600
TZOFFSETTO:-0500
DTSTART:19870405T020000
RRULE:FREQ=YEARLY;BYMONTH=4;BYDAY=1SU;UNTIL=20061029T020000
END:DAYLIGHT
BEGIN:DAYLIGHT
TZOFFSETFROM:-0600
TZOFFSETTO:-0500
DTSTART:20070311T020000
RRULE:FREQ=YEARLY;BYMONTH=3;BYDAY=2SU
END:DAYLIGHT
END:VTIMEZONE
BEGIN:VTIMEZONE
TZID:US/Mountain
BEGIN:STANDARD
TZOFFSETFROM:-0600
TZOFFSETTO:-0700
DTSTART:19701025T020000
RRULE:FREQ=YEARLY;BYMONTH=10;BYDAY=-1SU;UNTIL=20070311T020000
END:STANDARD
BEGIN:STANDARD
TZOFFSETFROM:-0600
TZOFFSETTO:-0700
DTSTART:20071104T020000
RRULE:FREQ=YEARLY;BYMONTH=11;BYDAY=1SU
END:STANDARD
BEGIN:DAYLIGHT
TZOFFSETFROM:-0700
TZOFFSETTO:-0600
DTSTART:19870405T020000
RRULE:FREQ=YEARLY;BYMONTH=4;BYDAY=1SU;UNTIL=20061029T020000
END:DAYLIGHT
BEGIN:DAYLIGHT
TZOFFSETFROM:-0700
TZOFFSETTO:-0600
DTSTART:20070311T020000
RRULE:FREQ=YEARLY;BYMONTH=3;BYDAY=2SU
END:DAYLIGHT
END:VTIMEZONE
BEGIN:VTIMEZONE
TZID:US/Arizona
BEGIN:STANDARD
TZOFFSETFROM:-0700
TZOFFSETTO:-0700
DTSTART:19701025T020000
END:STANDARD
END:VTIMEZONE
BEGIN:VTIMEZONE
TZID:US/Pacific
BEGIN:STANDARD
TZOFFSETFROM:-0700
TZOFFSETTO:-0800
DTSTART:19701025T020000
RRULE:FREQ=YEARLY;BYMONTH=10;BYDAY=-1SU;UNTIL=20070311T020000
END:STANDARD
BEGIN:STANDARD
TZOFFSETFROM:-0700
TZOFFSETTO:-0800
DTSTART:20071104T020000
RRULE:FREQ=YEARLY;BYMONTH=11;BYDAY=1SU
END:STANDARD
BEGIN:DAYLIGHT
TZOFFSETFROM:-0800
TZOFFSETTO:-0700
DTSTART:19870405T020000
RRULE:FREQ=YEARLY;BYMONTH=4;BYDAY=1SU;UNTIL=20061029T020000
END:DAYLIGHT
BEGIN:DAYLIGHT
TZOFFSETFROM:-0800
TZOFFSETTO:-0700
DTSTART:20070311T020000
RRULE:FREQ=YEARLY;BYMONTH=3;BYDAY=2SU
END:DAYLIGHT
END:VTIMEZONE
BEGIN:VTIMEZONE
TZID:US/Alaska
BEGIN:STANDARD
TZOFFSETFROM:-0800
TZOFFSETTO:-0900
DTSTART:19701025T020000
RRULE:FREQ=YEARLY;BYMONTH=10;BYDAY=-1SU;UNTIL=20070311T020000
END:STANDARD
BEGIN:STANDARD
TZOFFSETFROM:-0800
TZOFFSETTO:-0900
DTSTART:20071104T020000
RRULE:FREQ=YEARLY;BYMONTH=11;BYDAY=1SU
END:STANDARD
BEGIN:DAYLIGHT
TZOFFSETFROM:-0900
TZOFFSETTO:-0800
DTSTART:19870405T020000
RRULE:FREQ=YEARLY;BYMONTH=4;BYDAY=1SU;UNTIL=20061029T020000
END:DAYLIGHT
BEGIN:DAYLIGHT
TZOFFSETFROM:-0900
TZOFFSETTO:-0800
DTSTART:20070311T020000
RRULE:FREQ=YEARLY;BYMONTH=3;BYDAY=2SU
END:DAYLIGHT
END:VTIMEZONE
BEGIN:VTIMEZONE
TZID:US/Hawaii
BEGIN:STANDARD
TZOFFSETFROM:-1000
TZOFFSETTO:-1000
DTSTART:19701025T020000
END:STANDARD
END:VTIMEZONE
BEGIN:VTIMEZONE
TZID:US/Aleutian
BEGIN:STANDARD
TZOFFSETFROM:-1000
TZOFFSETTO:-1000
DTSTART:19701025T020000
END:STANDARD
END:VTIMEZONE
BEGIN:VTIMEZONE
TZID:US/Samoa
BEGIN:STANDARD
TZOFFSETFROM:-1100
TZOFFSETTO:-1100
DTSTART:19701025T020000
END:STANDARD
END:VTIMEZONE
BEGIN:VEVENT
UID:11747914@www.pillowacademy.com#20260424
SEQUENCE:0
CREATED:20260420T210527Z
LAST-MODIFIED:20260420T210527Z
DTSTART;TZID=US/Central:20260424T235800
DTEND;TZID=US/Central:20260424T235900
SUMMARY:Assignment: Friday
DESCRIPTION:Test 7.5 Mean\, Median\, Mode and Range \n<a href=' https://www
 .pillowacademy.com/apps/classes/1061325/assignments/#hw-11747914'>Read mor
 e</a>
URL:https://www.pillowacademy.com/apps/classes/1061325/assignments/#hw-1174
 7914
ORGANIZER;CN="Edlio Calendar":MAILTO:noreply@www.pillowacademy.com
DTSTAMP:20260423T082246Z
END:VEVENT
BEGIN:VEVENT
UID:11747919@www.pillowacademy.com#20260424
SEQUENCE:0
CREATED:20260420T210528Z
LAST-MODIFIED:20260420T210528Z
DTSTART;TZID=US/Central:20260424T235800
DTEND;TZID=US/Central:20260424T235900
SUMMARY:Assignment: Friday
DESCRIPTION:Test 7.5 Mean\, Median\, Mode and Range \n<a href=' https://www
 .pillowacademy.com/apps/classes/1061325/assignments/#hw-11747919'>Read mor
 e</a>
URL:https://www.pillowacademy.com/apps/classes/1061325/assignments/#hw-1174
 7919
ORGANIZER;CN="Edlio Calendar":MAILTO:noreply@www.pillowacademy.com
DTSTAMP:20260423T082246Z
END:VEVENT
BEGIN:VEVENT
UID:11784114@www.pillowacademy.com#20260501
SEQUENCE:0
CREATED:20260422T150232Z
LAST-MODIFIED:20260422T150232Z
DTSTART;TZID=US/Central:20260501T235800
DTEND;TZID=US/Central:20260501T235900
SUMMARY:Assignment: Friday
DESCRIPTION:8.1-8.2 Test \n<a href=' https://www.pillowacademy.com/apps/cla
 sses/1061325/assignments/#hw-11784114'>Read more</a>
URL:https://www.pillowacademy.com/apps/classes/1061325/assignments/#hw-1178
 4114
ORGANIZER;CN="Edlio Calendar":MAILTO:noreply@www.pillowacademy.com
DTSTAMP:20260423T082246Z
END:VEVENT
BEGIN:VEVENT
UID:11784119@www.pillowacademy.com#20260501
SEQUENCE:0
CREATED:20260422T150232Z
LAST-MODIFIED:20260422T150232Z
DTSTART;TZID=US/Central:20260501T235800
DTEND;TZID=US/Central:20260501T235900
SUMMARY:Assignment: Friday
DESCRIPTION:8.1-8.2 Test \n<a href=' https://www.pillowacademy.com/apps/cla
 sses/1061325/assignments/#hw-11784119'>Read more</a>
URL:https://www.pillowacademy.com/apps/classes/1061325/assignments/#hw-1178
 4119
ORGANIZER;CN="Edlio Calendar":MAILTO:noreply@www.pillowacademy.com
DTSTAMP:20260423T082246Z
END:VEVENT
BEGIN:VEVENT
UID:11784124@www.pillowacademy.com#20260501
SEQUENCE:0
CREATED:20260422T150232Z
LAST-MODIFIED:20260422T150232Z
DTSTART;TZID=US/Central:20260501T235800
DTEND;TZID=US/Central:20260501T235900
SUMMARY:Assignment: Friday
DESCRIPTION:8.1-8.2 Test \n<a href=' https://www.pillowacademy.com/apps/cla
 sses/1061325/assignments/#hw-11784124'>Read more</a>
URL:https://www.pillowacademy.com/apps/classes/1061325/assignments/#hw-1178
 4124
ORGANIZER;CN="Edlio Calendar":MAILTO:noreply@www.pillowacademy.com
DTSTAMP:20260423T082246Z
END:VEVENT
BEGIN:VEVENT
UID:11784113@www.pillowacademy.com#20260427
SEQUENCE:0
CREATED:20260422T150232Z
LAST-MODIFIED:20260422T150232Z
DTSTART;TZID=US/Central:20260427T235800
DTEND;TZID=US/Central:20260427T235900
SUMMARY:Assignment: Monday
DESCRIPTION:8.1- Bar Graphs pg 298-300<br><br>HW: pg. 301 all \n<a href=' h
 ttps://www.pillowacademy.com/apps/classes/1061325/assignments/#hw-11784113
 '>Read more</a>
URL:https://www.pillowacademy.com/apps/classes/1061325/assignments/#hw-1178
 4113
ORGANIZER;CN="Edlio Calendar":MAILTO:noreply@www.pillowacademy.com
DTSTAMP:20260423T082246Z
END:VEVENT
BEGIN:VEVENT
UID:11784118@www.pillowacademy.com#20260427
SEQUENCE:0
CREATED:20260422T150232Z
LAST-MODIFIED:20260422T150232Z
DTSTART;TZID=US/Central:20260427T235800
DTEND;TZID=US/Central:20260427T235900
SUMMARY:Assignment: Monday
DESCRIPTION:8.1- Bar Graphs pg 298-300<br><br>HW: pg. 301 all \n<a href=' h
 ttps://www.pillowacademy.com/apps/classes/1061325/assignments/#hw-11784118
 '>Read more</a>
URL:https://www.pillowacademy.com/apps/classes/1061325/assignments/#hw-1178
 4118
ORGANIZER;CN="Edlio Calendar":MAILTO:noreply@www.pillowacademy.com
DTSTAMP:20260423T082246Z
END:VEVENT
BEGIN:VEVENT
UID:11784123@www.pillowacademy.com#20260427
SEQUENCE:0
CREATED:20260422T150232Z
LAST-MODIFIED:20260422T150232Z
DTSTART;TZID=US/Central:20260427T235800
DTEND;TZID=US/Central:20260427T235900
SUMMARY:Assignment: Monday
DESCRIPTION:8.1- Bar Graphs pg 298-300<br><br>HW: pg. 301 all \n<a href=' h
 ttps://www.pillowacademy.com/apps/classes/1061325/assignments/#hw-11784123
 '>Read more</a>
URL:https://www.pillowacademy.com/apps/classes/1061325/assignments/#hw-1178
 4123
ORGANIZER;CN="Edlio Calendar":MAILTO:noreply@www.pillowacademy.com
DTSTAMP:20260423T082246Z
END:VEVENT
BEGIN:VEVENT
UID:11747916@www.pillowacademy.com#20260423
SEQUENCE:0
CREATED:20260420T210527Z
LAST-MODIFIED:20260420T210527Z
DTSTART;TZID=US/Central:20260423T235800
DTEND;TZID=US/Central:20260423T235900
SUMMARY:Assignment: Thursday
DESCRIPTION:Quiz 7.5 <br><br>Study Guide \n<a href=' https://www.pillowacad
 emy.com/apps/classes/1061325/assignments/#hw-11747916'>Read more</a>
URL:https://www.pillowacademy.com/apps/classes/1061325/assignments/#hw-1174
 7916
ORGANIZER;CN="Edlio Calendar":MAILTO:noreply@www.pillowacademy.com
DTSTAMP:20260423T082246Z
END:VEVENT
BEGIN:VEVENT
UID:11747921@www.pillowacademy.com#20260423
SEQUENCE:0
CREATED:20260420T210528Z
LAST-MODIFIED:20260420T210528Z
DTSTART;TZID=US/Central:20260423T235800
DTEND;TZID=US/Central:20260423T235900
SUMMARY:Assignment: Thursday
DESCRIPTION:Quiz 7.5 <br><br>Study Guide \n<a href=' https://www.pillowacad
 emy.com/apps/classes/1061325/assignments/#hw-11747921'>Read more</a>
URL:https://www.pillowacademy.com/apps/classes/1061325/assignments/#hw-1174
 7921
ORGANIZER;CN="Edlio Calendar":MAILTO:noreply@www.pillowacademy.com
DTSTAMP:20260423T082246Z
END:VEVENT
BEGIN:VEVENT
UID:11784115@www.pillowacademy.com#20260430
SEQUENCE:0
CREATED:20260422T150232Z
LAST-MODIFIED:20260422T150232Z
DTSTART;TZID=US/Central:20260430T235800
DTEND;TZID=US/Central:20260430T235900
SUMMARY:Assignment: Thursday 
DESCRIPTION:Review Circle and Bar graphs 8.1-8.2 <br><br>Quiz 8.1-8.2 \n<a 
 href=' https://www.pillowacademy.com/apps/classes/1061325/assignments/#hw-
 11784115'>Read more</a>
URL:https://www.pillowacademy.com/apps/classes/1061325/assignments/#hw-1178
 4115
ORGANIZER;CN="Edlio Calendar":MAILTO:noreply@www.pillowacademy.com
DTSTAMP:20260423T082246Z
END:VEVENT
BEGIN:VEVENT
UID:11784120@www.pillowacademy.com#20260430
SEQUENCE:0
CREATED:20260422T150232Z
LAST-MODIFIED:20260422T150232Z
DTSTART;TZID=US/Central:20260430T235800
DTEND;TZID=US/Central:20260430T235900
SUMMARY:Assignment: Thursday 
DESCRIPTION:Review Circle and Bar graphs 8.1-8.2 <br><br>Quiz 8.1-8.2 \n<a 
 href=' https://www.pillowacademy.com/apps/classes/1061325/assignments/#hw-
 11784120'>Read more</a>
URL:https://www.pillowacademy.com/apps/classes/1061325/assignments/#hw-1178
 4120
ORGANIZER;CN="Edlio Calendar":MAILTO:noreply@www.pillowacademy.com
DTSTAMP:20260423T082246Z
END:VEVENT
BEGIN:VEVENT
UID:11784125@www.pillowacademy.com#20260430
SEQUENCE:0
CREATED:20260422T150232Z
LAST-MODIFIED:20260422T150232Z
DTSTART;TZID=US/Central:20260430T235800
DTEND;TZID=US/Central:20260430T235900
SUMMARY:Assignment: Thursday 
DESCRIPTION:Review Circle and Bar graphs 8.1-8.2 <br><br>Quiz 8.1-8.2 \n<a 
 href=' https://www.pillowacademy.com/apps/classes/1061325/assignments/#hw-
 11784125'>Read more</a>
URL:https://www.pillowacademy.com/apps/classes/1061325/assignments/#hw-1178
 4125
ORGANIZER;CN="Edlio Calendar":MAILTO:noreply@www.pillowacademy.com
DTSTAMP:20260423T082246Z
END:VEVENT
BEGIN:VEVENT
UID:11784116@www.pillowacademy.com#20260428
SEQUENCE:0
CREATED:20260422T150232Z
LAST-MODIFIED:20260422T150232Z
DTSTART;TZID=US/Central:20260428T235800
DTEND;TZID=US/Central:20260428T235900
SUMMARY:Assignment: Tuesday
DESCRIPTION:Check HW 8.1 <br><br>8.2- Circle Graphs <br><br>pg. 305-306<br>
 <br>HW: 8.2 pg. 307 all \n<a href=' https://www.pillowacademy.com/apps/cla
 sses/1061325/assignments/#hw-11784116'>Read more</a>
URL:https://www.pillowacademy.com/apps/classes/1061325/assignments/#hw-1178
 4116
ORGANIZER;CN="Edlio Calendar":MAILTO:noreply@www.pillowacademy.com
DTSTAMP:20260423T082246Z
END:VEVENT
BEGIN:VEVENT
UID:11784121@www.pillowacademy.com#20260428
SEQUENCE:0
CREATED:20260422T150232Z
LAST-MODIFIED:20260422T150232Z
DTSTART;TZID=US/Central:20260428T235800
DTEND;TZID=US/Central:20260428T235900
SUMMARY:Assignment: Tuesday
DESCRIPTION:Check HW 8.1 <br><br>8.2- Circle Graphs <br><br>pg. 305-306<br>
 <br>HW: 8.2 pg. 307 all \n<a href=' https://www.pillowacademy.com/apps/cla
 sses/1061325/assignments/#hw-11784121'>Read more</a>
URL:https://www.pillowacademy.com/apps/classes/1061325/assignments/#hw-1178
 4121
ORGANIZER;CN="Edlio Calendar":MAILTO:noreply@www.pillowacademy.com
DTSTAMP:20260423T082246Z
END:VEVENT
BEGIN:VEVENT
UID:11784126@www.pillowacademy.com#20260428
SEQUENCE:0
CREATED:20260422T150232Z
LAST-MODIFIED:20260422T150232Z
DTSTART;TZID=US/Central:20260428T235800
DTEND;TZID=US/Central:20260428T235900
SUMMARY:Assignment: Tuesday
DESCRIPTION:Check HW 8.1 <br><br>8.2- Circle Graphs <br><br>pg. 305-306<br>
 <br>HW: 8.2 pg. 307 all \n<a href=' https://www.pillowacademy.com/apps/cla
 sses/1061325/assignments/#hw-11784126'>Read more</a>
URL:https://www.pillowacademy.com/apps/classes/1061325/assignments/#hw-1178
 4126
ORGANIZER;CN="Edlio Calendar":MAILTO:noreply@www.pillowacademy.com
DTSTAMP:20260423T082246Z
END:VEVENT
BEGIN:VEVENT
UID:11747917@www.pillowacademy.com#20260422
SEQUENCE:0
CREATED:20260420T210527Z
LAST-MODIFIED:20260420T210527Z
DTSTART;TZID=US/Central:20260422T235800
DTEND;TZID=US/Central:20260422T235900
SUMMARY:Assignment: Wednesday
DESCRIPTION:Check HW 7.5<br><br>Mean\, Median\, Mode\, and Range Handouts \
 n<a href=' https://www.pillowacademy.com/apps/classes/1061325/assignments/
 #hw-11747917'>Read more</a>
URL:https://www.pillowacademy.com/apps/classes/1061325/assignments/#hw-1174
 7917
ORGANIZER;CN="Edlio Calendar":MAILTO:noreply@www.pillowacademy.com
DTSTAMP:20260423T082246Z
END:VEVENT
BEGIN:VEVENT
UID:11747922@www.pillowacademy.com#20260422
SEQUENCE:0
CREATED:20260420T210528Z
LAST-MODIFIED:20260420T210528Z
DTSTART;TZID=US/Central:20260422T235800
DTEND;TZID=US/Central:20260422T235900
SUMMARY:Assignment: Wednesday
DESCRIPTION:Check HW 7.5<br><br>Mean\, Median\, Mode\, and Range Handouts \
 n<a href=' https://www.pillowacademy.com/apps/classes/1061325/assignments/
 #hw-11747922'>Read more</a>
URL:https://www.pillowacademy.com/apps/classes/1061325/assignments/#hw-1174
 7922
ORGANIZER;CN="Edlio Calendar":MAILTO:noreply@www.pillowacademy.com
DTSTAMP:20260423T082246Z
END:VEVENT
BEGIN:VEVENT
UID:11784112@www.pillowacademy.com#20260429
SEQUENCE:0
CREATED:20260422T150231Z
LAST-MODIFIED:20260422T150231Z
DTSTART;TZID=US/Central:20260429T235800
DTEND;TZID=US/Central:20260429T235900
SUMMARY:Assignment: Wednesday
DESCRIPTION:Review Bar and Circle graphs 8.1-8.2 <br><br>pg. 309-311 all \n
 <a href=' https://www.pillowacademy.com/apps/classes/1061325/assignments/#
 hw-11784112'>Read more</a>
URL:https://www.pillowacademy.com/apps/classes/1061325/assignments/#hw-1178
 4112
ORGANIZER;CN="Edlio Calendar":MAILTO:noreply@www.pillowacademy.com
DTSTAMP:20260423T082246Z
END:VEVENT
BEGIN:VEVENT
UID:11784117@www.pillowacademy.com#20260429
SEQUENCE:0
CREATED:20260422T150232Z
LAST-MODIFIED:20260422T150232Z
DTSTART;TZID=US/Central:20260429T235800
DTEND;TZID=US/Central:20260429T235900
SUMMARY:Assignment: Wednesday
DESCRIPTION:Review Bar and Circle graphs 8.1-8.2 <br><br>pg. 309-311 all \n
 <a href=' https://www.pillowacademy.com/apps/classes/1061325/assignments/#
 hw-11784117'>Read more</a>
URL:https://www.pillowacademy.com/apps/classes/1061325/assignments/#hw-1178
 4117
ORGANIZER;CN="Edlio Calendar":MAILTO:noreply@www.pillowacademy.com
DTSTAMP:20260423T082246Z
END:VEVENT
BEGIN:VEVENT
UID:11784122@www.pillowacademy.com#20260429
SEQUENCE:0
CREATED:20260422T150232Z
LAST-MODIFIED:20260422T150232Z
DTSTART;TZID=US/Central:20260429T235800
DTEND;TZID=US/Central:20260429T235900
SUMMARY:Assignment: Wednesday
DESCRIPTION:Review Bar and Circle graphs 8.1-8.2 <br><br>pg. 309-311 all \n
 <a href=' https://www.pillowacademy.com/apps/classes/1061325/assignments/#
 hw-11784122'>Read more</a>
URL:https://www.pillowacademy.com/apps/classes/1061325/assignments/#hw-1178
 4122
ORGANIZER;CN="Edlio Calendar":MAILTO:noreply@www.pillowacademy.com
DTSTAMP:20260423T082246Z
END:VEVENT
END:VCALENDAR
