BEGIN:VCALENDAR
VERSION:2.0
PRODID:-//Edlio Inc//Edlio Calendar//EN
CALSCALE:GREGORIAN
METHOD:PUBLISH
X-WR-CALNAME:Spanish I - 4th Period-2025-2026 - Pillow Academy
X-ORIGINAL-URL:https://www.pillowacademy.com
X-WR-CALDESC:Events calendar for www.pillowacademy.com
X-WR-TIMEZONE:US/Central
REFRESH-INTERVAL;VALUE=DURATION:PT1H
X-Robots-Tag:noindex
X-PUBLISHED-TTL:PT1H
BEGIN:VTIMEZONE
TZID:US/Central
BEGIN:STANDARD
TZOFFSETFROM:-0500
TZOFFSETTO:-0600
DTSTART:20071104T020000
RRULE:FREQ=YEARLY;BYMONTH=11;BYDAY=1SU
END:STANDARD
BEGIN:DAYLIGHT
TZOFFSETFROM:-0600
TZOFFSETTO:-0500
DTSTART:20070311T020000
RRULE:FREQ=YEARLY;BYMONTH=3;BYDAY=2SU
END:DAYLIGHT
END:VTIMEZONE
BEGIN:VTIMEZONE
TZID:US/East-Indiana
BEGIN:STANDARD
TZOFFSETFROM:-0500
TZOFFSETTO:-0500
DTSTART:19701025T020000
END:STANDARD
END:VTIMEZONE
BEGIN:VTIMEZONE
TZID:US/Eastern
BEGIN:STANDARD
TZOFFSETFROM:-0400
TZOFFSETTO:-0500
DTSTART:19701025T020000
RRULE:FREQ=YEARLY;BYMONTH=10;BYDAY=-1SU;UNTIL=20070311T020000
END:STANDARD
BEGIN:STANDARD
TZOFFSETFROM:-0400
TZOFFSETTO:-0500
DTSTART:20071104T020000
RRULE:FREQ=YEARLY;BYMONTH=11;BYDAY=1SU
END:STANDARD
BEGIN:DAYLIGHT
TZOFFSETFROM:-0500
TZOFFSETTO:-0400
DTSTART:19870405T020000
RRULE:FREQ=YEARLY;BYMONTH=4;BYDAY=1SU;UNTIL=20061029T020000
END:DAYLIGHT
BEGIN:DAYLIGHT
TZOFFSETFROM:-0500
TZOFFSETTO:-0400
DTSTART:20070311T020000
RRULE:FREQ=YEARLY;BYMONTH=3;BYDAY=2SU
END:DAYLIGHT
END:VTIMEZONE
BEGIN:VTIMEZONE
TZID:US/Michigan
BEGIN:STANDARD
TZOFFSETFROM:-0400
TZOFFSETTO:-0500
DTSTART:19701025T020000
RRULE:FREQ=YEARLY;BYMONTH=10;BYDAY=-1SU;UNTIL=20070311T020000
END:STANDARD
BEGIN:STANDARD
TZOFFSETFROM:-0400
TZOFFSETTO:-0500
DTSTART:20071104T020000
RRULE:FREQ=YEARLY;BYMONTH=11;BYDAY=1SU
END:STANDARD
BEGIN:DAYLIGHT
TZOFFSETFROM:-0500
TZOFFSETTO:-0400
DTSTART:19870405T020000
RRULE:FREQ=YEARLY;BYMONTH=4;BYDAY=1SU;UNTIL=20061029T020000
END:DAYLIGHT
BEGIN:DAYLIGHT
TZOFFSETFROM:-0500
TZOFFSETTO:-0400
DTSTART:20070311T020000
RRULE:FREQ=YEARLY;BYMONTH=3;BYDAY=2SU
END:DAYLIGHT
END:VTIMEZONE
BEGIN:VTIMEZONE
TZID:US/Central
BEGIN:STANDARD
TZOFFSETFROM:-0500
TZOFFSETTO:-0600
DTSTART:19701025T020000
RRULE:FREQ=YEARLY;BYMONTH=10;BYDAY=-1SU;UNTIL=20070311T020000
END:STANDARD
BEGIN:STANDARD
TZOFFSETFROM:-0500
TZOFFSETTO:-0600
DTSTART:20071104T020000
RRULE:FREQ=YEARLY;BYMONTH=11;BYDAY=1SU
END:STANDARD
BEGIN:DAYLIGHT
TZOFFSETFROM:-0600
TZOFFSETTO:-0500
DTSTART:19870405T020000
RRULE:FREQ=YEARLY;BYMONTH=4;BYDAY=1SU;UNTIL=20061029T020000
END:DAYLIGHT
BEGIN:DAYLIGHT
TZOFFSETFROM:-0600
TZOFFSETTO:-0500
DTSTART:20070311T020000
RRULE:FREQ=YEARLY;BYMONTH=3;BYDAY=2SU
END:DAYLIGHT
END:VTIMEZONE
BEGIN:VTIMEZONE
TZID:US/Mountain
BEGIN:STANDARD
TZOFFSETFROM:-0600
TZOFFSETTO:-0700
DTSTART:19701025T020000
RRULE:FREQ=YEARLY;BYMONTH=10;BYDAY=-1SU;UNTIL=20070311T020000
END:STANDARD
BEGIN:STANDARD
TZOFFSETFROM:-0600
TZOFFSETTO:-0700
DTSTART:20071104T020000
RRULE:FREQ=YEARLY;BYMONTH=11;BYDAY=1SU
END:STANDARD
BEGIN:DAYLIGHT
TZOFFSETFROM:-0700
TZOFFSETTO:-0600
DTSTART:19870405T020000
RRULE:FREQ=YEARLY;BYMONTH=4;BYDAY=1SU;UNTIL=20061029T020000
END:DAYLIGHT
BEGIN:DAYLIGHT
TZOFFSETFROM:-0700
TZOFFSETTO:-0600
DTSTART:20070311T020000
RRULE:FREQ=YEARLY;BYMONTH=3;BYDAY=2SU
END:DAYLIGHT
END:VTIMEZONE
BEGIN:VTIMEZONE
TZID:US/Arizona
BEGIN:STANDARD
TZOFFSETFROM:-0700
TZOFFSETTO:-0700
DTSTART:19701025T020000
END:STANDARD
END:VTIMEZONE
BEGIN:VTIMEZONE
TZID:US/Pacific
BEGIN:STANDARD
TZOFFSETFROM:-0700
TZOFFSETTO:-0800
DTSTART:19701025T020000
RRULE:FREQ=YEARLY;BYMONTH=10;BYDAY=-1SU;UNTIL=20070311T020000
END:STANDARD
BEGIN:STANDARD
TZOFFSETFROM:-0700
TZOFFSETTO:-0800
DTSTART:20071104T020000
RRULE:FREQ=YEARLY;BYMONTH=11;BYDAY=1SU
END:STANDARD
BEGIN:DAYLIGHT
TZOFFSETFROM:-0800
TZOFFSETTO:-0700
DTSTART:19870405T020000
RRULE:FREQ=YEARLY;BYMONTH=4;BYDAY=1SU;UNTIL=20061029T020000
END:DAYLIGHT
BEGIN:DAYLIGHT
TZOFFSETFROM:-0800
TZOFFSETTO:-0700
DTSTART:20070311T020000
RRULE:FREQ=YEARLY;BYMONTH=3;BYDAY=2SU
END:DAYLIGHT
END:VTIMEZONE
BEGIN:VTIMEZONE
TZID:US/Alaska
BEGIN:STANDARD
TZOFFSETFROM:-0800
TZOFFSETTO:-0900
DTSTART:19701025T020000
RRULE:FREQ=YEARLY;BYMONTH=10;BYDAY=-1SU;UNTIL=20070311T020000
END:STANDARD
BEGIN:STANDARD
TZOFFSETFROM:-0800
TZOFFSETTO:-0900
DTSTART:20071104T020000
RRULE:FREQ=YEARLY;BYMONTH=11;BYDAY=1SU
END:STANDARD
BEGIN:DAYLIGHT
TZOFFSETFROM:-0900
TZOFFSETTO:-0800
DTSTART:19870405T020000
RRULE:FREQ=YEARLY;BYMONTH=4;BYDAY=1SU;UNTIL=20061029T020000
END:DAYLIGHT
BEGIN:DAYLIGHT
TZOFFSETFROM:-0900
TZOFFSETTO:-0800
DTSTART:20070311T020000
RRULE:FREQ=YEARLY;BYMONTH=3;BYDAY=2SU
END:DAYLIGHT
END:VTIMEZONE
BEGIN:VTIMEZONE
TZID:US/Hawaii
BEGIN:STANDARD
TZOFFSETFROM:-1000
TZOFFSETTO:-1000
DTSTART:19701025T020000
END:STANDARD
END:VTIMEZONE
BEGIN:VTIMEZONE
TZID:US/Aleutian
BEGIN:STANDARD
TZOFFSETFROM:-1000
TZOFFSETTO:-1000
DTSTART:19701025T020000
END:STANDARD
END:VTIMEZONE
BEGIN:VTIMEZONE
TZID:US/Samoa
BEGIN:STANDARD
TZOFFSETFROM:-1100
TZOFFSETTO:-1100
DTSTART:19701025T020000
END:STANDARD
END:VTIMEZONE
BEGIN:VEVENT
UID:11735707@www.pillowacademy.com#20260424
SEQUENCE:0
CREATED:20260420T000242Z
LAST-MODIFIED:20260420T000242Z
DTSTART;TZID=US/Central:20260424T235800
DTEND;TZID=US/Central:20260424T235900
SUMMARY:Assignment: FRI April 24 - Question words and common phrases review
  games
URL:https://www.pillowacademy.com/apps/classes/1061336/assignments/#hw-1173
 5707
ORGANIZER;CN="Edlio Calendar":MAILTO:noreply@www.pillowacademy.com
DTSTAMP:20260422T143158Z
END:VEVENT
BEGIN:VEVENT
UID:11735710@www.pillowacademy.com#20260424
SEQUENCE:0
CREATED:20260420T000242Z
LAST-MODIFIED:20260420T000242Z
DTSTART;TZID=US/Central:20260424T235800
DTEND;TZID=US/Central:20260424T235900
SUMMARY:Assignment: FRI April 24 - Question words and common phrases review
  games
URL:https://www.pillowacademy.com/apps/classes/1061336/assignments/#hw-1173
 5710
ORGANIZER;CN="Edlio Calendar":MAILTO:noreply@www.pillowacademy.com
DTSTAMP:20260422T143158Z
END:VEVENT
BEGIN:VEVENT
UID:11735714@www.pillowacademy.com#20260424
SEQUENCE:0
CREATED:20260420T000243Z
LAST-MODIFIED:20260420T000243Z
DTSTART;TZID=US/Central:20260424T235800
DTEND;TZID=US/Central:20260424T235900
SUMMARY:Assignment: FRI April 24 - Question words and common phrases review
  games
URL:https://www.pillowacademy.com/apps/classes/1061336/assignments/#hw-1173
 5714
ORGANIZER;CN="Edlio Calendar":MAILTO:noreply@www.pillowacademy.com
DTSTAMP:20260422T143158Z
END:VEVENT
BEGIN:VEVENT
UID:11735704@www.pillowacademy.com#20260423
SEQUENCE:0
CREATED:20260420T000242Z
LAST-MODIFIED:20260420T000242Z
DTSTART;TZID=US/Central:20260423T235800
DTEND;TZID=US/Central:20260423T235900
SUMMARY:Assignment: THURS APR 23 - Finish movie\, review question words\, c
 ommon phrases
URL:https://www.pillowacademy.com/apps/classes/1061336/assignments/#hw-1173
 5704
ORGANIZER;CN="Edlio Calendar":MAILTO:noreply@www.pillowacademy.com
DTSTAMP:20260422T143158Z
END:VEVENT
BEGIN:VEVENT
UID:11735706@www.pillowacademy.com#20260423
SEQUENCE:0
CREATED:20260420T000242Z
LAST-MODIFIED:20260420T000242Z
DTSTART;TZID=US/Central:20260423T235800
DTEND;TZID=US/Central:20260423T235900
SUMMARY:Assignment: THURS APR 23 - Finish movie\, review question words\, c
 ommon phrases
URL:https://www.pillowacademy.com/apps/classes/1061336/assignments/#hw-1173
 5706
ORGANIZER;CN="Edlio Calendar":MAILTO:noreply@www.pillowacademy.com
DTSTAMP:20260422T143158Z
END:VEVENT
BEGIN:VEVENT
UID:11735711@www.pillowacademy.com#20260423
SEQUENCE:0
CREATED:20260420T000242Z
LAST-MODIFIED:20260420T000242Z
DTSTART;TZID=US/Central:20260423T235800
DTEND;TZID=US/Central:20260423T235900
SUMMARY:Assignment: THURS APR 23 - Finish movie\, review question words\, c
 ommon phrases
URL:https://www.pillowacademy.com/apps/classes/1061336/assignments/#hw-1173
 5711
ORGANIZER;CN="Edlio Calendar":MAILTO:noreply@www.pillowacademy.com
DTSTAMP:20260422T143158Z
END:VEVENT
BEGIN:VEVENT
UID:11735709@www.pillowacademy.com#20260421
SEQUENCE:0
CREATED:20260420T000242Z
LAST-MODIFIED:20260420T000242Z
DTSTART;TZID=US/Central:20260421T235800
DTEND;TZID=US/Central:20260421T235900
SUMMARY:Assignment: TUES APR 21 - Sub. The Longest Game movie
URL:https://www.pillowacademy.com/apps/classes/1061336/assignments/#hw-1173
 5709
ORGANIZER;CN="Edlio Calendar":MAILTO:noreply@www.pillowacademy.com
DTSTAMP:20260422T143158Z
END:VEVENT
BEGIN:VEVENT
UID:11735712@www.pillowacademy.com#20260421
SEQUENCE:0
CREATED:20260420T000242Z
LAST-MODIFIED:20260420T000242Z
DTSTART;TZID=US/Central:20260421T235800
DTEND;TZID=US/Central:20260421T235900
SUMMARY:Assignment: TUES APR 21 - Sub. The Longest Game movie
URL:https://www.pillowacademy.com/apps/classes/1061336/assignments/#hw-1173
 5712
ORGANIZER;CN="Edlio Calendar":MAILTO:noreply@www.pillowacademy.com
DTSTAMP:20260422T143158Z
END:VEVENT
BEGIN:VEVENT
UID:11735715@www.pillowacademy.com#20260421
SEQUENCE:0
CREATED:20260420T000243Z
LAST-MODIFIED:20260420T000243Z
DTSTART;TZID=US/Central:20260421T235800
DTEND;TZID=US/Central:20260421T235900
SUMMARY:Assignment: TUES APR 21 - Sub. The Longest Game movie
URL:https://www.pillowacademy.com/apps/classes/1061336/assignments/#hw-1173
 5715
ORGANIZER;CN="Edlio Calendar":MAILTO:noreply@www.pillowacademy.com
DTSTAMP:20260422T143158Z
END:VEVENT
BEGIN:VEVENT
UID:11735705@www.pillowacademy.com#20260422
SEQUENCE:0
CREATED:20260420T000242Z
LAST-MODIFIED:20260420T000242Z
DTSTART;TZID=US/Central:20260422T235800
DTEND;TZID=US/Central:20260422T235900
SUMMARY:Assignment: WED APR 22 -  The Longest Game movie
URL:https://www.pillowacademy.com/apps/classes/1061336/assignments/#hw-1173
 5705
ORGANIZER;CN="Edlio Calendar":MAILTO:noreply@www.pillowacademy.com
DTSTAMP:20260422T143158Z
END:VEVENT
BEGIN:VEVENT
UID:11735708@www.pillowacademy.com#20260422
SEQUENCE:0
CREATED:20260420T000242Z
LAST-MODIFIED:20260420T000242Z
DTSTART;TZID=US/Central:20260422T235800
DTEND;TZID=US/Central:20260422T235900
SUMMARY:Assignment: WED APR 22 -  The Longest Game movie
URL:https://www.pillowacademy.com/apps/classes/1061336/assignments/#hw-1173
 5708
ORGANIZER;CN="Edlio Calendar":MAILTO:noreply@www.pillowacademy.com
DTSTAMP:20260422T143158Z
END:VEVENT
BEGIN:VEVENT
UID:11735713@www.pillowacademy.com#20260422
SEQUENCE:0
CREATED:20260420T000242Z
LAST-MODIFIED:20260420T000242Z
DTSTART;TZID=US/Central:20260422T235800
DTEND;TZID=US/Central:20260422T235900
SUMMARY:Assignment: WED APR 22 -  The Longest Game movie
URL:https://www.pillowacademy.com/apps/classes/1061336/assignments/#hw-1173
 5713
ORGANIZER;CN="Edlio Calendar":MAILTO:noreply@www.pillowacademy.com
DTSTAMP:20260422T143158Z
END:VEVENT
END:VCALENDAR
