BEGIN:VCALENDAR
VERSION:2.0
PRODID:-//Edlio Inc//Edlio Calendar//EN
CALSCALE:GREGORIAN
METHOD:PUBLISH
X-WR-CALNAME:Advanced Biology-5th - Pillow Academy
X-ORIGINAL-URL:https://www.pillowacademy.com
X-WR-CALDESC:Events calendar for www.pillowacademy.com
X-WR-TIMEZONE:US/Central
REFRESH-INTERVAL;VALUE=DURATION:PT1H
X-Robots-Tag:noindex
X-PUBLISHED-TTL:PT1H
BEGIN:VTIMEZONE
TZID:US/Central
BEGIN:STANDARD
TZOFFSETFROM:-0500
TZOFFSETTO:-0600
DTSTART:20071104T020000
RRULE:FREQ=YEARLY;BYMONTH=11;BYDAY=1SU
END:STANDARD
BEGIN:DAYLIGHT
TZOFFSETFROM:-0600
TZOFFSETTO:-0500
DTSTART:20070311T020000
RRULE:FREQ=YEARLY;BYMONTH=3;BYDAY=2SU
END:DAYLIGHT
END:VTIMEZONE
BEGIN:VTIMEZONE
TZID:US/East-Indiana
BEGIN:STANDARD
TZOFFSETFROM:-0500
TZOFFSETTO:-0500
DTSTART:19701025T020000
END:STANDARD
END:VTIMEZONE
BEGIN:VTIMEZONE
TZID:US/Eastern
BEGIN:STANDARD
TZOFFSETFROM:-0400
TZOFFSETTO:-0500
DTSTART:19701025T020000
RRULE:FREQ=YEARLY;BYMONTH=10;BYDAY=-1SU;UNTIL=20070311T020000
END:STANDARD
BEGIN:STANDARD
TZOFFSETFROM:-0400
TZOFFSETTO:-0500
DTSTART:20071104T020000
RRULE:FREQ=YEARLY;BYMONTH=11;BYDAY=1SU
END:STANDARD
BEGIN:DAYLIGHT
TZOFFSETFROM:-0500
TZOFFSETTO:-0400
DTSTART:19870405T020000
RRULE:FREQ=YEARLY;BYMONTH=4;BYDAY=1SU;UNTIL=20061029T020000
END:DAYLIGHT
BEGIN:DAYLIGHT
TZOFFSETFROM:-0500
TZOFFSETTO:-0400
DTSTART:20070311T020000
RRULE:FREQ=YEARLY;BYMONTH=3;BYDAY=2SU
END:DAYLIGHT
END:VTIMEZONE
BEGIN:VTIMEZONE
TZID:US/Michigan
BEGIN:STANDARD
TZOFFSETFROM:-0400
TZOFFSETTO:-0500
DTSTART:19701025T020000
RRULE:FREQ=YEARLY;BYMONTH=10;BYDAY=-1SU;UNTIL=20070311T020000
END:STANDARD
BEGIN:STANDARD
TZOFFSETFROM:-0400
TZOFFSETTO:-0500
DTSTART:20071104T020000
RRULE:FREQ=YEARLY;BYMONTH=11;BYDAY=1SU
END:STANDARD
BEGIN:DAYLIGHT
TZOFFSETFROM:-0500
TZOFFSETTO:-0400
DTSTART:19870405T020000
RRULE:FREQ=YEARLY;BYMONTH=4;BYDAY=1SU;UNTIL=20061029T020000
END:DAYLIGHT
BEGIN:DAYLIGHT
TZOFFSETFROM:-0500
TZOFFSETTO:-0400
DTSTART:20070311T020000
RRULE:FREQ=YEARLY;BYMONTH=3;BYDAY=2SU
END:DAYLIGHT
END:VTIMEZONE
BEGIN:VTIMEZONE
TZID:US/Central
BEGIN:STANDARD
TZOFFSETFROM:-0500
TZOFFSETTO:-0600
DTSTART:19701025T020000
RRULE:FREQ=YEARLY;BYMONTH=10;BYDAY=-1SU;UNTIL=20070311T020000
END:STANDARD
BEGIN:STANDARD
TZOFFSETFROM:-0500
TZOFFSETTO:-0600
DTSTART:20071104T020000
RRULE:FREQ=YEARLY;BYMONTH=11;BYDAY=1SU
END:STANDARD
BEGIN:DAYLIGHT
TZOFFSETFROM:-0600
TZOFFSETTO:-0500
DTSTART:19870405T020000
RRULE:FREQ=YEARLY;BYMONTH=4;BYDAY=1SU;UNTIL=20061029T020000
END:DAYLIGHT
BEGIN:DAYLIGHT
TZOFFSETFROM:-0600
TZOFFSETTO:-0500
DTSTART:20070311T020000
RRULE:FREQ=YEARLY;BYMONTH=3;BYDAY=2SU
END:DAYLIGHT
END:VTIMEZONE
BEGIN:VTIMEZONE
TZID:US/Mountain
BEGIN:STANDARD
TZOFFSETFROM:-0600
TZOFFSETTO:-0700
DTSTART:19701025T020000
RRULE:FREQ=YEARLY;BYMONTH=10;BYDAY=-1SU;UNTIL=20070311T020000
END:STANDARD
BEGIN:STANDARD
TZOFFSETFROM:-0600
TZOFFSETTO:-0700
DTSTART:20071104T020000
RRULE:FREQ=YEARLY;BYMONTH=11;BYDAY=1SU
END:STANDARD
BEGIN:DAYLIGHT
TZOFFSETFROM:-0700
TZOFFSETTO:-0600
DTSTART:19870405T020000
RRULE:FREQ=YEARLY;BYMONTH=4;BYDAY=1SU;UNTIL=20061029T020000
END:DAYLIGHT
BEGIN:DAYLIGHT
TZOFFSETFROM:-0700
TZOFFSETTO:-0600
DTSTART:20070311T020000
RRULE:FREQ=YEARLY;BYMONTH=3;BYDAY=2SU
END:DAYLIGHT
END:VTIMEZONE
BEGIN:VTIMEZONE
TZID:US/Arizona
BEGIN:STANDARD
TZOFFSETFROM:-0700
TZOFFSETTO:-0700
DTSTART:19701025T020000
END:STANDARD
END:VTIMEZONE
BEGIN:VTIMEZONE
TZID:US/Pacific
BEGIN:STANDARD
TZOFFSETFROM:-0700
TZOFFSETTO:-0800
DTSTART:19701025T020000
RRULE:FREQ=YEARLY;BYMONTH=10;BYDAY=-1SU;UNTIL=20070311T020000
END:STANDARD
BEGIN:STANDARD
TZOFFSETFROM:-0700
TZOFFSETTO:-0800
DTSTART:20071104T020000
RRULE:FREQ=YEARLY;BYMONTH=11;BYDAY=1SU
END:STANDARD
BEGIN:DAYLIGHT
TZOFFSETFROM:-0800
TZOFFSETTO:-0700
DTSTART:19870405T020000
RRULE:FREQ=YEARLY;BYMONTH=4;BYDAY=1SU;UNTIL=20061029T020000
END:DAYLIGHT
BEGIN:DAYLIGHT
TZOFFSETFROM:-0800
TZOFFSETTO:-0700
DTSTART:20070311T020000
RRULE:FREQ=YEARLY;BYMONTH=3;BYDAY=2SU
END:DAYLIGHT
END:VTIMEZONE
BEGIN:VTIMEZONE
TZID:US/Alaska
BEGIN:STANDARD
TZOFFSETFROM:-0800
TZOFFSETTO:-0900
DTSTART:19701025T020000
RRULE:FREQ=YEARLY;BYMONTH=10;BYDAY=-1SU;UNTIL=20070311T020000
END:STANDARD
BEGIN:STANDARD
TZOFFSETFROM:-0800
TZOFFSETTO:-0900
DTSTART:20071104T020000
RRULE:FREQ=YEARLY;BYMONTH=11;BYDAY=1SU
END:STANDARD
BEGIN:DAYLIGHT
TZOFFSETFROM:-0900
TZOFFSETTO:-0800
DTSTART:19870405T020000
RRULE:FREQ=YEARLY;BYMONTH=4;BYDAY=1SU;UNTIL=20061029T020000
END:DAYLIGHT
BEGIN:DAYLIGHT
TZOFFSETFROM:-0900
TZOFFSETTO:-0800
DTSTART:20070311T020000
RRULE:FREQ=YEARLY;BYMONTH=3;BYDAY=2SU
END:DAYLIGHT
END:VTIMEZONE
BEGIN:VTIMEZONE
TZID:US/Hawaii
BEGIN:STANDARD
TZOFFSETFROM:-1000
TZOFFSETTO:-1000
DTSTART:19701025T020000
END:STANDARD
END:VTIMEZONE
BEGIN:VTIMEZONE
TZID:US/Aleutian
BEGIN:STANDARD
TZOFFSETFROM:-1000
TZOFFSETTO:-1000
DTSTART:19701025T020000
END:STANDARD
END:VTIMEZONE
BEGIN:VTIMEZONE
TZID:US/Samoa
BEGIN:STANDARD
TZOFFSETFROM:-1100
TZOFFSETTO:-1100
DTSTART:19701025T020000
END:STANDARD
END:VTIMEZONE
BEGIN:VEVENT
UID:11722103@www.pillowacademy.com#20260424
SEQUENCE:0
CREATED:20260419T150629Z
LAST-MODIFIED:20260419T150629Z
DTSTART;TZID=US/Central:20260424T235800
DTEND;TZID=US/Central:20260424T235900
SUMMARY:Assignment: Friday\, April 24 - Daily quiz on part 2 - endocrine sy
 stem
URL:https://www.pillowacademy.com/apps/classes/1061337/assignments/#hw-1172
 2103
ORGANIZER;CN="Edlio Calendar":MAILTO:noreply@www.pillowacademy.com
DTSTAMP:20260422T070427Z
END:VEVENT
BEGIN:VEVENT
UID:11722104@www.pillowacademy.com#20260424
SEQUENCE:0
CREATED:20260419T150629Z
LAST-MODIFIED:20260419T150629Z
DTSTART;TZID=US/Central:20260424T235800
DTEND;TZID=US/Central:20260424T235900
SUMMARY:Assignment: Friday\, April 24 - Daily quiz on part 2 - endocrine sy
 stem
URL:https://www.pillowacademy.com/apps/classes/1061337/assignments/#hw-1172
 2104
ORGANIZER;CN="Edlio Calendar":MAILTO:noreply@www.pillowacademy.com
DTSTAMP:20260422T070427Z
END:VEVENT
BEGIN:VEVENT
UID:11722106@www.pillowacademy.com#20260424
SEQUENCE:0
CREATED:20260419T150629Z
LAST-MODIFIED:20260419T150629Z
DTSTART;TZID=US/Central:20260424T235800
DTEND;TZID=US/Central:20260424T235900
SUMMARY:Assignment: Friday\, April 24 - Daily quiz on part 2 - endocrine sy
 stem
URL:https://www.pillowacademy.com/apps/classes/1061337/assignments/#hw-1172
 2106
ORGANIZER;CN="Edlio Calendar":MAILTO:noreply@www.pillowacademy.com
DTSTAMP:20260422T070427Z
END:VEVENT
BEGIN:VEVENT
UID:11722110@www.pillowacademy.com#20260424
SEQUENCE:0
CREATED:20260419T150630Z
LAST-MODIFIED:20260419T150630Z
DTSTART;TZID=US/Central:20260424T235800
DTEND;TZID=US/Central:20260424T235900
SUMMARY:Assignment: Friday\, April 24 - Daily quiz on part 2 - endocrine sy
 stem
URL:https://www.pillowacademy.com/apps/classes/1061337/assignments/#hw-1172
 2110
ORGANIZER;CN="Edlio Calendar":MAILTO:noreply@www.pillowacademy.com
DTSTAMP:20260422T070427Z
END:VEVENT
BEGIN:VEVENT
UID:11722097@www.pillowacademy.com#20260423
SEQUENCE:0
CREATED:20260419T150629Z
LAST-MODIFIED:20260419T150629Z
DTSTART;TZID=US/Central:20260423T235800
DTEND;TZID=US/Central:20260423T235900
SUMMARY:Assignment: Thursday\, April 23 -     2nd column endocrine system v
 ocab. today.  Also\, remember I am dividing this chapter into 2 parts.  Yo
 ur second daily quiz on  Part #2 will be Friday. Notes and lecture today.
URL:https://www.pillowacademy.com/apps/classes/1061337/assignments/#hw-1172
 2097
ORGANIZER;CN="Edlio Calendar":MAILTO:noreply@www.pillowacademy.com
DTSTAMP:20260422T070427Z
END:VEVENT
BEGIN:VEVENT
UID:11722098@www.pillowacademy.com#20260423
SEQUENCE:0
CREATED:20260419T150629Z
LAST-MODIFIED:20260419T150629Z
DTSTART;TZID=US/Central:20260423T235800
DTEND;TZID=US/Central:20260423T235900
SUMMARY:Assignment: Thursday\, April 23 -     2nd column endocrine system v
 ocab. today.  Also\, remember I am dividing this chapter into 2 parts.  Yo
 ur second daily quiz on  Part #2 will be Friday. Notes and lecture today.
URL:https://www.pillowacademy.com/apps/classes/1061337/assignments/#hw-1172
 2098
ORGANIZER;CN="Edlio Calendar":MAILTO:noreply@www.pillowacademy.com
DTSTAMP:20260422T070427Z
END:VEVENT
BEGIN:VEVENT
UID:11722102@www.pillowacademy.com#20260423
SEQUENCE:0
CREATED:20260419T150629Z
LAST-MODIFIED:20260419T150629Z
DTSTART;TZID=US/Central:20260423T235800
DTEND;TZID=US/Central:20260423T235900
SUMMARY:Assignment: Thursday\, April 23 -     2nd column endocrine system v
 ocab. today.  Also\, remember I am dividing this chapter into 2 parts.  Yo
 ur second daily quiz on  Part #2 will be Friday. Notes and lecture today.
URL:https://www.pillowacademy.com/apps/classes/1061337/assignments/#hw-1172
 2102
ORGANIZER;CN="Edlio Calendar":MAILTO:noreply@www.pillowacademy.com
DTSTAMP:20260422T070427Z
END:VEVENT
BEGIN:VEVENT
UID:11722108@www.pillowacademy.com#20260423
SEQUENCE:0
CREATED:20260419T150629Z
LAST-MODIFIED:20260419T150629Z
DTSTART;TZID=US/Central:20260423T235800
DTEND;TZID=US/Central:20260423T235900
SUMMARY:Assignment: Thursday\, April 23 -     2nd column endocrine system v
 ocab. today.  Also\, remember I am dividing this chapter into 2 parts.  Yo
 ur second daily quiz on  Part #2 will be Friday. Notes and lecture today.
URL:https://www.pillowacademy.com/apps/classes/1061337/assignments/#hw-1172
 2108
ORGANIZER;CN="Edlio Calendar":MAILTO:noreply@www.pillowacademy.com
DTSTAMP:20260422T070427Z
END:VEVENT
BEGIN:VEVENT
UID:11722095@www.pillowacademy.com#20260422
SEQUENCE:0
CREATED:20260419T150629Z
LAST-MODIFIED:20260419T150629Z
DTSTART;TZID=US/Central:20260422T235800
DTEND;TZID=US/Central:20260422T235900
SUMMARY:Assignment: Wednesday\, April 22 -   Daily quiz on endocrine notes 
 on today.  2nd column endocrine system vocab. DUE - Thursday.  Also\, reme
 mber I am dividing this chapter into 2 parts.  Your second daily quiz on  
 Part #2 will be Friday.
URL:https://www.pillowacademy.com/apps/classes/1061337/assignments/#hw-1172
 2095
ORGANIZER;CN="Edlio Calendar":MAILTO:noreply@www.pillowacademy.com
DTSTAMP:20260422T070427Z
END:VEVENT
BEGIN:VEVENT
UID:11722096@www.pillowacademy.com#20260422
SEQUENCE:0
CREATED:20260419T150629Z
LAST-MODIFIED:20260419T150629Z
DTSTART;TZID=US/Central:20260422T235800
DTEND;TZID=US/Central:20260422T235900
SUMMARY:Assignment: Wednesday\, April 22 -   Daily quiz on endocrine notes 
 on today.  2nd column endocrine system vocab. DUE - Thursday.  Also\, reme
 mber I am dividing this chapter into 2 parts.  Your second daily quiz on  
 Part #2 will be Friday.
URL:https://www.pillowacademy.com/apps/classes/1061337/assignments/#hw-1172
 2096
ORGANIZER;CN="Edlio Calendar":MAILTO:noreply@www.pillowacademy.com
DTSTAMP:20260422T070427Z
END:VEVENT
BEGIN:VEVENT
UID:11722099@www.pillowacademy.com#20260422
SEQUENCE:0
CREATED:20260419T150629Z
LAST-MODIFIED:20260419T150629Z
DTSTART;TZID=US/Central:20260422T235800
DTEND;TZID=US/Central:20260422T235900
SUMMARY:Assignment: Wednesday\, April 22 -   Daily quiz on endocrine notes 
 on today.  2nd column endocrine system vocab. DUE - Thursday.  Also\, reme
 mber I am dividing this chapter into 2 parts.  Your second daily quiz on  
 Part #2 will be Friday.
URL:https://www.pillowacademy.com/apps/classes/1061337/assignments/#hw-1172
 2099
ORGANIZER;CN="Edlio Calendar":MAILTO:noreply@www.pillowacademy.com
DTSTAMP:20260422T070427Z
END:VEVENT
BEGIN:VEVENT
UID:11722107@www.pillowacademy.com#20260422
SEQUENCE:0
CREATED:20260419T150629Z
LAST-MODIFIED:20260419T150629Z
DTSTART;TZID=US/Central:20260422T235800
DTEND;TZID=US/Central:20260422T235900
SUMMARY:Assignment: Wednesday\, April 22 -   Daily quiz on endocrine notes 
 on today.  2nd column endocrine system vocab. DUE - Thursday.  Also\, reme
 mber I am dividing this chapter into 2 parts.  Your second daily quiz on  
 Part #2 will be Friday.
URL:https://www.pillowacademy.com/apps/classes/1061337/assignments/#hw-1172
 2107
ORGANIZER;CN="Edlio Calendar":MAILTO:noreply@www.pillowacademy.com
DTSTAMP:20260422T070427Z
END:VEVENT
END:VCALENDAR
