BEGIN:VCALENDAR
VERSION:2.0
PRODID:-//Edlio Inc//Edlio Calendar//EN
CALSCALE:GREGORIAN
METHOD:PUBLISH
X-WR-CALNAME:SPANISH II - 8th Period-2025-2026 - Pillow Academy
X-ORIGINAL-URL:https://www.pillowacademy.com
X-WR-CALDESC:Events calendar for www.pillowacademy.com
X-WR-TIMEZONE:US/Central
REFRESH-INTERVAL;VALUE=DURATION:PT1H
X-Robots-Tag:noindex
X-PUBLISHED-TTL:PT1H
BEGIN:VTIMEZONE
TZID:US/Central
BEGIN:STANDARD
TZOFFSETFROM:-0500
TZOFFSETTO:-0600
DTSTART:20071104T020000
RRULE:FREQ=YEARLY;BYMONTH=11;BYDAY=1SU
END:STANDARD
BEGIN:DAYLIGHT
TZOFFSETFROM:-0600
TZOFFSETTO:-0500
DTSTART:20070311T020000
RRULE:FREQ=YEARLY;BYMONTH=3;BYDAY=2SU
END:DAYLIGHT
END:VTIMEZONE
BEGIN:VTIMEZONE
TZID:US/East-Indiana
BEGIN:STANDARD
TZOFFSETFROM:-0500
TZOFFSETTO:-0500
DTSTART:19701025T020000
END:STANDARD
END:VTIMEZONE
BEGIN:VTIMEZONE
TZID:US/Eastern
BEGIN:STANDARD
TZOFFSETFROM:-0400
TZOFFSETTO:-0500
DTSTART:19701025T020000
RRULE:FREQ=YEARLY;BYMONTH=10;BYDAY=-1SU;UNTIL=20070311T020000
END:STANDARD
BEGIN:STANDARD
TZOFFSETFROM:-0400
TZOFFSETTO:-0500
DTSTART:20071104T020000
RRULE:FREQ=YEARLY;BYMONTH=11;BYDAY=1SU
END:STANDARD
BEGIN:DAYLIGHT
TZOFFSETFROM:-0500
TZOFFSETTO:-0400
DTSTART:19870405T020000
RRULE:FREQ=YEARLY;BYMONTH=4;BYDAY=1SU;UNTIL=20061029T020000
END:DAYLIGHT
BEGIN:DAYLIGHT
TZOFFSETFROM:-0500
TZOFFSETTO:-0400
DTSTART:20070311T020000
RRULE:FREQ=YEARLY;BYMONTH=3;BYDAY=2SU
END:DAYLIGHT
END:VTIMEZONE
BEGIN:VTIMEZONE
TZID:US/Michigan
BEGIN:STANDARD
TZOFFSETFROM:-0400
TZOFFSETTO:-0500
DTSTART:19701025T020000
RRULE:FREQ=YEARLY;BYMONTH=10;BYDAY=-1SU;UNTIL=20070311T020000
END:STANDARD
BEGIN:STANDARD
TZOFFSETFROM:-0400
TZOFFSETTO:-0500
DTSTART:20071104T020000
RRULE:FREQ=YEARLY;BYMONTH=11;BYDAY=1SU
END:STANDARD
BEGIN:DAYLIGHT
TZOFFSETFROM:-0500
TZOFFSETTO:-0400
DTSTART:19870405T020000
RRULE:FREQ=YEARLY;BYMONTH=4;BYDAY=1SU;UNTIL=20061029T020000
END:DAYLIGHT
BEGIN:DAYLIGHT
TZOFFSETFROM:-0500
TZOFFSETTO:-0400
DTSTART:20070311T020000
RRULE:FREQ=YEARLY;BYMONTH=3;BYDAY=2SU
END:DAYLIGHT
END:VTIMEZONE
BEGIN:VTIMEZONE
TZID:US/Central
BEGIN:STANDARD
TZOFFSETFROM:-0500
TZOFFSETTO:-0600
DTSTART:19701025T020000
RRULE:FREQ=YEARLY;BYMONTH=10;BYDAY=-1SU;UNTIL=20070311T020000
END:STANDARD
BEGIN:STANDARD
TZOFFSETFROM:-0500
TZOFFSETTO:-0600
DTSTART:20071104T020000
RRULE:FREQ=YEARLY;BYMONTH=11;BYDAY=1SU
END:STANDARD
BEGIN:DAYLIGHT
TZOFFSETFROM:-0600
TZOFFSETTO:-0500
DTSTART:19870405T020000
RRULE:FREQ=YEARLY;BYMONTH=4;BYDAY=1SU;UNTIL=20061029T020000
END:DAYLIGHT
BEGIN:DAYLIGHT
TZOFFSETFROM:-0600
TZOFFSETTO:-0500
DTSTART:20070311T020000
RRULE:FREQ=YEARLY;BYMONTH=3;BYDAY=2SU
END:DAYLIGHT
END:VTIMEZONE
BEGIN:VTIMEZONE
TZID:US/Mountain
BEGIN:STANDARD
TZOFFSETFROM:-0600
TZOFFSETTO:-0700
DTSTART:19701025T020000
RRULE:FREQ=YEARLY;BYMONTH=10;BYDAY=-1SU;UNTIL=20070311T020000
END:STANDARD
BEGIN:STANDARD
TZOFFSETFROM:-0600
TZOFFSETTO:-0700
DTSTART:20071104T020000
RRULE:FREQ=YEARLY;BYMONTH=11;BYDAY=1SU
END:STANDARD
BEGIN:DAYLIGHT
TZOFFSETFROM:-0700
TZOFFSETTO:-0600
DTSTART:19870405T020000
RRULE:FREQ=YEARLY;BYMONTH=4;BYDAY=1SU;UNTIL=20061029T020000
END:DAYLIGHT
BEGIN:DAYLIGHT
TZOFFSETFROM:-0700
TZOFFSETTO:-0600
DTSTART:20070311T020000
RRULE:FREQ=YEARLY;BYMONTH=3;BYDAY=2SU
END:DAYLIGHT
END:VTIMEZONE
BEGIN:VTIMEZONE
TZID:US/Arizona
BEGIN:STANDARD
TZOFFSETFROM:-0700
TZOFFSETTO:-0700
DTSTART:19701025T020000
END:STANDARD
END:VTIMEZONE
BEGIN:VTIMEZONE
TZID:US/Pacific
BEGIN:STANDARD
TZOFFSETFROM:-0700
TZOFFSETTO:-0800
DTSTART:19701025T020000
RRULE:FREQ=YEARLY;BYMONTH=10;BYDAY=-1SU;UNTIL=20070311T020000
END:STANDARD
BEGIN:STANDARD
TZOFFSETFROM:-0700
TZOFFSETTO:-0800
DTSTART:20071104T020000
RRULE:FREQ=YEARLY;BYMONTH=11;BYDAY=1SU
END:STANDARD
BEGIN:DAYLIGHT
TZOFFSETFROM:-0800
TZOFFSETTO:-0700
DTSTART:19870405T020000
RRULE:FREQ=YEARLY;BYMONTH=4;BYDAY=1SU;UNTIL=20061029T020000
END:DAYLIGHT
BEGIN:DAYLIGHT
TZOFFSETFROM:-0800
TZOFFSETTO:-0700
DTSTART:20070311T020000
RRULE:FREQ=YEARLY;BYMONTH=3;BYDAY=2SU
END:DAYLIGHT
END:VTIMEZONE
BEGIN:VTIMEZONE
TZID:US/Alaska
BEGIN:STANDARD
TZOFFSETFROM:-0800
TZOFFSETTO:-0900
DTSTART:19701025T020000
RRULE:FREQ=YEARLY;BYMONTH=10;BYDAY=-1SU;UNTIL=20070311T020000
END:STANDARD
BEGIN:STANDARD
TZOFFSETFROM:-0800
TZOFFSETTO:-0900
DTSTART:20071104T020000
RRULE:FREQ=YEARLY;BYMONTH=11;BYDAY=1SU
END:STANDARD
BEGIN:DAYLIGHT
TZOFFSETFROM:-0900
TZOFFSETTO:-0800
DTSTART:19870405T020000
RRULE:FREQ=YEARLY;BYMONTH=4;BYDAY=1SU;UNTIL=20061029T020000
END:DAYLIGHT
BEGIN:DAYLIGHT
TZOFFSETFROM:-0900
TZOFFSETTO:-0800
DTSTART:20070311T020000
RRULE:FREQ=YEARLY;BYMONTH=3;BYDAY=2SU
END:DAYLIGHT
END:VTIMEZONE
BEGIN:VTIMEZONE
TZID:US/Hawaii
BEGIN:STANDARD
TZOFFSETFROM:-1000
TZOFFSETTO:-1000
DTSTART:19701025T020000
END:STANDARD
END:VTIMEZONE
BEGIN:VTIMEZONE
TZID:US/Aleutian
BEGIN:STANDARD
TZOFFSETFROM:-1000
TZOFFSETTO:-1000
DTSTART:19701025T020000
END:STANDARD
END:VTIMEZONE
BEGIN:VTIMEZONE
TZID:US/Samoa
BEGIN:STANDARD
TZOFFSETFROM:-1100
TZOFFSETTO:-1100
DTSTART:19701025T020000
END:STANDARD
END:VTIMEZONE
BEGIN:VEVENT
UID:11648197@www.pillowacademy.com#20260424
SEQUENCE:0
CREATED:20260415T205933Z
LAST-MODIFIED:20260415T205933Z
DTSTART;TZID=US/Central:20260424T235800
DTEND;TZID=US/Central:20260424T235900
SUMMARY:Assignment: FRIDAY\, Apr. 24 / \n-Complete Duolingo lessons.\n-Use 
 Chromebooks + headphones.\n-Follow all directions (Class Participation gra
 de).
URL:https://www.pillowacademy.com/apps/classes/1061347/assignments/#hw-1164
 8197
ORGANIZER;CN="Edlio Calendar":MAILTO:noreply@www.pillowacademy.com
DTSTAMP:20260421T101934Z
END:VEVENT
BEGIN:VEVENT
UID:11648200@www.pillowacademy.com#20260420
SEQUENCE:0
CREATED:20260415T205933Z
LAST-MODIFIED:20260415T205933Z
DTSTART;TZID=US/Central:20260420T235800
DTEND;TZID=US/Central:20260420T235900
SUMMARY:Assignment: MONDAY\, Apr. 20 – Continued with the lesson from Frida
 y\, Apr. 17. \nClasswork & Activities:\n-Go over the sentences from Friday
 \, April 17th.\n-Assignment: Using the attached document\, underline the S
 panish subject pronouns\, verbs\, and direct object nouns in the sentences
 .\n-Participation: Ensure your sentences are checked in class.\n\nHomework
  & Assessments:\nComplete the assigned Edpuzzle activity.\nStudy: Review t
 he sentences for our upcoming test on Thursday\, April 23rd.\nImportant: T
 his will be a closed-note test (no notes permitted). \n\nReminders:\nBring
  a black pen and colored pencils/markers to class tomorrow.\nBring your ch
 arged Chromebooks and headphones.
DESCRIPTION:REMINDER: This is a closed-note test. No notes are permitted.<b
 r>STUDY!!!\n<a href=' https://www.pillowacademy.com/apps/classes/1061347/a
 ssignments/#hw-11648200'>Read more</a>
URL:https://www.pillowacademy.com/apps/classes/1061347/assignments/#hw-1164
 8200
ORGANIZER;CN="Edlio Calendar":MAILTO:noreply@www.pillowacademy.com
DTSTAMP:20260421T101934Z
END:VEVENT
BEGIN:VEVENT
UID:11648198@www.pillowacademy.com#20260423
SEQUENCE:0
CREATED:20260415T205933Z
LAST-MODIFIED:20260415T205933Z
DTSTART;TZID=US/Central:20260423T235800
DTEND;TZID=US/Central:20260423T235900
SUMMARY:Assignment: THURSDAY\, Apr. 23 / MAJOR TEST # 13 /  SPANISH SENTENC
 ES / PHRASES.\nReminder: Bring charged Chromebooks and headphones to class
  tomorrow (Duolingo). Be prepared for class. 
DESCRIPTION:MAJOR TEST # 13.\n<a href=' https://www.pillowacademy.com/apps/
 classes/1061347/assignments/#hw-11648198'>Read more</a>
URL:https://www.pillowacademy.com/apps/classes/1061347/assignments/#hw-1164
 8198
ORGANIZER;CN="Edlio Calendar":MAILTO:noreply@www.pillowacademy.com
DTSTAMP:20260421T101934Z
END:VEVENT
BEGIN:VEVENT
UID:11648201@www.pillowacademy.com#20260421
SEQUENCE:0
CREATED:20260415T205933Z
LAST-MODIFIED:20260415T205933Z
DTSTART;TZID=US/Central:20260421T235800
DTEND;TZID=US/Central:20260421T235900
SUMMARY:Assignment: TUESDAY\, Apr. 21 / \n-Edpuzzle is due.\n-Use Chromeboo
 ks and headphones. \n-Complete a Bingo card using the sentences covered in
  class.\n-Use a black pen to complete the card (Mandatory).\n-Read the dir
 ections to complete the Bingo cards correctly (see the mandatory attachmen
 t).\n-Follow all directions!\n-HOMEWORK: Study the sentences for the test 
 on Thursday\, April 23. \nREMINDER: This is a closed-note test. No notes a
 re permitted.
DESCRIPTION:STUDY FOR THE TEST ON THURSDAY\, APR. 23.\n<a href=' https://ww
 w.pillowacademy.com/apps/classes/1061347/assignments/#hw-11648201'>Read mo
 re</a>
URL:https://www.pillowacademy.com/apps/classes/1061347/assignments/#hw-1164
 8201
ORGANIZER;CN="Edlio Calendar":MAILTO:noreply@www.pillowacademy.com
DTSTAMP:20260421T101934Z
END:VEVENT
BEGIN:VEVENT
UID:11648199@www.pillowacademy.com#20260422
SEQUENCE:0
CREATED:20260415T205933Z
LAST-MODIFIED:20260415T205933Z
DTSTART;TZID=US/Central:20260422T235800
DTEND;TZID=US/Central:20260422T235900
SUMMARY:Assignment: WEDNESDAY\, Apr. 22 / Review Spanish Sentences in class
 . Play Bingo to review sentences for the test. HOMEWORK: Study for the tes
 t tomorrow\, Thursday\, Apr. 23. REMINDER: Students cannot use any notes o
 n the test. 
DESCRIPTION:STUDY FOR TEST THE TOMORROW!!!\n<a href=' https://www.pillowaca
 demy.com/apps/classes/1061347/assignments/#hw-11648199'>Read more</a>
URL:https://www.pillowacademy.com/apps/classes/1061347/assignments/#hw-1164
 8199
ORGANIZER;CN="Edlio Calendar":MAILTO:noreply@www.pillowacademy.com
DTSTAMP:20260421T101934Z
END:VEVENT
END:VCALENDAR
