BEGIN:VCALENDAR
VERSION:2.0
PRODID:-//Edlio Inc//Edlio Calendar//EN
CALSCALE:GREGORIAN
METHOD:PUBLISH
X-WR-CALNAME:English IV (Hargett 1st Period) - Pillow Academy
X-ORIGINAL-URL:https://www.pillowacademy.com
X-WR-CALDESC:Events calendar for www.pillowacademy.com
X-WR-TIMEZONE:US/Central
REFRESH-INTERVAL;VALUE=DURATION:PT1H
X-Robots-Tag:noindex
X-PUBLISHED-TTL:PT1H
BEGIN:VTIMEZONE
TZID:US/Central
BEGIN:STANDARD
TZOFFSETFROM:-0500
TZOFFSETTO:-0600
DTSTART:20071104T020000
RRULE:FREQ=YEARLY;BYMONTH=11;BYDAY=1SU
END:STANDARD
BEGIN:DAYLIGHT
TZOFFSETFROM:-0600
TZOFFSETTO:-0500
DTSTART:20070311T020000
RRULE:FREQ=YEARLY;BYMONTH=3;BYDAY=2SU
END:DAYLIGHT
END:VTIMEZONE
BEGIN:VTIMEZONE
TZID:US/East-Indiana
BEGIN:STANDARD
TZOFFSETFROM:-0500
TZOFFSETTO:-0500
DTSTART:19701025T020000
END:STANDARD
END:VTIMEZONE
BEGIN:VTIMEZONE
TZID:US/Eastern
BEGIN:STANDARD
TZOFFSETFROM:-0400
TZOFFSETTO:-0500
DTSTART:19701025T020000
RRULE:FREQ=YEARLY;BYMONTH=10;BYDAY=-1SU;UNTIL=20070311T020000
END:STANDARD
BEGIN:STANDARD
TZOFFSETFROM:-0400
TZOFFSETTO:-0500
DTSTART:20071104T020000
RRULE:FREQ=YEARLY;BYMONTH=11;BYDAY=1SU
END:STANDARD
BEGIN:DAYLIGHT
TZOFFSETFROM:-0500
TZOFFSETTO:-0400
DTSTART:19870405T020000
RRULE:FREQ=YEARLY;BYMONTH=4;BYDAY=1SU;UNTIL=20061029T020000
END:DAYLIGHT
BEGIN:DAYLIGHT
TZOFFSETFROM:-0500
TZOFFSETTO:-0400
DTSTART:20070311T020000
RRULE:FREQ=YEARLY;BYMONTH=3;BYDAY=2SU
END:DAYLIGHT
END:VTIMEZONE
BEGIN:VTIMEZONE
TZID:US/Michigan
BEGIN:STANDARD
TZOFFSETFROM:-0400
TZOFFSETTO:-0500
DTSTART:19701025T020000
RRULE:FREQ=YEARLY;BYMONTH=10;BYDAY=-1SU;UNTIL=20070311T020000
END:STANDARD
BEGIN:STANDARD
TZOFFSETFROM:-0400
TZOFFSETTO:-0500
DTSTART:20071104T020000
RRULE:FREQ=YEARLY;BYMONTH=11;BYDAY=1SU
END:STANDARD
BEGIN:DAYLIGHT
TZOFFSETFROM:-0500
TZOFFSETTO:-0400
DTSTART:19870405T020000
RRULE:FREQ=YEARLY;BYMONTH=4;BYDAY=1SU;UNTIL=20061029T020000
END:DAYLIGHT
BEGIN:DAYLIGHT
TZOFFSETFROM:-0500
TZOFFSETTO:-0400
DTSTART:20070311T020000
RRULE:FREQ=YEARLY;BYMONTH=3;BYDAY=2SU
END:DAYLIGHT
END:VTIMEZONE
BEGIN:VTIMEZONE
TZID:US/Central
BEGIN:STANDARD
TZOFFSETFROM:-0500
TZOFFSETTO:-0600
DTSTART:19701025T020000
RRULE:FREQ=YEARLY;BYMONTH=10;BYDAY=-1SU;UNTIL=20070311T020000
END:STANDARD
BEGIN:STANDARD
TZOFFSETFROM:-0500
TZOFFSETTO:-0600
DTSTART:20071104T020000
RRULE:FREQ=YEARLY;BYMONTH=11;BYDAY=1SU
END:STANDARD
BEGIN:DAYLIGHT
TZOFFSETFROM:-0600
TZOFFSETTO:-0500
DTSTART:19870405T020000
RRULE:FREQ=YEARLY;BYMONTH=4;BYDAY=1SU;UNTIL=20061029T020000
END:DAYLIGHT
BEGIN:DAYLIGHT
TZOFFSETFROM:-0600
TZOFFSETTO:-0500
DTSTART:20070311T020000
RRULE:FREQ=YEARLY;BYMONTH=3;BYDAY=2SU
END:DAYLIGHT
END:VTIMEZONE
BEGIN:VTIMEZONE
TZID:US/Mountain
BEGIN:STANDARD
TZOFFSETFROM:-0600
TZOFFSETTO:-0700
DTSTART:19701025T020000
RRULE:FREQ=YEARLY;BYMONTH=10;BYDAY=-1SU;UNTIL=20070311T020000
END:STANDARD
BEGIN:STANDARD
TZOFFSETFROM:-0600
TZOFFSETTO:-0700
DTSTART:20071104T020000
RRULE:FREQ=YEARLY;BYMONTH=11;BYDAY=1SU
END:STANDARD
BEGIN:DAYLIGHT
TZOFFSETFROM:-0700
TZOFFSETTO:-0600
DTSTART:19870405T020000
RRULE:FREQ=YEARLY;BYMONTH=4;BYDAY=1SU;UNTIL=20061029T020000
END:DAYLIGHT
BEGIN:DAYLIGHT
TZOFFSETFROM:-0700
TZOFFSETTO:-0600
DTSTART:20070311T020000
RRULE:FREQ=YEARLY;BYMONTH=3;BYDAY=2SU
END:DAYLIGHT
END:VTIMEZONE
BEGIN:VTIMEZONE
TZID:US/Arizona
BEGIN:STANDARD
TZOFFSETFROM:-0700
TZOFFSETTO:-0700
DTSTART:19701025T020000
END:STANDARD
END:VTIMEZONE
BEGIN:VTIMEZONE
TZID:US/Pacific
BEGIN:STANDARD
TZOFFSETFROM:-0700
TZOFFSETTO:-0800
DTSTART:19701025T020000
RRULE:FREQ=YEARLY;BYMONTH=10;BYDAY=-1SU;UNTIL=20070311T020000
END:STANDARD
BEGIN:STANDARD
TZOFFSETFROM:-0700
TZOFFSETTO:-0800
DTSTART:20071104T020000
RRULE:FREQ=YEARLY;BYMONTH=11;BYDAY=1SU
END:STANDARD
BEGIN:DAYLIGHT
TZOFFSETFROM:-0800
TZOFFSETTO:-0700
DTSTART:19870405T020000
RRULE:FREQ=YEARLY;BYMONTH=4;BYDAY=1SU;UNTIL=20061029T020000
END:DAYLIGHT
BEGIN:DAYLIGHT
TZOFFSETFROM:-0800
TZOFFSETTO:-0700
DTSTART:20070311T020000
RRULE:FREQ=YEARLY;BYMONTH=3;BYDAY=2SU
END:DAYLIGHT
END:VTIMEZONE
BEGIN:VTIMEZONE
TZID:US/Alaska
BEGIN:STANDARD
TZOFFSETFROM:-0800
TZOFFSETTO:-0900
DTSTART:19701025T020000
RRULE:FREQ=YEARLY;BYMONTH=10;BYDAY=-1SU;UNTIL=20070311T020000
END:STANDARD
BEGIN:STANDARD
TZOFFSETFROM:-0800
TZOFFSETTO:-0900
DTSTART:20071104T020000
RRULE:FREQ=YEARLY;BYMONTH=11;BYDAY=1SU
END:STANDARD
BEGIN:DAYLIGHT
TZOFFSETFROM:-0900
TZOFFSETTO:-0800
DTSTART:19870405T020000
RRULE:FREQ=YEARLY;BYMONTH=4;BYDAY=1SU;UNTIL=20061029T020000
END:DAYLIGHT
BEGIN:DAYLIGHT
TZOFFSETFROM:-0900
TZOFFSETTO:-0800
DTSTART:20070311T020000
RRULE:FREQ=YEARLY;BYMONTH=3;BYDAY=2SU
END:DAYLIGHT
END:VTIMEZONE
BEGIN:VTIMEZONE
TZID:US/Hawaii
BEGIN:STANDARD
TZOFFSETFROM:-1000
TZOFFSETTO:-1000
DTSTART:19701025T020000
END:STANDARD
END:VTIMEZONE
BEGIN:VTIMEZONE
TZID:US/Aleutian
BEGIN:STANDARD
TZOFFSETFROM:-1000
TZOFFSETTO:-1000
DTSTART:19701025T020000
END:STANDARD
END:VTIMEZONE
BEGIN:VTIMEZONE
TZID:US/Samoa
BEGIN:STANDARD
TZOFFSETFROM:-1100
TZOFFSETTO:-1100
DTSTART:19701025T020000
END:STANDARD
END:VTIMEZONE
BEGIN:VEVENT
UID:11103964@www.pillowacademy.com#20260423
SEQUENCE:0
CREATED:20260228T050937Z
LAST-MODIFIED:20260228T050937Z
DTSTART;TZID=US/Central:20260423T235800
DTEND;TZID=US/Central:20260423T235900
SUMMARY:Assignment: 4/23/26
DESCRIPTION:Classwork: 20th Century History Open Note Test<br>Homework: Non
 e\n<a href=' https://www.pillowacademy.com/apps/classes/1061435/assignment
 s/#hw-11103964'>Read more</a>
URL:https://www.pillowacademy.com/apps/classes/1061435/assignments/#hw-1110
 3964
ORGANIZER;CN="Edlio Calendar":MAILTO:noreply@www.pillowacademy.com
DTSTAMP:20260424T130259Z
END:VEVENT
BEGIN:VEVENT
UID:11103977@www.pillowacademy.com#20260423
SEQUENCE:0
CREATED:20260228T050937Z
LAST-MODIFIED:20260228T050937Z
DTSTART;TZID=US/Central:20260423T235800
DTEND;TZID=US/Central:20260423T235900
SUMMARY:Assignment: 4/23/26
DESCRIPTION:Classwork: 20th Century History Open Note Test<br>Homework: Non
 e\n<a href=' https://www.pillowacademy.com/apps/classes/1061435/assignment
 s/#hw-11103977'>Read more</a>
URL:https://www.pillowacademy.com/apps/classes/1061435/assignments/#hw-1110
 3977
ORGANIZER;CN="Edlio Calendar":MAILTO:noreply@www.pillowacademy.com
DTSTAMP:20260424T130259Z
END:VEVENT
BEGIN:VEVENT
UID:11103988@www.pillowacademy.com#20260423
SEQUENCE:0
CREATED:20260228T050938Z
LAST-MODIFIED:20260228T050938Z
DTSTART;TZID=US/Central:20260423T235800
DTEND;TZID=US/Central:20260423T235900
SUMMARY:Assignment: 4/23/26
DESCRIPTION:Classwork: 20th Century History Open Note Test<br>Homework: Non
 e\n<a href=' https://www.pillowacademy.com/apps/classes/1061435/assignment
 s/#hw-11103988'>Read more</a>
URL:https://www.pillowacademy.com/apps/classes/1061435/assignments/#hw-1110
 3988
ORGANIZER;CN="Edlio Calendar":MAILTO:noreply@www.pillowacademy.com
DTSTAMP:20260424T130259Z
END:VEVENT
BEGIN:VEVENT
UID:10944164@www.pillowacademy.com#20260424
SEQUENCE:0
CREATED:20260121T161110Z
LAST-MODIFIED:20260121T161110Z
DTSTART;TZID=US/Central:20260424T235800
DTEND;TZID=US/Central:20260424T235900
SUMMARY:Assignment: Friday 4/24/26
DESCRIPTION:Classwork Leadership and Solitude Speech<br>Homework: vocab qui
 z\n<a href=' https://www.pillowacademy.com/apps/classes/1061435/assignment
 s/#hw-10944164'>Read more</a>
URL:https://www.pillowacademy.com/apps/classes/1061435/assignments/#hw-1094
 4164
ORGANIZER;CN="Edlio Calendar":MAILTO:noreply@www.pillowacademy.com
DTSTAMP:20260424T130259Z
END:VEVENT
BEGIN:VEVENT
UID:10944182@www.pillowacademy.com#20260424
SEQUENCE:0
CREATED:20260121T161111Z
LAST-MODIFIED:20260121T161111Z
DTSTART;TZID=US/Central:20260424T235800
DTEND;TZID=US/Central:20260424T235900
SUMMARY:Assignment: Friday 4/24/26
DESCRIPTION:Classwork Leadership and Solitude Speech<br>Homework: vocab qui
 z\n<a href=' https://www.pillowacademy.com/apps/classes/1061435/assignment
 s/#hw-10944182'>Read more</a>
URL:https://www.pillowacademy.com/apps/classes/1061435/assignments/#hw-1094
 4182
ORGANIZER;CN="Edlio Calendar":MAILTO:noreply@www.pillowacademy.com
DTSTAMP:20260424T130259Z
END:VEVENT
BEGIN:VEVENT
UID:10944192@www.pillowacademy.com#20260427
SEQUENCE:0
CREATED:20260121T161111Z
LAST-MODIFIED:20260121T161111Z
DTSTART;TZID=US/Central:20260427T235800
DTEND;TZID=US/Central:20260427T235900
SUMMARY:Assignment: Monday 4/27/26
DESCRIPTION:Classwork: Vocab. quiz\, Thank You Notes<br>Homework: None\n<a 
 href=' https://www.pillowacademy.com/apps/classes/1061435/assignments/#hw-
 10944192'>Read more</a>
URL:https://www.pillowacademy.com/apps/classes/1061435/assignments/#hw-1094
 4192
ORGANIZER;CN="Edlio Calendar":MAILTO:noreply@www.pillowacademy.com
DTSTAMP:20260424T130259Z
END:VEVENT
BEGIN:VEVENT
UID:10944209@www.pillowacademy.com#20260427
SEQUENCE:0
CREATED:20260121T161111Z
LAST-MODIFIED:20260121T161111Z
DTSTART;TZID=US/Central:20260427T235800
DTEND;TZID=US/Central:20260427T235900
SUMMARY:Assignment: Monday 4/27/26
DESCRIPTION:Classwork: Vocab. quiz\, Thank You Notes<br>Homework: None\n<a 
 href=' https://www.pillowacademy.com/apps/classes/1061435/assignments/#hw-
 10944209'>Read more</a>
URL:https://www.pillowacademy.com/apps/classes/1061435/assignments/#hw-1094
 4209
ORGANIZER;CN="Edlio Calendar":MAILTO:noreply@www.pillowacademy.com
DTSTAMP:20260424T130259Z
END:VEVENT
END:VCALENDAR
