BEGIN:VCALENDAR
VERSION:2.0
PRODID:-//Edlio Inc//Edlio Calendar//EN
CALSCALE:GREGORIAN
METHOD:PUBLISH
X-WR-CALNAME:5th Grade Science (2025-26) - Pillow Academy
X-ORIGINAL-URL:https://www.pillowacademy.com
X-WR-CALDESC:Events calendar for www.pillowacademy.com
X-WR-TIMEZONE:US/Central
REFRESH-INTERVAL;VALUE=DURATION:PT1H
X-Robots-Tag:noindex
X-PUBLISHED-TTL:PT1H
BEGIN:VTIMEZONE
TZID:US/Central
BEGIN:STANDARD
TZOFFSETFROM:-0500
TZOFFSETTO:-0600
DTSTART:20071104T020000
RRULE:FREQ=YEARLY;BYMONTH=11;BYDAY=1SU
END:STANDARD
BEGIN:DAYLIGHT
TZOFFSETFROM:-0600
TZOFFSETTO:-0500
DTSTART:20070311T020000
RRULE:FREQ=YEARLY;BYMONTH=3;BYDAY=2SU
END:DAYLIGHT
END:VTIMEZONE
BEGIN:VTIMEZONE
TZID:US/East-Indiana
BEGIN:STANDARD
TZOFFSETFROM:-0500
TZOFFSETTO:-0500
DTSTART:19701025T020000
END:STANDARD
END:VTIMEZONE
BEGIN:VTIMEZONE
TZID:US/Eastern
BEGIN:STANDARD
TZOFFSETFROM:-0400
TZOFFSETTO:-0500
DTSTART:19701025T020000
RRULE:FREQ=YEARLY;BYMONTH=10;BYDAY=-1SU;UNTIL=20070311T020000
END:STANDARD
BEGIN:STANDARD
TZOFFSETFROM:-0400
TZOFFSETTO:-0500
DTSTART:20071104T020000
RRULE:FREQ=YEARLY;BYMONTH=11;BYDAY=1SU
END:STANDARD
BEGIN:DAYLIGHT
TZOFFSETFROM:-0500
TZOFFSETTO:-0400
DTSTART:19870405T020000
RRULE:FREQ=YEARLY;BYMONTH=4;BYDAY=1SU;UNTIL=20061029T020000
END:DAYLIGHT
BEGIN:DAYLIGHT
TZOFFSETFROM:-0500
TZOFFSETTO:-0400
DTSTART:20070311T020000
RRULE:FREQ=YEARLY;BYMONTH=3;BYDAY=2SU
END:DAYLIGHT
END:VTIMEZONE
BEGIN:VTIMEZONE
TZID:US/Michigan
BEGIN:STANDARD
TZOFFSETFROM:-0400
TZOFFSETTO:-0500
DTSTART:19701025T020000
RRULE:FREQ=YEARLY;BYMONTH=10;BYDAY=-1SU;UNTIL=20070311T020000
END:STANDARD
BEGIN:STANDARD
TZOFFSETFROM:-0400
TZOFFSETTO:-0500
DTSTART:20071104T020000
RRULE:FREQ=YEARLY;BYMONTH=11;BYDAY=1SU
END:STANDARD
BEGIN:DAYLIGHT
TZOFFSETFROM:-0500
TZOFFSETTO:-0400
DTSTART:19870405T020000
RRULE:FREQ=YEARLY;BYMONTH=4;BYDAY=1SU;UNTIL=20061029T020000
END:DAYLIGHT
BEGIN:DAYLIGHT
TZOFFSETFROM:-0500
TZOFFSETTO:-0400
DTSTART:20070311T020000
RRULE:FREQ=YEARLY;BYMONTH=3;BYDAY=2SU
END:DAYLIGHT
END:VTIMEZONE
BEGIN:VTIMEZONE
TZID:US/Central
BEGIN:STANDARD
TZOFFSETFROM:-0500
TZOFFSETTO:-0600
DTSTART:19701025T020000
RRULE:FREQ=YEARLY;BYMONTH=10;BYDAY=-1SU;UNTIL=20070311T020000
END:STANDARD
BEGIN:STANDARD
TZOFFSETFROM:-0500
TZOFFSETTO:-0600
DTSTART:20071104T020000
RRULE:FREQ=YEARLY;BYMONTH=11;BYDAY=1SU
END:STANDARD
BEGIN:DAYLIGHT
TZOFFSETFROM:-0600
TZOFFSETTO:-0500
DTSTART:19870405T020000
RRULE:FREQ=YEARLY;BYMONTH=4;BYDAY=1SU;UNTIL=20061029T020000
END:DAYLIGHT
BEGIN:DAYLIGHT
TZOFFSETFROM:-0600
TZOFFSETTO:-0500
DTSTART:20070311T020000
RRULE:FREQ=YEARLY;BYMONTH=3;BYDAY=2SU
END:DAYLIGHT
END:VTIMEZONE
BEGIN:VTIMEZONE
TZID:US/Mountain
BEGIN:STANDARD
TZOFFSETFROM:-0600
TZOFFSETTO:-0700
DTSTART:19701025T020000
RRULE:FREQ=YEARLY;BYMONTH=10;BYDAY=-1SU;UNTIL=20070311T020000
END:STANDARD
BEGIN:STANDARD
TZOFFSETFROM:-0600
TZOFFSETTO:-0700
DTSTART:20071104T020000
RRULE:FREQ=YEARLY;BYMONTH=11;BYDAY=1SU
END:STANDARD
BEGIN:DAYLIGHT
TZOFFSETFROM:-0700
TZOFFSETTO:-0600
DTSTART:19870405T020000
RRULE:FREQ=YEARLY;BYMONTH=4;BYDAY=1SU;UNTIL=20061029T020000
END:DAYLIGHT
BEGIN:DAYLIGHT
TZOFFSETFROM:-0700
TZOFFSETTO:-0600
DTSTART:20070311T020000
RRULE:FREQ=YEARLY;BYMONTH=3;BYDAY=2SU
END:DAYLIGHT
END:VTIMEZONE
BEGIN:VTIMEZONE
TZID:US/Arizona
BEGIN:STANDARD
TZOFFSETFROM:-0700
TZOFFSETTO:-0700
DTSTART:19701025T020000
END:STANDARD
END:VTIMEZONE
BEGIN:VTIMEZONE
TZID:US/Pacific
BEGIN:STANDARD
TZOFFSETFROM:-0700
TZOFFSETTO:-0800
DTSTART:19701025T020000
RRULE:FREQ=YEARLY;BYMONTH=10;BYDAY=-1SU;UNTIL=20070311T020000
END:STANDARD
BEGIN:STANDARD
TZOFFSETFROM:-0700
TZOFFSETTO:-0800
DTSTART:20071104T020000
RRULE:FREQ=YEARLY;BYMONTH=11;BYDAY=1SU
END:STANDARD
BEGIN:DAYLIGHT
TZOFFSETFROM:-0800
TZOFFSETTO:-0700
DTSTART:19870405T020000
RRULE:FREQ=YEARLY;BYMONTH=4;BYDAY=1SU;UNTIL=20061029T020000
END:DAYLIGHT
BEGIN:DAYLIGHT
TZOFFSETFROM:-0800
TZOFFSETTO:-0700
DTSTART:20070311T020000
RRULE:FREQ=YEARLY;BYMONTH=3;BYDAY=2SU
END:DAYLIGHT
END:VTIMEZONE
BEGIN:VTIMEZONE
TZID:US/Alaska
BEGIN:STANDARD
TZOFFSETFROM:-0800
TZOFFSETTO:-0900
DTSTART:19701025T020000
RRULE:FREQ=YEARLY;BYMONTH=10;BYDAY=-1SU;UNTIL=20070311T020000
END:STANDARD
BEGIN:STANDARD
TZOFFSETFROM:-0800
TZOFFSETTO:-0900
DTSTART:20071104T020000
RRULE:FREQ=YEARLY;BYMONTH=11;BYDAY=1SU
END:STANDARD
BEGIN:DAYLIGHT
TZOFFSETFROM:-0900
TZOFFSETTO:-0800
DTSTART:19870405T020000
RRULE:FREQ=YEARLY;BYMONTH=4;BYDAY=1SU;UNTIL=20061029T020000
END:DAYLIGHT
BEGIN:DAYLIGHT
TZOFFSETFROM:-0900
TZOFFSETTO:-0800
DTSTART:20070311T020000
RRULE:FREQ=YEARLY;BYMONTH=3;BYDAY=2SU
END:DAYLIGHT
END:VTIMEZONE
BEGIN:VTIMEZONE
TZID:US/Hawaii
BEGIN:STANDARD
TZOFFSETFROM:-1000
TZOFFSETTO:-1000
DTSTART:19701025T020000
END:STANDARD
END:VTIMEZONE
BEGIN:VTIMEZONE
TZID:US/Aleutian
BEGIN:STANDARD
TZOFFSETFROM:-1000
TZOFFSETTO:-1000
DTSTART:19701025T020000
END:STANDARD
END:VTIMEZONE
BEGIN:VTIMEZONE
TZID:US/Samoa
BEGIN:STANDARD
TZOFFSETFROM:-1100
TZOFFSETTO:-1100
DTSTART:19701025T020000
END:STANDARD
END:VTIMEZONE
BEGIN:VEVENT
UID:11745091@www.pillowacademy.com#20260424
SEQUENCE:0
CREATED:20260420T115950Z
LAST-MODIFIED:20260420T115950Z
DTSTART;TZID=US/Central:20260424T235800
DTEND;TZID=US/Central:20260424T235900
SUMMARY:Assignment: Friday\,  April 24 (Quiz)
DESCRIPTION:Take the Lesson #2 Open Book Quiz....(using the periodic table)
 .<br>***Coming up Next week: (STUDY all notes for lessons 1 and 2\, vocabu
 lary and list of 30 elements)<br>Vocabulary Quiz - WEDNESDAY<br>Chapter TE
 ST - THURSDAY<br>Element Quiz on FRIDAY (Students will be given the name o
 f the element a\n<a href=' https://www.pillowacademy.com/apps/classes/1061
 554/assignments/#hw-11745091'>Read more</a>
URL:https://www.pillowacademy.com/apps/classes/1061554/assignments/#hw-1174
 5091
ORGANIZER;CN="Edlio Calendar":MAILTO:noreply@www.pillowacademy.com
DTSTAMP:20260424T130257Z
END:VEVENT
BEGIN:VEVENT
UID:11745096@www.pillowacademy.com#20260424
SEQUENCE:0
CREATED:20260420T115951Z
LAST-MODIFIED:20260420T115951Z
DTSTART;TZID=US/Central:20260424T235800
DTEND;TZID=US/Central:20260424T235900
SUMMARY:Assignment: Friday\,  April 24 (Quiz)
DESCRIPTION:Take the Lesson #2 Open Book Quiz....(using the periodic table)
 .<br>***Coming up Next week: (STUDY all notes for lessons 1 and 2\, vocabu
 lary and list of 30 elements)<br>Vocabulary Quiz - WEDNESDAY<br>Chapter TE
 ST - THURSDAY<br>Element Quiz on FRIDAY (Students will be given the name o
 f the element a\n<a href=' https://www.pillowacademy.com/apps/classes/1061
 554/assignments/#hw-11745096'>Read more</a>
URL:https://www.pillowacademy.com/apps/classes/1061554/assignments/#hw-1174
 5096
ORGANIZER;CN="Edlio Calendar":MAILTO:noreply@www.pillowacademy.com
DTSTAMP:20260424T130257Z
END:VEVENT
BEGIN:VEVENT
UID:11745099@www.pillowacademy.com#20260424
SEQUENCE:0
CREATED:20260420T115951Z
LAST-MODIFIED:20260420T115951Z
DTSTART;TZID=US/Central:20260424T235800
DTEND;TZID=US/Central:20260424T235900
SUMMARY:Assignment: Friday\,  April 24 (Quiz)
DESCRIPTION:Take the Lesson #2 Open Book Quiz....(using the periodic table)
 .<br>***Coming up Next week: (STUDY all notes for lessons 1 and 2\, vocabu
 lary and list of 30 elements)<br>Vocabulary Quiz - WEDNESDAY<br>Chapter TE
 ST - THURSDAY<br>Element Quiz on FRIDAY (Students will be given the name o
 f the element a\n<a href=' https://www.pillowacademy.com/apps/classes/1061
 554/assignments/#hw-11745099'>Read more</a>
URL:https://www.pillowacademy.com/apps/classes/1061554/assignments/#hw-1174
 5099
ORGANIZER;CN="Edlio Calendar":MAILTO:noreply@www.pillowacademy.com
DTSTAMP:20260424T130257Z
END:VEVENT
BEGIN:VEVENT
UID:11745093@www.pillowacademy.com#20260423
SEQUENCE:0
CREATED:20260420T115951Z
LAST-MODIFIED:20260420T115951Z
DTSTART;TZID=US/Central:20260423T235800
DTEND;TZID=US/Central:20260423T235900
SUMMARY:Assignment: THURSDAY\,  April 23 (Elements/Periodic Table)
DESCRIPTION:1.  Review lesson #2 (smartboard lesson)<br>2.  Element Workshe
 et<br>3.  Chemical Symbols worksheet <br>Homework:<br>*Review lesson #2...
 .read it and look over notes for Open Book Quiz tomorrow (Friday)<br>Know 
 how to use the periodic table to answer questions about it.<br>STUDY the V
 ocabulary list \n<a href=' https://www.pillowacademy.com/apps/classes/1061
 554/assignments/#hw-11745093'>Read more</a>
URL:https://www.pillowacademy.com/apps/classes/1061554/assignments/#hw-1174
 5093
ORGANIZER;CN="Edlio Calendar":MAILTO:noreply@www.pillowacademy.com
DTSTAMP:20260424T130257Z
END:VEVENT
BEGIN:VEVENT
UID:11745100@www.pillowacademy.com#20260423
SEQUENCE:0
CREATED:20260420T115951Z
LAST-MODIFIED:20260420T115951Z
DTSTART;TZID=US/Central:20260423T235800
DTEND;TZID=US/Central:20260423T235900
SUMMARY:Assignment: THURSDAY\,  April 23 (Elements/Periodic Table)
DESCRIPTION:1.  Review lesson #2 (smartboard lesson)<br>2.  Element Workshe
 et<br>3.  Chemical Symbols worksheet <br>Homework:<br>*Review lesson #2...
 .read it and look over notes for Open Book Quiz tomorrow (Friday)<br>Know 
 how to use the periodic table to answer questions about it.<br>STUDY the V
 ocabulary list \n<a href=' https://www.pillowacademy.com/apps/classes/1061
 554/assignments/#hw-11745100'>Read more</a>
URL:https://www.pillowacademy.com/apps/classes/1061554/assignments/#hw-1174
 5100
ORGANIZER;CN="Edlio Calendar":MAILTO:noreply@www.pillowacademy.com
DTSTAMP:20260424T130257Z
END:VEVENT
BEGIN:VEVENT
UID:11745103@www.pillowacademy.com#20260423
SEQUENCE:0
CREATED:20260420T115951Z
LAST-MODIFIED:20260420T115951Z
DTSTART;TZID=US/Central:20260423T235800
DTEND;TZID=US/Central:20260423T235900
SUMMARY:Assignment: THURSDAY\,  April 23 (Elements/Periodic Table)
DESCRIPTION:1.  Review lesson #2 (smartboard lesson)<br>2.  Element Workshe
 et<br>3.  Chemical Symbols worksheet <br>Homework:<br>*Review lesson #2...
 .read it and look over notes for Open Book Quiz tomorrow (Friday)<br>Know 
 how to use the periodic table to answer questions about it.<br>STUDY the V
 ocabulary list \n<a href=' https://www.pillowacademy.com/apps/classes/1061
 554/assignments/#hw-11745103'>Read more</a>
URL:https://www.pillowacademy.com/apps/classes/1061554/assignments/#hw-1174
 5103
ORGANIZER;CN="Edlio Calendar":MAILTO:noreply@www.pillowacademy.com
DTSTAMP:20260424T130257Z
END:VEVENT
END:VCALENDAR
