BEGIN:VCALENDAR
VERSION:2.0
PRODID:-//Edlio Inc//Edlio Calendar//EN
CALSCALE:GREGORIAN
METHOD:PUBLISH
X-WR-CALNAME:World History-5 - Pillow Academy
X-ORIGINAL-URL:https://www.pillowacademy.com
X-WR-CALDESC:Events calendar for www.pillowacademy.com
X-WR-TIMEZONE:US/Central
REFRESH-INTERVAL;VALUE=DURATION:PT1H
X-Robots-Tag:noindex
X-PUBLISHED-TTL:PT1H
BEGIN:VTIMEZONE
TZID:US/Central
BEGIN:STANDARD
TZOFFSETFROM:-0500
TZOFFSETTO:-0600
DTSTART:20071104T020000
RRULE:FREQ=YEARLY;BYMONTH=11;BYDAY=1SU
END:STANDARD
BEGIN:DAYLIGHT
TZOFFSETFROM:-0600
TZOFFSETTO:-0500
DTSTART:20070311T020000
RRULE:FREQ=YEARLY;BYMONTH=3;BYDAY=2SU
END:DAYLIGHT
END:VTIMEZONE
BEGIN:VTIMEZONE
TZID:US/East-Indiana
BEGIN:STANDARD
TZOFFSETFROM:-0500
TZOFFSETTO:-0500
DTSTART:19701025T020000
END:STANDARD
END:VTIMEZONE
BEGIN:VTIMEZONE
TZID:US/Eastern
BEGIN:STANDARD
TZOFFSETFROM:-0400
TZOFFSETTO:-0500
DTSTART:19701025T020000
RRULE:FREQ=YEARLY;BYMONTH=10;BYDAY=-1SU;UNTIL=20070311T020000
END:STANDARD
BEGIN:STANDARD
TZOFFSETFROM:-0400
TZOFFSETTO:-0500
DTSTART:20071104T020000
RRULE:FREQ=YEARLY;BYMONTH=11;BYDAY=1SU
END:STANDARD
BEGIN:DAYLIGHT
TZOFFSETFROM:-0500
TZOFFSETTO:-0400
DTSTART:19870405T020000
RRULE:FREQ=YEARLY;BYMONTH=4;BYDAY=1SU;UNTIL=20061029T020000
END:DAYLIGHT
BEGIN:DAYLIGHT
TZOFFSETFROM:-0500
TZOFFSETTO:-0400
DTSTART:20070311T020000
RRULE:FREQ=YEARLY;BYMONTH=3;BYDAY=2SU
END:DAYLIGHT
END:VTIMEZONE
BEGIN:VTIMEZONE
TZID:US/Michigan
BEGIN:STANDARD
TZOFFSETFROM:-0400
TZOFFSETTO:-0500
DTSTART:19701025T020000
RRULE:FREQ=YEARLY;BYMONTH=10;BYDAY=-1SU;UNTIL=20070311T020000
END:STANDARD
BEGIN:STANDARD
TZOFFSETFROM:-0400
TZOFFSETTO:-0500
DTSTART:20071104T020000
RRULE:FREQ=YEARLY;BYMONTH=11;BYDAY=1SU
END:STANDARD
BEGIN:DAYLIGHT
TZOFFSETFROM:-0500
TZOFFSETTO:-0400
DTSTART:19870405T020000
RRULE:FREQ=YEARLY;BYMONTH=4;BYDAY=1SU;UNTIL=20061029T020000
END:DAYLIGHT
BEGIN:DAYLIGHT
TZOFFSETFROM:-0500
TZOFFSETTO:-0400
DTSTART:20070311T020000
RRULE:FREQ=YEARLY;BYMONTH=3;BYDAY=2SU
END:DAYLIGHT
END:VTIMEZONE
BEGIN:VTIMEZONE
TZID:US/Central
BEGIN:STANDARD
TZOFFSETFROM:-0500
TZOFFSETTO:-0600
DTSTART:19701025T020000
RRULE:FREQ=YEARLY;BYMONTH=10;BYDAY=-1SU;UNTIL=20070311T020000
END:STANDARD
BEGIN:STANDARD
TZOFFSETFROM:-0500
TZOFFSETTO:-0600
DTSTART:20071104T020000
RRULE:FREQ=YEARLY;BYMONTH=11;BYDAY=1SU
END:STANDARD
BEGIN:DAYLIGHT
TZOFFSETFROM:-0600
TZOFFSETTO:-0500
DTSTART:19870405T020000
RRULE:FREQ=YEARLY;BYMONTH=4;BYDAY=1SU;UNTIL=20061029T020000
END:DAYLIGHT
BEGIN:DAYLIGHT
TZOFFSETFROM:-0600
TZOFFSETTO:-0500
DTSTART:20070311T020000
RRULE:FREQ=YEARLY;BYMONTH=3;BYDAY=2SU
END:DAYLIGHT
END:VTIMEZONE
BEGIN:VTIMEZONE
TZID:US/Mountain
BEGIN:STANDARD
TZOFFSETFROM:-0600
TZOFFSETTO:-0700
DTSTART:19701025T020000
RRULE:FREQ=YEARLY;BYMONTH=10;BYDAY=-1SU;UNTIL=20070311T020000
END:STANDARD
BEGIN:STANDARD
TZOFFSETFROM:-0600
TZOFFSETTO:-0700
DTSTART:20071104T020000
RRULE:FREQ=YEARLY;BYMONTH=11;BYDAY=1SU
END:STANDARD
BEGIN:DAYLIGHT
TZOFFSETFROM:-0700
TZOFFSETTO:-0600
DTSTART:19870405T020000
RRULE:FREQ=YEARLY;BYMONTH=4;BYDAY=1SU;UNTIL=20061029T020000
END:DAYLIGHT
BEGIN:DAYLIGHT
TZOFFSETFROM:-0700
TZOFFSETTO:-0600
DTSTART:20070311T020000
RRULE:FREQ=YEARLY;BYMONTH=3;BYDAY=2SU
END:DAYLIGHT
END:VTIMEZONE
BEGIN:VTIMEZONE
TZID:US/Arizona
BEGIN:STANDARD
TZOFFSETFROM:-0700
TZOFFSETTO:-0700
DTSTART:19701025T020000
END:STANDARD
END:VTIMEZONE
BEGIN:VTIMEZONE
TZID:US/Pacific
BEGIN:STANDARD
TZOFFSETFROM:-0700
TZOFFSETTO:-0800
DTSTART:19701025T020000
RRULE:FREQ=YEARLY;BYMONTH=10;BYDAY=-1SU;UNTIL=20070311T020000
END:STANDARD
BEGIN:STANDARD
TZOFFSETFROM:-0700
TZOFFSETTO:-0800
DTSTART:20071104T020000
RRULE:FREQ=YEARLY;BYMONTH=11;BYDAY=1SU
END:STANDARD
BEGIN:DAYLIGHT
TZOFFSETFROM:-0800
TZOFFSETTO:-0700
DTSTART:19870405T020000
RRULE:FREQ=YEARLY;BYMONTH=4;BYDAY=1SU;UNTIL=20061029T020000
END:DAYLIGHT
BEGIN:DAYLIGHT
TZOFFSETFROM:-0800
TZOFFSETTO:-0700
DTSTART:20070311T020000
RRULE:FREQ=YEARLY;BYMONTH=3;BYDAY=2SU
END:DAYLIGHT
END:VTIMEZONE
BEGIN:VTIMEZONE
TZID:US/Alaska
BEGIN:STANDARD
TZOFFSETFROM:-0800
TZOFFSETTO:-0900
DTSTART:19701025T020000
RRULE:FREQ=YEARLY;BYMONTH=10;BYDAY=-1SU;UNTIL=20070311T020000
END:STANDARD
BEGIN:STANDARD
TZOFFSETFROM:-0800
TZOFFSETTO:-0900
DTSTART:20071104T020000
RRULE:FREQ=YEARLY;BYMONTH=11;BYDAY=1SU
END:STANDARD
BEGIN:DAYLIGHT
TZOFFSETFROM:-0900
TZOFFSETTO:-0800
DTSTART:19870405T020000
RRULE:FREQ=YEARLY;BYMONTH=4;BYDAY=1SU;UNTIL=20061029T020000
END:DAYLIGHT
BEGIN:DAYLIGHT
TZOFFSETFROM:-0900
TZOFFSETTO:-0800
DTSTART:20070311T020000
RRULE:FREQ=YEARLY;BYMONTH=3;BYDAY=2SU
END:DAYLIGHT
END:VTIMEZONE
BEGIN:VTIMEZONE
TZID:US/Hawaii
BEGIN:STANDARD
TZOFFSETFROM:-1000
TZOFFSETTO:-1000
DTSTART:19701025T020000
END:STANDARD
END:VTIMEZONE
BEGIN:VTIMEZONE
TZID:US/Aleutian
BEGIN:STANDARD
TZOFFSETFROM:-1000
TZOFFSETTO:-1000
DTSTART:19701025T020000
END:STANDARD
END:VTIMEZONE
BEGIN:VTIMEZONE
TZID:US/Samoa
BEGIN:STANDARD
TZOFFSETFROM:-1100
TZOFFSETTO:-1100
DTSTART:19701025T020000
END:STANDARD
END:VTIMEZONE
BEGIN:VEVENT
UID:11659027@www.pillowacademy.com#20260424
SEQUENCE:0
CREATED:20260416T150129Z
LAST-MODIFIED:20260416T150129Z
DTSTART;TZID=US/Central:20260424T235800
DTEND;TZID=US/Central:20260424T235900
SUMMARY:Assignment: Friday Apr. 24
DESCRIPTION:Continue oral reports/ ## vocabulary due Monday the 27th\n<a hr
 ef=' https://www.pillowacademy.com/apps/classes/1061568/assignments/#hw-11
 659027'>Read more</a>
URL:https://www.pillowacademy.com/apps/classes/1061568/assignments/#hw-1165
 9027
ORGANIZER;CN="Edlio Calendar":MAILTO:noreply@www.pillowacademy.com
DTSTAMP:20260424T130259Z
END:VEVENT
BEGIN:VEVENT
UID:11659032@www.pillowacademy.com#20260424
SEQUENCE:0
CREATED:20260416T150130Z
LAST-MODIFIED:20260416T150130Z
DTSTART;TZID=US/Central:20260424T235800
DTEND;TZID=US/Central:20260424T235900
SUMMARY:Assignment: Friday Apr. 24
DESCRIPTION:Continue oral reports/ ## vocabulary due Monday the 27th\n<a hr
 ef=' https://www.pillowacademy.com/apps/classes/1061568/assignments/#hw-11
 659032'>Read more</a>
URL:https://www.pillowacademy.com/apps/classes/1061568/assignments/#hw-1165
 9032
ORGANIZER;CN="Edlio Calendar":MAILTO:noreply@www.pillowacademy.com
DTSTAMP:20260424T130259Z
END:VEVENT
BEGIN:VEVENT
UID:11659036@www.pillowacademy.com#20260424
SEQUENCE:0
CREATED:20260416T150130Z
LAST-MODIFIED:20260416T150130Z
DTSTART;TZID=US/Central:20260424T235800
DTEND;TZID=US/Central:20260424T235900
SUMMARY:Assignment: Friday Apr. 24
DESCRIPTION:Continue oral reports/ ## vocabulary due Monday the 27th\n<a hr
 ef=' https://www.pillowacademy.com/apps/classes/1061568/assignments/#hw-11
 659036'>Read more</a>
URL:https://www.pillowacademy.com/apps/classes/1061568/assignments/#hw-1165
 9036
ORGANIZER;CN="Edlio Calendar":MAILTO:noreply@www.pillowacademy.com
DTSTAMP:20260424T130259Z
END:VEVENT
BEGIN:VEVENT
UID:11659047@www.pillowacademy.com#20260424
SEQUENCE:0
CREATED:20260416T150130Z
LAST-MODIFIED:20260416T150130Z
DTSTART;TZID=US/Central:20260424T235800
DTEND;TZID=US/Central:20260424T235900
SUMMARY:Assignment: Friday Apr. 24
DESCRIPTION:Continue oral reports/ ## vocabulary due Monday the 27th\n<a hr
 ef=' https://www.pillowacademy.com/apps/classes/1061568/assignments/#hw-11
 659047'>Read more</a>
URL:https://www.pillowacademy.com/apps/classes/1061568/assignments/#hw-1165
 9047
ORGANIZER;CN="Edlio Calendar":MAILTO:noreply@www.pillowacademy.com
DTSTAMP:20260424T130259Z
END:VEVENT
BEGIN:VEVENT
UID:11775727@www.pillowacademy.com#20260501
SEQUENCE:0
CREATED:20260422T115904Z
LAST-MODIFIED:20260422T115904Z
DTSTART;TZID=US/Central:20260501T235800
DTEND;TZID=US/Central:20260501T235900
SUMMARY:Assignment: Friday May 1st
DESCRIPTION:Ch. 33 worksheet due\, Complete oral reports/ Continue notes fo
 r Ch. 33\n<a href=' https://www.pillowacademy.com/apps/classes/1061568/ass
 ignments/#hw-11775727'>Read more</a>
URL:https://www.pillowacademy.com/apps/classes/1061568/assignments/#hw-1177
 5727
ORGANIZER;CN="Edlio Calendar":MAILTO:noreply@www.pillowacademy.com
DTSTAMP:20260424T130259Z
END:VEVENT
BEGIN:VEVENT
UID:11775730@www.pillowacademy.com#20260501
SEQUENCE:0
CREATED:20260422T115904Z
LAST-MODIFIED:20260422T115904Z
DTSTART;TZID=US/Central:20260501T235800
DTEND;TZID=US/Central:20260501T235900
SUMMARY:Assignment: Friday May 1st
DESCRIPTION:Ch. 33 worksheet due\, Complete oral reports/ Continue notes fo
 r Ch. 33\n<a href=' https://www.pillowacademy.com/apps/classes/1061568/ass
 ignments/#hw-11775730'>Read more</a>
URL:https://www.pillowacademy.com/apps/classes/1061568/assignments/#hw-1177
 5730
ORGANIZER;CN="Edlio Calendar":MAILTO:noreply@www.pillowacademy.com
DTSTAMP:20260424T130259Z
END:VEVENT
BEGIN:VEVENT
UID:11775737@www.pillowacademy.com#20260501
SEQUENCE:0
CREATED:20260422T115905Z
LAST-MODIFIED:20260422T115905Z
DTSTART;TZID=US/Central:20260501T235800
DTEND;TZID=US/Central:20260501T235900
SUMMARY:Assignment: Friday May 1st
DESCRIPTION:Ch. 33 worksheet due\, Complete oral reports/ Continue notes fo
 r Ch. 33\n<a href=' https://www.pillowacademy.com/apps/classes/1061568/ass
 ignments/#hw-11775737'>Read more</a>
URL:https://www.pillowacademy.com/apps/classes/1061568/assignments/#hw-1177
 5737
ORGANIZER;CN="Edlio Calendar":MAILTO:noreply@www.pillowacademy.com
DTSTAMP:20260424T130259Z
END:VEVENT
BEGIN:VEVENT
UID:11775728@www.pillowacademy.com#20260427
SEQUENCE:0
CREATED:20260422T115904Z
LAST-MODIFIED:20260422T115904Z
DTSTART;TZID=US/Central:20260427T235800
DTEND;TZID=US/Central:20260427T235900
SUMMARY:Assignment: Monday Apr 27
DESCRIPTION:Ch. 33 vocabulary due/ Ch. 33 Vocabulary test Thursday the 30th
 / Study the define for the Voc. test/ Ch. 33 worksheet due Friday May 1/ I
 ntroduction to Ch. 33 and begin notes\n<a href=' https://www.pillowacademy
 .com/apps/classes/1061568/assignments/#hw-11775728'>Read more</a>
URL:https://www.pillowacademy.com/apps/classes/1061568/assignments/#hw-1177
 5728
ORGANIZER;CN="Edlio Calendar":MAILTO:noreply@www.pillowacademy.com
DTSTAMP:20260424T130259Z
END:VEVENT
BEGIN:VEVENT
UID:11775732@www.pillowacademy.com#20260427
SEQUENCE:0
CREATED:20260422T115904Z
LAST-MODIFIED:20260422T115904Z
DTSTART;TZID=US/Central:20260427T235800
DTEND;TZID=US/Central:20260427T235900
SUMMARY:Assignment: Monday Apr 27
DESCRIPTION:Ch. 33 vocabulary due/ Ch. 33 Vocabulary test Thursday the 30th
 / Study the define for the Voc. test/ Ch. 33 worksheet due Friday May 1/ I
 ntroduction to Ch. 33 and begin notes\n<a href=' https://www.pillowacademy
 .com/apps/classes/1061568/assignments/#hw-11775732'>Read more</a>
URL:https://www.pillowacademy.com/apps/classes/1061568/assignments/#hw-1177
 5732
ORGANIZER;CN="Edlio Calendar":MAILTO:noreply@www.pillowacademy.com
DTSTAMP:20260424T130259Z
END:VEVENT
BEGIN:VEVENT
UID:11775738@www.pillowacademy.com#20260427
SEQUENCE:0
CREATED:20260422T115905Z
LAST-MODIFIED:20260422T115905Z
DTSTART;TZID=US/Central:20260427T235800
DTEND;TZID=US/Central:20260427T235900
SUMMARY:Assignment: Monday Apr 27
DESCRIPTION:Ch. 33 vocabulary due/ Ch. 33 Vocabulary test Thursday the 30th
 / Study the define for the Voc. test/ Ch. 33 worksheet due Friday May 1/ I
 ntroduction to Ch. 33 and begin notes\n<a href=' https://www.pillowacademy
 .com/apps/classes/1061568/assignments/#hw-11775738'>Read more</a>
URL:https://www.pillowacademy.com/apps/classes/1061568/assignments/#hw-1177
 5738
ORGANIZER;CN="Edlio Calendar":MAILTO:noreply@www.pillowacademy.com
DTSTAMP:20260424T130259Z
END:VEVENT
BEGIN:VEVENT
UID:11659026@www.pillowacademy.com#20260423
SEQUENCE:0
CREATED:20260416T150129Z
LAST-MODIFIED:20260416T150129Z
DTSTART;TZID=US/Central:20260423T235800
DTEND;TZID=US/Central:20260423T235900
SUMMARY:Assignment: Thursday Apr. 23
DESCRIPTION:Ch. 32 test/ Ch. 33 vocabulary due Monday the 27th/ 28 total wo
 rds do the define and identify on sections 1 and 3 \, define only in all o
 ther sections\n<a href=' https://www.pillowacademy.com/apps/classes/106156
 8/assignments/#hw-11659026'>Read more</a>
URL:https://www.pillowacademy.com/apps/classes/1061568/assignments/#hw-1165
 9026
ORGANIZER;CN="Edlio Calendar":MAILTO:noreply@www.pillowacademy.com
DTSTAMP:20260424T130259Z
END:VEVENT
BEGIN:VEVENT
UID:11659031@www.pillowacademy.com#20260423
SEQUENCE:0
CREATED:20260416T150129Z
LAST-MODIFIED:20260416T150129Z
DTSTART;TZID=US/Central:20260423T235800
DTEND;TZID=US/Central:20260423T235900
SUMMARY:Assignment: Thursday Apr. 23
DESCRIPTION:Ch. 32 test/ Ch. 33 vocabulary due Monday the 27th/ 28 total wo
 rds do the define and identify on sections 1 and 3 \, define only in all o
 ther sections\n<a href=' https://www.pillowacademy.com/apps/classes/106156
 8/assignments/#hw-11659031'>Read more</a>
URL:https://www.pillowacademy.com/apps/classes/1061568/assignments/#hw-1165
 9031
ORGANIZER;CN="Edlio Calendar":MAILTO:noreply@www.pillowacademy.com
DTSTAMP:20260424T130259Z
END:VEVENT
BEGIN:VEVENT
UID:11659033@www.pillowacademy.com#20260423
SEQUENCE:0
CREATED:20260416T150130Z
LAST-MODIFIED:20260416T150130Z
DTSTART;TZID=US/Central:20260423T235800
DTEND;TZID=US/Central:20260423T235900
SUMMARY:Assignment: Thursday Apr. 23
DESCRIPTION:Ch. 32 test/ Ch. 33 vocabulary due Monday the 27th/ 28 total wo
 rds do the define and identify on sections 1 and 3 \, define only in all o
 ther sections\n<a href=' https://www.pillowacademy.com/apps/classes/106156
 8/assignments/#hw-11659033'>Read more</a>
URL:https://www.pillowacademy.com/apps/classes/1061568/assignments/#hw-1165
 9033
ORGANIZER;CN="Edlio Calendar":MAILTO:noreply@www.pillowacademy.com
DTSTAMP:20260424T130259Z
END:VEVENT
BEGIN:VEVENT
UID:11659046@www.pillowacademy.com#20260423
SEQUENCE:0
CREATED:20260416T150130Z
LAST-MODIFIED:20260416T150130Z
DTSTART;TZID=US/Central:20260423T235800
DTEND;TZID=US/Central:20260423T235900
SUMMARY:Assignment: Thursday Apr. 23
DESCRIPTION:Ch. 32 test/ Ch. 33 vocabulary due Monday the 27th/ 28 total wo
 rds do the define and identify on sections 1 and 3 \, define only in all o
 ther sections\n<a href=' https://www.pillowacademy.com/apps/classes/106156
 8/assignments/#hw-11659046'>Read more</a>
URL:https://www.pillowacademy.com/apps/classes/1061568/assignments/#hw-1165
 9046
ORGANIZER;CN="Edlio Calendar":MAILTO:noreply@www.pillowacademy.com
DTSTAMP:20260424T130259Z
END:VEVENT
BEGIN:VEVENT
UID:11775729@www.pillowacademy.com#20260430
SEQUENCE:0
CREATED:20260422T115904Z
LAST-MODIFIED:20260422T115904Z
DTSTART;TZID=US/Central:20260430T235800
DTEND;TZID=US/Central:20260430T235900
SUMMARY:Assignment: Thursday Apr. 30
DESCRIPTION:Ch. 33 voc. test / Ch. 33 worksheet due Friday the 1st\n<a href
 =' https://www.pillowacademy.com/apps/classes/1061568/assignments/#hw-1177
 5729'>Read more</a>
URL:https://www.pillowacademy.com/apps/classes/1061568/assignments/#hw-1177
 5729
ORGANIZER;CN="Edlio Calendar":MAILTO:noreply@www.pillowacademy.com
DTSTAMP:20260424T130259Z
END:VEVENT
BEGIN:VEVENT
UID:11775734@www.pillowacademy.com#20260430
SEQUENCE:0
CREATED:20260422T115904Z
LAST-MODIFIED:20260422T115904Z
DTSTART;TZID=US/Central:20260430T235800
DTEND;TZID=US/Central:20260430T235900
SUMMARY:Assignment: Thursday Apr. 30
DESCRIPTION:Ch. 33 voc. test / Ch. 33 worksheet due Friday the 1st\n<a href
 =' https://www.pillowacademy.com/apps/classes/1061568/assignments/#hw-1177
 5734'>Read more</a>
URL:https://www.pillowacademy.com/apps/classes/1061568/assignments/#hw-1177
 5734
ORGANIZER;CN="Edlio Calendar":MAILTO:noreply@www.pillowacademy.com
DTSTAMP:20260424T130259Z
END:VEVENT
BEGIN:VEVENT
UID:11775739@www.pillowacademy.com#20260430
SEQUENCE:0
CREATED:20260422T115905Z
LAST-MODIFIED:20260422T115905Z
DTSTART;TZID=US/Central:20260430T235800
DTEND;TZID=US/Central:20260430T235900
SUMMARY:Assignment: Thursday Apr. 30
DESCRIPTION:Ch. 33 voc. test / Ch. 33 worksheet due Friday the 1st\n<a href
 =' https://www.pillowacademy.com/apps/classes/1061568/assignments/#hw-1177
 5739'>Read more</a>
URL:https://www.pillowacademy.com/apps/classes/1061568/assignments/#hw-1177
 5739
ORGANIZER;CN="Edlio Calendar":MAILTO:noreply@www.pillowacademy.com
DTSTAMP:20260424T130259Z
END:VEVENT
BEGIN:VEVENT
UID:11775731@www.pillowacademy.com#20260428
SEQUENCE:0
CREATED:20260422T115904Z
LAST-MODIFIED:20260422T115904Z
DTSTART;TZID=US/Central:20260428T235800
DTEND;TZID=US/Central:20260428T235900
SUMMARY:Assignment: Tuesday Apr. 28
DESCRIPTION:Continue notes for Ch. 33/ 33 Voc. test Thursday the 30th/ 33 W
 orksheet due Friday the 1st\n<a href=' https://www.pillowacademy.com/apps/
 classes/1061568/assignments/#hw-11775731'>Read more</a>
URL:https://www.pillowacademy.com/apps/classes/1061568/assignments/#hw-1177
 5731
ORGANIZER;CN="Edlio Calendar":MAILTO:noreply@www.pillowacademy.com
DTSTAMP:20260424T130259Z
END:VEVENT
BEGIN:VEVENT
UID:11775735@www.pillowacademy.com#20260428
SEQUENCE:0
CREATED:20260422T115904Z
LAST-MODIFIED:20260422T115904Z
DTSTART;TZID=US/Central:20260428T235800
DTEND;TZID=US/Central:20260428T235900
SUMMARY:Assignment: Tuesday Apr. 28
DESCRIPTION:Continue notes for Ch. 33/ 33 Voc. test Thursday the 30th/ 33 W
 orksheet due Friday the 1st\n<a href=' https://www.pillowacademy.com/apps/
 classes/1061568/assignments/#hw-11775735'>Read more</a>
URL:https://www.pillowacademy.com/apps/classes/1061568/assignments/#hw-1177
 5735
ORGANIZER;CN="Edlio Calendar":MAILTO:noreply@www.pillowacademy.com
DTSTAMP:20260424T130259Z
END:VEVENT
BEGIN:VEVENT
UID:11775740@www.pillowacademy.com#20260428
SEQUENCE:0
CREATED:20260422T115905Z
LAST-MODIFIED:20260422T115905Z
DTSTART;TZID=US/Central:20260428T235800
DTEND;TZID=US/Central:20260428T235900
SUMMARY:Assignment: Tuesday Apr. 28
DESCRIPTION:Continue notes for Ch. 33/ 33 Voc. test Thursday the 30th/ 33 W
 orksheet due Friday the 1st\n<a href=' https://www.pillowacademy.com/apps/
 classes/1061568/assignments/#hw-11775740'>Read more</a>
URL:https://www.pillowacademy.com/apps/classes/1061568/assignments/#hw-1177
 5740
ORGANIZER;CN="Edlio Calendar":MAILTO:noreply@www.pillowacademy.com
DTSTAMP:20260424T130259Z
END:VEVENT
BEGIN:VEVENT
UID:11775733@www.pillowacademy.com#20260429
SEQUENCE:0
CREATED:20260422T115904Z
LAST-MODIFIED:20260422T115904Z
DTSTART;TZID=US/Central:20260429T235800
DTEND;TZID=US/Central:20260429T235900
SUMMARY:Assignment: Wednesday Apr. 29
DESCRIPTION:Continue notes for chapter 33/ Voc. test Thursday the 30th/ 33 
 Worksheet due Friday the 1st\n<a href=' https://www.pillowacademy.com/apps
 /classes/1061568/assignments/#hw-11775733'>Read more</a>
URL:https://www.pillowacademy.com/apps/classes/1061568/assignments/#hw-1177
 5733
ORGANIZER;CN="Edlio Calendar":MAILTO:noreply@www.pillowacademy.com
DTSTAMP:20260424T130259Z
END:VEVENT
BEGIN:VEVENT
UID:11775736@www.pillowacademy.com#20260429
SEQUENCE:0
CREATED:20260422T115904Z
LAST-MODIFIED:20260422T115904Z
DTSTART;TZID=US/Central:20260429T235800
DTEND;TZID=US/Central:20260429T235900
SUMMARY:Assignment: Wednesday Apr. 29
DESCRIPTION:Continue notes for chapter 33/ Voc. test Thursday the 30th/ 33 
 Worksheet due Friday the 1st\n<a href=' https://www.pillowacademy.com/apps
 /classes/1061568/assignments/#hw-11775736'>Read more</a>
URL:https://www.pillowacademy.com/apps/classes/1061568/assignments/#hw-1177
 5736
ORGANIZER;CN="Edlio Calendar":MAILTO:noreply@www.pillowacademy.com
DTSTAMP:20260424T130259Z
END:VEVENT
BEGIN:VEVENT
UID:11775741@www.pillowacademy.com#20260429
SEQUENCE:0
CREATED:20260422T115905Z
LAST-MODIFIED:20260422T115905Z
DTSTART;TZID=US/Central:20260429T235800
DTEND;TZID=US/Central:20260429T235900
SUMMARY:Assignment: Wednesday Apr. 29
DESCRIPTION:Continue notes for chapter 33/ Voc. test Thursday the 30th/ 33 
 Worksheet due Friday the 1st\n<a href=' https://www.pillowacademy.com/apps
 /classes/1061568/assignments/#hw-11775741'>Read more</a>
URL:https://www.pillowacademy.com/apps/classes/1061568/assignments/#hw-1177
 5741
ORGANIZER;CN="Edlio Calendar":MAILTO:noreply@www.pillowacademy.com
DTSTAMP:20260424T130259Z
END:VEVENT
END:VCALENDAR
