BEGIN:VCALENDAR
VERSION:2.0
PRODID:-//Edlio Inc//Edlio Calendar//EN
CALSCALE:GREGORIAN
METHOD:PUBLISH
X-WR-CALNAME:FIRST Period Math - Pillow Academy
X-ORIGINAL-URL:https://www.pillowacademy.com
X-WR-CALDESC:Events calendar for www.pillowacademy.com
X-WR-TIMEZONE:US/Central
REFRESH-INTERVAL;VALUE=DURATION:PT1H
X-Robots-Tag:noindex
X-PUBLISHED-TTL:PT1H
BEGIN:VTIMEZONE
TZID:US/Central
BEGIN:STANDARD
TZOFFSETFROM:-0500
TZOFFSETTO:-0600
DTSTART:20071104T020000
RRULE:FREQ=YEARLY;BYMONTH=11;BYDAY=1SU
END:STANDARD
BEGIN:DAYLIGHT
TZOFFSETFROM:-0600
TZOFFSETTO:-0500
DTSTART:20070311T020000
RRULE:FREQ=YEARLY;BYMONTH=3;BYDAY=2SU
END:DAYLIGHT
END:VTIMEZONE
BEGIN:VTIMEZONE
TZID:US/East-Indiana
BEGIN:STANDARD
TZOFFSETFROM:-0500
TZOFFSETTO:-0500
DTSTART:19701025T020000
END:STANDARD
END:VTIMEZONE
BEGIN:VTIMEZONE
TZID:US/Eastern
BEGIN:STANDARD
TZOFFSETFROM:-0400
TZOFFSETTO:-0500
DTSTART:19701025T020000
RRULE:FREQ=YEARLY;BYMONTH=10;BYDAY=-1SU;UNTIL=20070311T020000
END:STANDARD
BEGIN:STANDARD
TZOFFSETFROM:-0400
TZOFFSETTO:-0500
DTSTART:20071104T020000
RRULE:FREQ=YEARLY;BYMONTH=11;BYDAY=1SU
END:STANDARD
BEGIN:DAYLIGHT
TZOFFSETFROM:-0500
TZOFFSETTO:-0400
DTSTART:19870405T020000
RRULE:FREQ=YEARLY;BYMONTH=4;BYDAY=1SU;UNTIL=20061029T020000
END:DAYLIGHT
BEGIN:DAYLIGHT
TZOFFSETFROM:-0500
TZOFFSETTO:-0400
DTSTART:20070311T020000
RRULE:FREQ=YEARLY;BYMONTH=3;BYDAY=2SU
END:DAYLIGHT
END:VTIMEZONE
BEGIN:VTIMEZONE
TZID:US/Michigan
BEGIN:STANDARD
TZOFFSETFROM:-0400
TZOFFSETTO:-0500
DTSTART:19701025T020000
RRULE:FREQ=YEARLY;BYMONTH=10;BYDAY=-1SU;UNTIL=20070311T020000
END:STANDARD
BEGIN:STANDARD
TZOFFSETFROM:-0400
TZOFFSETTO:-0500
DTSTART:20071104T020000
RRULE:FREQ=YEARLY;BYMONTH=11;BYDAY=1SU
END:STANDARD
BEGIN:DAYLIGHT
TZOFFSETFROM:-0500
TZOFFSETTO:-0400
DTSTART:19870405T020000
RRULE:FREQ=YEARLY;BYMONTH=4;BYDAY=1SU;UNTIL=20061029T020000
END:DAYLIGHT
BEGIN:DAYLIGHT
TZOFFSETFROM:-0500
TZOFFSETTO:-0400
DTSTART:20070311T020000
RRULE:FREQ=YEARLY;BYMONTH=3;BYDAY=2SU
END:DAYLIGHT
END:VTIMEZONE
BEGIN:VTIMEZONE
TZID:US/Central
BEGIN:STANDARD
TZOFFSETFROM:-0500
TZOFFSETTO:-0600
DTSTART:19701025T020000
RRULE:FREQ=YEARLY;BYMONTH=10;BYDAY=-1SU;UNTIL=20070311T020000
END:STANDARD
BEGIN:STANDARD
TZOFFSETFROM:-0500
TZOFFSETTO:-0600
DTSTART:20071104T020000
RRULE:FREQ=YEARLY;BYMONTH=11;BYDAY=1SU
END:STANDARD
BEGIN:DAYLIGHT
TZOFFSETFROM:-0600
TZOFFSETTO:-0500
DTSTART:19870405T020000
RRULE:FREQ=YEARLY;BYMONTH=4;BYDAY=1SU;UNTIL=20061029T020000
END:DAYLIGHT
BEGIN:DAYLIGHT
TZOFFSETFROM:-0600
TZOFFSETTO:-0500
DTSTART:20070311T020000
RRULE:FREQ=YEARLY;BYMONTH=3;BYDAY=2SU
END:DAYLIGHT
END:VTIMEZONE
BEGIN:VTIMEZONE
TZID:US/Mountain
BEGIN:STANDARD
TZOFFSETFROM:-0600
TZOFFSETTO:-0700
DTSTART:19701025T020000
RRULE:FREQ=YEARLY;BYMONTH=10;BYDAY=-1SU;UNTIL=20070311T020000
END:STANDARD
BEGIN:STANDARD
TZOFFSETFROM:-0600
TZOFFSETTO:-0700
DTSTART:20071104T020000
RRULE:FREQ=YEARLY;BYMONTH=11;BYDAY=1SU
END:STANDARD
BEGIN:DAYLIGHT
TZOFFSETFROM:-0700
TZOFFSETTO:-0600
DTSTART:19870405T020000
RRULE:FREQ=YEARLY;BYMONTH=4;BYDAY=1SU;UNTIL=20061029T020000
END:DAYLIGHT
BEGIN:DAYLIGHT
TZOFFSETFROM:-0700
TZOFFSETTO:-0600
DTSTART:20070311T020000
RRULE:FREQ=YEARLY;BYMONTH=3;BYDAY=2SU
END:DAYLIGHT
END:VTIMEZONE
BEGIN:VTIMEZONE
TZID:US/Arizona
BEGIN:STANDARD
TZOFFSETFROM:-0700
TZOFFSETTO:-0700
DTSTART:19701025T020000
END:STANDARD
END:VTIMEZONE
BEGIN:VTIMEZONE
TZID:US/Pacific
BEGIN:STANDARD
TZOFFSETFROM:-0700
TZOFFSETTO:-0800
DTSTART:19701025T020000
RRULE:FREQ=YEARLY;BYMONTH=10;BYDAY=-1SU;UNTIL=20070311T020000
END:STANDARD
BEGIN:STANDARD
TZOFFSETFROM:-0700
TZOFFSETTO:-0800
DTSTART:20071104T020000
RRULE:FREQ=YEARLY;BYMONTH=11;BYDAY=1SU
END:STANDARD
BEGIN:DAYLIGHT
TZOFFSETFROM:-0800
TZOFFSETTO:-0700
DTSTART:19870405T020000
RRULE:FREQ=YEARLY;BYMONTH=4;BYDAY=1SU;UNTIL=20061029T020000
END:DAYLIGHT
BEGIN:DAYLIGHT
TZOFFSETFROM:-0800
TZOFFSETTO:-0700
DTSTART:20070311T020000
RRULE:FREQ=YEARLY;BYMONTH=3;BYDAY=2SU
END:DAYLIGHT
END:VTIMEZONE
BEGIN:VTIMEZONE
TZID:US/Alaska
BEGIN:STANDARD
TZOFFSETFROM:-0800
TZOFFSETTO:-0900
DTSTART:19701025T020000
RRULE:FREQ=YEARLY;BYMONTH=10;BYDAY=-1SU;UNTIL=20070311T020000
END:STANDARD
BEGIN:STANDARD
TZOFFSETFROM:-0800
TZOFFSETTO:-0900
DTSTART:20071104T020000
RRULE:FREQ=YEARLY;BYMONTH=11;BYDAY=1SU
END:STANDARD
BEGIN:DAYLIGHT
TZOFFSETFROM:-0900
TZOFFSETTO:-0800
DTSTART:19870405T020000
RRULE:FREQ=YEARLY;BYMONTH=4;BYDAY=1SU;UNTIL=20061029T020000
END:DAYLIGHT
BEGIN:DAYLIGHT
TZOFFSETFROM:-0900
TZOFFSETTO:-0800
DTSTART:20070311T020000
RRULE:FREQ=YEARLY;BYMONTH=3;BYDAY=2SU
END:DAYLIGHT
END:VTIMEZONE
BEGIN:VTIMEZONE
TZID:US/Hawaii
BEGIN:STANDARD
TZOFFSETFROM:-1000
TZOFFSETTO:-1000
DTSTART:19701025T020000
END:STANDARD
END:VTIMEZONE
BEGIN:VTIMEZONE
TZID:US/Aleutian
BEGIN:STANDARD
TZOFFSETFROM:-1000
TZOFFSETTO:-1000
DTSTART:19701025T020000
END:STANDARD
END:VTIMEZONE
BEGIN:VTIMEZONE
TZID:US/Samoa
BEGIN:STANDARD
TZOFFSETFROM:-1100
TZOFFSETTO:-1100
DTSTART:19701025T020000
END:STANDARD
END:VTIMEZONE
BEGIN:VEVENT
UID:11794024@www.pillowacademy.com#20260424
SEQUENCE:0
CREATED:20260423T180840Z
LAST-MODIFIED:20260423T180840Z
DTSTART;TZID=US/Central:20260424T235800
DTEND;TZID=US/Central:20260424T235900
SUMMARY:Assignment: Thursday\, April 23
DESCRIPTION:Correct test and quiz from last week.<br>Correct HW from Tuesda
 y night.<br>Work in groups on assigned problems and check together to prep
 are for test tomorrow.<br>HW - study equations\, GEMS\, basic operations a
 nd area/perimeter for test Friday<br>\n<a href=' https://www.pillowacademy
 .com/apps/classes/1061570/assignments/#hw-11794024'>Read more</a>
URL:https://www.pillowacademy.com/apps/classes/1061570/assignments/#hw-1179
 4024
ORGANIZER;CN="Edlio Calendar":MAILTO:noreply@www.pillowacademy.com
DTSTAMP:20260424T130258Z
END:VEVENT
BEGIN:VEVENT
UID:11794025@www.pillowacademy.com#20260424
SEQUENCE:0
CREATED:20260423T180840Z
LAST-MODIFIED:20260423T180840Z
DTSTART;TZID=US/Central:20260424T235800
DTEND;TZID=US/Central:20260424T235900
SUMMARY:Assignment: Thursday\, April 23
DESCRIPTION:Correct test and quiz from last week.<br>Correct HW from Tuesda
 y night.<br>Work in groups on assigned problems and check together to prep
 are for test tomorrow.<br>HW - study equations\, GEMS\, basic operations a
 nd area/perimeter for test Friday<br>\n<a href=' https://www.pillowacademy
 .com/apps/classes/1061570/assignments/#hw-11794025'>Read more</a>
URL:https://www.pillowacademy.com/apps/classes/1061570/assignments/#hw-1179
 4025
ORGANIZER;CN="Edlio Calendar":MAILTO:noreply@www.pillowacademy.com
DTSTAMP:20260424T130258Z
END:VEVENT
BEGIN:VEVENT
UID:11794026@www.pillowacademy.com#20260424
SEQUENCE:0
CREATED:20260423T180840Z
LAST-MODIFIED:20260423T180840Z
DTSTART;TZID=US/Central:20260424T235800
DTEND;TZID=US/Central:20260424T235900
SUMMARY:Assignment: Thursday\, April 23
DESCRIPTION:Correct test and quiz from last week.<br>Correct HW from Tuesda
 y night.<br>Work in groups on assigned problems and check together to prep
 are for test tomorrow.<br>HW - study equations\, GEMS\, basic operations a
 nd area/perimeter for test Friday<br>\n<a href=' https://www.pillowacademy
 .com/apps/classes/1061570/assignments/#hw-11794026'>Read more</a>
URL:https://www.pillowacademy.com/apps/classes/1061570/assignments/#hw-1179
 4026
ORGANIZER;CN="Edlio Calendar":MAILTO:noreply@www.pillowacademy.com
DTSTAMP:20260424T130258Z
END:VEVENT
BEGIN:VEVENT
UID:11327871@www.pillowacademy.com#20260501
SEQUENCE:0
CREATED:20260331T131751Z
LAST-MODIFIED:20260331T131751Z
DTSTART;TZID=US/Central:20260501T235800
DTEND;TZID=US/Central:20260501T235900
SUMMARY:Assignment: Tuesday\, March 31
DESCRIPTION:Review p. 231 Angles (from Monday)<br>Read and study p. 233 Mea
 suring Angles <br>Students will learn to use a protractor.<br>Work some p.
  234<br>HW - front/back work/note sheet on how to measure angles using a p
 rotractor\n<a href=' https://www.pillowacademy.com/apps/classes/1061570/as
 signments/#hw-11327871'>Read more</a>
URL:https://www.pillowacademy.com/apps/classes/1061570/assignments/#hw-1132
 7871
ORGANIZER;CN="Edlio Calendar":MAILTO:noreply@www.pillowacademy.com
DTSTAMP:20260424T130258Z
END:VEVENT
BEGIN:VEVENT
UID:11327872@www.pillowacademy.com#20260501
SEQUENCE:0
CREATED:20260331T131751Z
LAST-MODIFIED:20260331T131751Z
DTSTART;TZID=US/Central:20260501T235800
DTEND;TZID=US/Central:20260501T235900
SUMMARY:Assignment: Tuesday\, March 31
DESCRIPTION:Review p. 231 Angles (from Monday)<br>Read and study p. 233 Mea
 suring Angles <br>Students will learn to use a protractor.<br>Work some p.
  234<br>HW - front/back work/note sheet on how to measure angles using a p
 rotractor\n<a href=' https://www.pillowacademy.com/apps/classes/1061570/as
 signments/#hw-11327872'>Read more</a>
URL:https://www.pillowacademy.com/apps/classes/1061570/assignments/#hw-1132
 7872
ORGANIZER;CN="Edlio Calendar":MAILTO:noreply@www.pillowacademy.com
DTSTAMP:20260424T130258Z
END:VEVENT
END:VCALENDAR
