BEGIN:VCALENDAR
VERSION:2.0
PRODID:-//Edlio Inc//Edlio Calendar//EN
CALSCALE:GREGORIAN
METHOD:PUBLISH
X-WR-CALNAME:THIRD Period Math - Pillow Academy
X-ORIGINAL-URL:https://www.pillowacademy.com
X-WR-CALDESC:Events calendar for www.pillowacademy.com
X-WR-TIMEZONE:US/Central
REFRESH-INTERVAL;VALUE=DURATION:PT1H
X-Robots-Tag:noindex
X-PUBLISHED-TTL:PT1H
BEGIN:VTIMEZONE
TZID:US/Central
BEGIN:STANDARD
TZOFFSETFROM:-0500
TZOFFSETTO:-0600
DTSTART:20071104T020000
RRULE:FREQ=YEARLY;BYMONTH=11;BYDAY=1SU
END:STANDARD
BEGIN:DAYLIGHT
TZOFFSETFROM:-0600
TZOFFSETTO:-0500
DTSTART:20070311T020000
RRULE:FREQ=YEARLY;BYMONTH=3;BYDAY=2SU
END:DAYLIGHT
END:VTIMEZONE
BEGIN:VTIMEZONE
TZID:US/East-Indiana
BEGIN:STANDARD
TZOFFSETFROM:-0500
TZOFFSETTO:-0500
DTSTART:19701025T020000
END:STANDARD
END:VTIMEZONE
BEGIN:VTIMEZONE
TZID:US/Eastern
BEGIN:STANDARD
TZOFFSETFROM:-0400
TZOFFSETTO:-0500
DTSTART:19701025T020000
RRULE:FREQ=YEARLY;BYMONTH=10;BYDAY=-1SU;UNTIL=20070311T020000
END:STANDARD
BEGIN:STANDARD
TZOFFSETFROM:-0400
TZOFFSETTO:-0500
DTSTART:20071104T020000
RRULE:FREQ=YEARLY;BYMONTH=11;BYDAY=1SU
END:STANDARD
BEGIN:DAYLIGHT
TZOFFSETFROM:-0500
TZOFFSETTO:-0400
DTSTART:19870405T020000
RRULE:FREQ=YEARLY;BYMONTH=4;BYDAY=1SU;UNTIL=20061029T020000
END:DAYLIGHT
BEGIN:DAYLIGHT
TZOFFSETFROM:-0500
TZOFFSETTO:-0400
DTSTART:20070311T020000
RRULE:FREQ=YEARLY;BYMONTH=3;BYDAY=2SU
END:DAYLIGHT
END:VTIMEZONE
BEGIN:VTIMEZONE
TZID:US/Michigan
BEGIN:STANDARD
TZOFFSETFROM:-0400
TZOFFSETTO:-0500
DTSTART:19701025T020000
RRULE:FREQ=YEARLY;BYMONTH=10;BYDAY=-1SU;UNTIL=20070311T020000
END:STANDARD
BEGIN:STANDARD
TZOFFSETFROM:-0400
TZOFFSETTO:-0500
DTSTART:20071104T020000
RRULE:FREQ=YEARLY;BYMONTH=11;BYDAY=1SU
END:STANDARD
BEGIN:DAYLIGHT
TZOFFSETFROM:-0500
TZOFFSETTO:-0400
DTSTART:19870405T020000
RRULE:FREQ=YEARLY;BYMONTH=4;BYDAY=1SU;UNTIL=20061029T020000
END:DAYLIGHT
BEGIN:DAYLIGHT
TZOFFSETFROM:-0500
TZOFFSETTO:-0400
DTSTART:20070311T020000
RRULE:FREQ=YEARLY;BYMONTH=3;BYDAY=2SU
END:DAYLIGHT
END:VTIMEZONE
BEGIN:VTIMEZONE
TZID:US/Central
BEGIN:STANDARD
TZOFFSETFROM:-0500
TZOFFSETTO:-0600
DTSTART:19701025T020000
RRULE:FREQ=YEARLY;BYMONTH=10;BYDAY=-1SU;UNTIL=20070311T020000
END:STANDARD
BEGIN:STANDARD
TZOFFSETFROM:-0500
TZOFFSETTO:-0600
DTSTART:20071104T020000
RRULE:FREQ=YEARLY;BYMONTH=11;BYDAY=1SU
END:STANDARD
BEGIN:DAYLIGHT
TZOFFSETFROM:-0600
TZOFFSETTO:-0500
DTSTART:19870405T020000
RRULE:FREQ=YEARLY;BYMONTH=4;BYDAY=1SU;UNTIL=20061029T020000
END:DAYLIGHT
BEGIN:DAYLIGHT
TZOFFSETFROM:-0600
TZOFFSETTO:-0500
DTSTART:20070311T020000
RRULE:FREQ=YEARLY;BYMONTH=3;BYDAY=2SU
END:DAYLIGHT
END:VTIMEZONE
BEGIN:VTIMEZONE
TZID:US/Mountain
BEGIN:STANDARD
TZOFFSETFROM:-0600
TZOFFSETTO:-0700
DTSTART:19701025T020000
RRULE:FREQ=YEARLY;BYMONTH=10;BYDAY=-1SU;UNTIL=20070311T020000
END:STANDARD
BEGIN:STANDARD
TZOFFSETFROM:-0600
TZOFFSETTO:-0700
DTSTART:20071104T020000
RRULE:FREQ=YEARLY;BYMONTH=11;BYDAY=1SU
END:STANDARD
BEGIN:DAYLIGHT
TZOFFSETFROM:-0700
TZOFFSETTO:-0600
DTSTART:19870405T020000
RRULE:FREQ=YEARLY;BYMONTH=4;BYDAY=1SU;UNTIL=20061029T020000
END:DAYLIGHT
BEGIN:DAYLIGHT
TZOFFSETFROM:-0700
TZOFFSETTO:-0600
DTSTART:20070311T020000
RRULE:FREQ=YEARLY;BYMONTH=3;BYDAY=2SU
END:DAYLIGHT
END:VTIMEZONE
BEGIN:VTIMEZONE
TZID:US/Arizona
BEGIN:STANDARD
TZOFFSETFROM:-0700
TZOFFSETTO:-0700
DTSTART:19701025T020000
END:STANDARD
END:VTIMEZONE
BEGIN:VTIMEZONE
TZID:US/Pacific
BEGIN:STANDARD
TZOFFSETFROM:-0700
TZOFFSETTO:-0800
DTSTART:19701025T020000
RRULE:FREQ=YEARLY;BYMONTH=10;BYDAY=-1SU;UNTIL=20070311T020000
END:STANDARD
BEGIN:STANDARD
TZOFFSETFROM:-0700
TZOFFSETTO:-0800
DTSTART:20071104T020000
RRULE:FREQ=YEARLY;BYMONTH=11;BYDAY=1SU
END:STANDARD
BEGIN:DAYLIGHT
TZOFFSETFROM:-0800
TZOFFSETTO:-0700
DTSTART:19870405T020000
RRULE:FREQ=YEARLY;BYMONTH=4;BYDAY=1SU;UNTIL=20061029T020000
END:DAYLIGHT
BEGIN:DAYLIGHT
TZOFFSETFROM:-0800
TZOFFSETTO:-0700
DTSTART:20070311T020000
RRULE:FREQ=YEARLY;BYMONTH=3;BYDAY=2SU
END:DAYLIGHT
END:VTIMEZONE
BEGIN:VTIMEZONE
TZID:US/Alaska
BEGIN:STANDARD
TZOFFSETFROM:-0800
TZOFFSETTO:-0900
DTSTART:19701025T020000
RRULE:FREQ=YEARLY;BYMONTH=10;BYDAY=-1SU;UNTIL=20070311T020000
END:STANDARD
BEGIN:STANDARD
TZOFFSETFROM:-0800
TZOFFSETTO:-0900
DTSTART:20071104T020000
RRULE:FREQ=YEARLY;BYMONTH=11;BYDAY=1SU
END:STANDARD
BEGIN:DAYLIGHT
TZOFFSETFROM:-0900
TZOFFSETTO:-0800
DTSTART:19870405T020000
RRULE:FREQ=YEARLY;BYMONTH=4;BYDAY=1SU;UNTIL=20061029T020000
END:DAYLIGHT
BEGIN:DAYLIGHT
TZOFFSETFROM:-0900
TZOFFSETTO:-0800
DTSTART:20070311T020000
RRULE:FREQ=YEARLY;BYMONTH=3;BYDAY=2SU
END:DAYLIGHT
END:VTIMEZONE
BEGIN:VTIMEZONE
TZID:US/Hawaii
BEGIN:STANDARD
TZOFFSETFROM:-1000
TZOFFSETTO:-1000
DTSTART:19701025T020000
END:STANDARD
END:VTIMEZONE
BEGIN:VTIMEZONE
TZID:US/Aleutian
BEGIN:STANDARD
TZOFFSETFROM:-1000
TZOFFSETTO:-1000
DTSTART:19701025T020000
END:STANDARD
END:VTIMEZONE
BEGIN:VTIMEZONE
TZID:US/Samoa
BEGIN:STANDARD
TZOFFSETFROM:-1100
TZOFFSETTO:-1100
DTSTART:19701025T020000
END:STANDARD
END:VTIMEZONE
BEGIN:VEVENT
UID:11677878@www.pillowacademy.com#20260421
SEQUENCE:0
CREATED:20260417T180432Z
LAST-MODIFIED:20260417T180432Z
DTSTART;TZID=US/Central:20260421T235800
DTEND;TZID=US/Central:20260421T235900
SUMMARY:Assignment: Monday\, April 20
DESCRIPTION:p. 249  Solving Equations<br>study p. 249 and work together the
  examples.<br>Work most of p. 250 together<br>HW - equation worksheet\n<a 
 href=' https://www.pillowacademy.com/apps/classes/1061573/assignments/#hw-
 11677878'>Read more</a>
URL:https://www.pillowacademy.com/apps/classes/1061573/assignments/#hw-1167
 7878
ORGANIZER;CN="Edlio Calendar":MAILTO:noreply@www.pillowacademy.com
DTSTAMP:20260422T061815Z
END:VEVENT
BEGIN:VEVENT
UID:11677879@www.pillowacademy.com#20260421
SEQUENCE:0
CREATED:20260417T180432Z
LAST-MODIFIED:20260417T180432Z
DTSTART;TZID=US/Central:20260421T235800
DTEND;TZID=US/Central:20260421T235900
SUMMARY:Assignment: Monday\, April 20
DESCRIPTION:p. 249  Solving Equations<br>study p. 249 and work together the
  examples.<br>Work most of p. 250 together<br>HW - equation worksheet\n<a 
 href=' https://www.pillowacademy.com/apps/classes/1061573/assignments/#hw-
 11677879'>Read more</a>
URL:https://www.pillowacademy.com/apps/classes/1061573/assignments/#hw-1167
 7879
ORGANIZER;CN="Edlio Calendar":MAILTO:noreply@www.pillowacademy.com
DTSTAMP:20260422T061815Z
END:VEVENT
BEGIN:VEVENT
UID:11677880@www.pillowacademy.com#20260421
SEQUENCE:0
CREATED:20260420T150317Z
LAST-MODIFIED:20260420T150317Z
DTSTART;TZID=US/Central:20260421T235800
DTEND;TZID=US/Central:20260421T235900
SUMMARY:Assignment: Monday\, April 20
DESCRIPTION:p. 249  Solving Equations<br>study p. 249 and work together the
  examples.<br>Work most of p. 250 together<br>HW - p. 348    1-19\n<a href
 =' https://www.pillowacademy.com/apps/classes/1061573/assignments/#hw-1167
 7880'>Read more</a>
URL:https://www.pillowacademy.com/apps/classes/1061573/assignments/#hw-1167
 7880
ORGANIZER;CN="Edlio Calendar":MAILTO:noreply@www.pillowacademy.com
DTSTAMP:20260422T061815Z
END:VEVENT
BEGIN:VEVENT
UID:11770454@www.pillowacademy.com#20260422
SEQUENCE:0
CREATED:20260421T180026Z
LAST-MODIFIED:20260421T180026Z
DTSTART;TZID=US/Central:20260422T235800
DTEND;TZID=US/Central:20260422T235900
SUMMARY:Assignment: Tuesday\, April 21
DESCRIPTION:Correct HW from p. 348  (1-19)<br>Hand out note sheet to studen
 ts about equations.  <br>Work the few on there.<br>Work and correct more e
 quations and story problems on p. 251   1-3<br>HW - equation worksheet  (1
 -10)<br><br>I will attach the pics of handouts here.\n<a href=' https://ww
 w.pillowacademy.com/apps/classes/1061573/assignments/#hw-11770454'>Read mo
 re</a>
URL:https://www.pillowacademy.com/apps/classes/1061573/assignments/#hw-1177
 0454
ORGANIZER;CN="Edlio Calendar":MAILTO:noreply@www.pillowacademy.com
DTSTAMP:20260422T061815Z
END:VEVENT
BEGIN:VEVENT
UID:11327875@www.pillowacademy.com#20260501
SEQUENCE:0
CREATED:20260331T131752Z
LAST-MODIFIED:20260331T131752Z
DTSTART;TZID=US/Central:20260501T235800
DTEND;TZID=US/Central:20260501T235900
SUMMARY:Assignment: Tuesday\, March 31
DESCRIPTION:Review p. 231 Angles (from Monday)<br>Read and study p. 233 Mea
 suring Angles <br>Students will learn to use a protractor.<br>Work some p.
  234<br>HW - front/back work/note sheet on how to measure angles using a p
 rotractor\n<a href=' https://www.pillowacademy.com/apps/classes/1061573/as
 signments/#hw-11327875'>Read more</a>
URL:https://www.pillowacademy.com/apps/classes/1061573/assignments/#hw-1132
 7875
ORGANIZER;CN="Edlio Calendar":MAILTO:noreply@www.pillowacademy.com
DTSTAMP:20260422T061815Z
END:VEVENT
BEGIN:VEVENT
UID:11327876@www.pillowacademy.com#20260501
SEQUENCE:0
CREATED:20260331T131753Z
LAST-MODIFIED:20260331T131753Z
DTSTART;TZID=US/Central:20260501T235800
DTEND;TZID=US/Central:20260501T235900
SUMMARY:Assignment: Tuesday\, March 31
DESCRIPTION:Review p. 231 Angles (from Monday)<br>Read and study p. 233 Mea
 suring Angles <br>Students will learn to use a protractor.<br>Work some p.
  234<br>HW - front/back work/note sheet on how to measure angles using a p
 rotractor\n<a href=' https://www.pillowacademy.com/apps/classes/1061573/as
 signments/#hw-11327876'>Read more</a>
URL:https://www.pillowacademy.com/apps/classes/1061573/assignments/#hw-1132
 7876
ORGANIZER;CN="Edlio Calendar":MAILTO:noreply@www.pillowacademy.com
DTSTAMP:20260422T061815Z
END:VEVENT
END:VCALENDAR
