BEGIN:VCALENDAR
VERSION:2.0
PRODID:-//Edlio Inc//Edlio Calendar//EN
CALSCALE:GREGORIAN
METHOD:PUBLISH
X-WR-CALNAME:Math/Spelling (Bratton's Homeroom-2025-2026) - Pillow Academy
X-ORIGINAL-URL:https://www.pillowacademy.com
X-WR-CALDESC:Events calendar for www.pillowacademy.com
X-WR-TIMEZONE:US/Central
REFRESH-INTERVAL;VALUE=DURATION:PT1H
X-Robots-Tag:noindex
X-PUBLISHED-TTL:PT1H
BEGIN:VTIMEZONE
TZID:US/Central
BEGIN:STANDARD
TZOFFSETFROM:-0500
TZOFFSETTO:-0600
DTSTART:20071104T020000
RRULE:FREQ=YEARLY;BYMONTH=11;BYDAY=1SU
END:STANDARD
BEGIN:DAYLIGHT
TZOFFSETFROM:-0600
TZOFFSETTO:-0500
DTSTART:20070311T020000
RRULE:FREQ=YEARLY;BYMONTH=3;BYDAY=2SU
END:DAYLIGHT
END:VTIMEZONE
BEGIN:VTIMEZONE
TZID:US/East-Indiana
BEGIN:STANDARD
TZOFFSETFROM:-0500
TZOFFSETTO:-0500
DTSTART:19701025T020000
END:STANDARD
END:VTIMEZONE
BEGIN:VTIMEZONE
TZID:US/Eastern
BEGIN:STANDARD
TZOFFSETFROM:-0400
TZOFFSETTO:-0500
DTSTART:19701025T020000
RRULE:FREQ=YEARLY;BYMONTH=10;BYDAY=-1SU;UNTIL=20070311T020000
END:STANDARD
BEGIN:STANDARD
TZOFFSETFROM:-0400
TZOFFSETTO:-0500
DTSTART:20071104T020000
RRULE:FREQ=YEARLY;BYMONTH=11;BYDAY=1SU
END:STANDARD
BEGIN:DAYLIGHT
TZOFFSETFROM:-0500
TZOFFSETTO:-0400
DTSTART:19870405T020000
RRULE:FREQ=YEARLY;BYMONTH=4;BYDAY=1SU;UNTIL=20061029T020000
END:DAYLIGHT
BEGIN:DAYLIGHT
TZOFFSETFROM:-0500
TZOFFSETTO:-0400
DTSTART:20070311T020000
RRULE:FREQ=YEARLY;BYMONTH=3;BYDAY=2SU
END:DAYLIGHT
END:VTIMEZONE
BEGIN:VTIMEZONE
TZID:US/Michigan
BEGIN:STANDARD
TZOFFSETFROM:-0400
TZOFFSETTO:-0500
DTSTART:19701025T020000
RRULE:FREQ=YEARLY;BYMONTH=10;BYDAY=-1SU;UNTIL=20070311T020000
END:STANDARD
BEGIN:STANDARD
TZOFFSETFROM:-0400
TZOFFSETTO:-0500
DTSTART:20071104T020000
RRULE:FREQ=YEARLY;BYMONTH=11;BYDAY=1SU
END:STANDARD
BEGIN:DAYLIGHT
TZOFFSETFROM:-0500
TZOFFSETTO:-0400
DTSTART:19870405T020000
RRULE:FREQ=YEARLY;BYMONTH=4;BYDAY=1SU;UNTIL=20061029T020000
END:DAYLIGHT
BEGIN:DAYLIGHT
TZOFFSETFROM:-0500
TZOFFSETTO:-0400
DTSTART:20070311T020000
RRULE:FREQ=YEARLY;BYMONTH=3;BYDAY=2SU
END:DAYLIGHT
END:VTIMEZONE
BEGIN:VTIMEZONE
TZID:US/Central
BEGIN:STANDARD
TZOFFSETFROM:-0500
TZOFFSETTO:-0600
DTSTART:19701025T020000
RRULE:FREQ=YEARLY;BYMONTH=10;BYDAY=-1SU;UNTIL=20070311T020000
END:STANDARD
BEGIN:STANDARD
TZOFFSETFROM:-0500
TZOFFSETTO:-0600
DTSTART:20071104T020000
RRULE:FREQ=YEARLY;BYMONTH=11;BYDAY=1SU
END:STANDARD
BEGIN:DAYLIGHT
TZOFFSETFROM:-0600
TZOFFSETTO:-0500
DTSTART:19870405T020000
RRULE:FREQ=YEARLY;BYMONTH=4;BYDAY=1SU;UNTIL=20061029T020000
END:DAYLIGHT
BEGIN:DAYLIGHT
TZOFFSETFROM:-0600
TZOFFSETTO:-0500
DTSTART:20070311T020000
RRULE:FREQ=YEARLY;BYMONTH=3;BYDAY=2SU
END:DAYLIGHT
END:VTIMEZONE
BEGIN:VTIMEZONE
TZID:US/Mountain
BEGIN:STANDARD
TZOFFSETFROM:-0600
TZOFFSETTO:-0700
DTSTART:19701025T020000
RRULE:FREQ=YEARLY;BYMONTH=10;BYDAY=-1SU;UNTIL=20070311T020000
END:STANDARD
BEGIN:STANDARD
TZOFFSETFROM:-0600
TZOFFSETTO:-0700
DTSTART:20071104T020000
RRULE:FREQ=YEARLY;BYMONTH=11;BYDAY=1SU
END:STANDARD
BEGIN:DAYLIGHT
TZOFFSETFROM:-0700
TZOFFSETTO:-0600
DTSTART:19870405T020000
RRULE:FREQ=YEARLY;BYMONTH=4;BYDAY=1SU;UNTIL=20061029T020000
END:DAYLIGHT
BEGIN:DAYLIGHT
TZOFFSETFROM:-0700
TZOFFSETTO:-0600
DTSTART:20070311T020000
RRULE:FREQ=YEARLY;BYMONTH=3;BYDAY=2SU
END:DAYLIGHT
END:VTIMEZONE
BEGIN:VTIMEZONE
TZID:US/Arizona
BEGIN:STANDARD
TZOFFSETFROM:-0700
TZOFFSETTO:-0700
DTSTART:19701025T020000
END:STANDARD
END:VTIMEZONE
BEGIN:VTIMEZONE
TZID:US/Pacific
BEGIN:STANDARD
TZOFFSETFROM:-0700
TZOFFSETTO:-0800
DTSTART:19701025T020000
RRULE:FREQ=YEARLY;BYMONTH=10;BYDAY=-1SU;UNTIL=20070311T020000
END:STANDARD
BEGIN:STANDARD
TZOFFSETFROM:-0700
TZOFFSETTO:-0800
DTSTART:20071104T020000
RRULE:FREQ=YEARLY;BYMONTH=11;BYDAY=1SU
END:STANDARD
BEGIN:DAYLIGHT
TZOFFSETFROM:-0800
TZOFFSETTO:-0700
DTSTART:19870405T020000
RRULE:FREQ=YEARLY;BYMONTH=4;BYDAY=1SU;UNTIL=20061029T020000
END:DAYLIGHT
BEGIN:DAYLIGHT
TZOFFSETFROM:-0800
TZOFFSETTO:-0700
DTSTART:20070311T020000
RRULE:FREQ=YEARLY;BYMONTH=3;BYDAY=2SU
END:DAYLIGHT
END:VTIMEZONE
BEGIN:VTIMEZONE
TZID:US/Alaska
BEGIN:STANDARD
TZOFFSETFROM:-0800
TZOFFSETTO:-0900
DTSTART:19701025T020000
RRULE:FREQ=YEARLY;BYMONTH=10;BYDAY=-1SU;UNTIL=20070311T020000
END:STANDARD
BEGIN:STANDARD
TZOFFSETFROM:-0800
TZOFFSETTO:-0900
DTSTART:20071104T020000
RRULE:FREQ=YEARLY;BYMONTH=11;BYDAY=1SU
END:STANDARD
BEGIN:DAYLIGHT
TZOFFSETFROM:-0900
TZOFFSETTO:-0800
DTSTART:19870405T020000
RRULE:FREQ=YEARLY;BYMONTH=4;BYDAY=1SU;UNTIL=20061029T020000
END:DAYLIGHT
BEGIN:DAYLIGHT
TZOFFSETFROM:-0900
TZOFFSETTO:-0800
DTSTART:20070311T020000
RRULE:FREQ=YEARLY;BYMONTH=3;BYDAY=2SU
END:DAYLIGHT
END:VTIMEZONE
BEGIN:VTIMEZONE
TZID:US/Hawaii
BEGIN:STANDARD
TZOFFSETFROM:-1000
TZOFFSETTO:-1000
DTSTART:19701025T020000
END:STANDARD
END:VTIMEZONE
BEGIN:VTIMEZONE
TZID:US/Aleutian
BEGIN:STANDARD
TZOFFSETFROM:-1000
TZOFFSETTO:-1000
DTSTART:19701025T020000
END:STANDARD
END:VTIMEZONE
BEGIN:VTIMEZONE
TZID:US/Samoa
BEGIN:STANDARD
TZOFFSETFROM:-1100
TZOFFSETTO:-1100
DTSTART:19701025T020000
END:STANDARD
END:VTIMEZONE
BEGIN:VEVENT
UID:11657878@www.pillowacademy.com#20260424
SEQUENCE:0
CREATED:20260416T131813Z
LAST-MODIFIED:20260416T131813Z
DTSTART;TZID=US/Central:20260424T235800
DTEND;TZID=US/Central:20260424T235900
SUMMARY:Assignment: Math: Week 32-April 20-24\, 2026
DESCRIPTION:CLASSWORK:  We will review X's 8 each day.  We will review for 
 Abeka quiz #18 each day.<br>Monday:          Day 1 daily practice\; review
  X's 8\; review for Abeka quiz #18\; workbook pages 185-186<br>Tuesday:   
       Day 2 daily practice\; review X's 8\; review for Abeka quiz #18\; go
  over homework\\n<a href=' https://www.pillowacademy.com/apps/classes/1061
 984/assignments/#hw-11657878'>Read more</a>
URL:https://www.pillowacademy.com/apps/classes/1061984/assignments/#hw-1165
 7878
ORGANIZER;CN="Edlio Calendar":MAILTO:noreply@www.pillowacademy.com
DTSTAMP:20260424T131011Z
END:VEVENT
BEGIN:VEVENT
UID:11657880@www.pillowacademy.com#20260424
SEQUENCE:0
CREATED:20260416T131814Z
LAST-MODIFIED:20260416T131814Z
DTSTART;TZID=US/Central:20260424T235800
DTEND;TZID=US/Central:20260424T235900
SUMMARY:Assignment: Math: Week 32-April 20-24\, 2026
DESCRIPTION:CLASSWORK:  We will review X's 8 each day.  We will review for 
 Abeka quiz #18 each day.<br>Monday:          Day 1 daily practice\; review
  X's 8\; review for Abeka quiz #18\; workbook pages 185-186<br>Tuesday:   
       Day 2 daily practice\; review X's 8\; review for Abeka quiz #18\; go
  over homework\\n<a href=' https://www.pillowacademy.com/apps/classes/1061
 984/assignments/#hw-11657880'>Read more</a>
URL:https://www.pillowacademy.com/apps/classes/1061984/assignments/#hw-1165
 7880
ORGANIZER;CN="Edlio Calendar":MAILTO:noreply@www.pillowacademy.com
DTSTAMP:20260424T131011Z
END:VEVENT
BEGIN:VEVENT
UID:11775857@www.pillowacademy.com#20260501
SEQUENCE:0
CREATED:20260422T131526Z
LAST-MODIFIED:20260422T131526Z
DTSTART;TZID=US/Central:20260501T235800
DTEND;TZID=US/Central:20260501T235900
SUMMARY:Assignment: Math: Week 33-April 27-May 1\, 2026
DESCRIPTION:CLASSWORK:    Review X's 9 each day.  Review for Abeka quiz eac
 h day.<br>Monday:             Day 1 daily practice\; review X's 9\; review
  for Abeka quiz\; workbook pages<br>Tuesday:            Day 2 daily practi
 ce\; review X's 9\; review for Abeka quiz\; go over homework\; workbook pa
 ges<br>Wednesda\n<a href=' https://www.pillowacademy.com/apps/classes/1061
 984/assignments/#hw-11775857'>Read more</a>
URL:https://www.pillowacademy.com/apps/classes/1061984/assignments/#hw-1177
 5857
ORGANIZER;CN="Edlio Calendar":MAILTO:noreply@www.pillowacademy.com
DTSTAMP:20260424T131011Z
END:VEVENT
BEGIN:VEVENT
UID:11775859@www.pillowacademy.com#20260501
SEQUENCE:0
CREATED:20260422T131527Z
LAST-MODIFIED:20260422T131527Z
DTSTART;TZID=US/Central:20260501T235800
DTEND;TZID=US/Central:20260501T235900
SUMMARY:Assignment: Math: Week 33-April 27-May 1\, 2026
DESCRIPTION:CLASSWORK:    Review X's 9 each day.  Review for Abeka quiz eac
 h day.<br>Monday:             Day 1 daily practice\; review X's 9\; review
  for Abeka quiz\; workbook pages<br>Tuesday:            Day 2 daily practi
 ce\; review X's 9\; review for Abeka quiz\; go over homework\; workbook pa
 ges<br>Wednesda\n<a href=' https://www.pillowacademy.com/apps/classes/1061
 984/assignments/#hw-11775859'>Read more</a>
URL:https://www.pillowacademy.com/apps/classes/1061984/assignments/#hw-1177
 5859
ORGANIZER;CN="Edlio Calendar":MAILTO:noreply@www.pillowacademy.com
DTSTAMP:20260424T131011Z
END:VEVENT
BEGIN:VEVENT
UID:11644516@www.pillowacademy.com#20260424
SEQUENCE:0
CREATED:20260415T131953Z
LAST-MODIFIED:20260415T131953Z
DTSTART;TZID=US/Central:20260424T235800
DTEND;TZID=US/Central:20260424T235900
SUMMARY:Assignment: Spelling: Week 32/List 29-April 20-24\, 2026
DESCRIPTION:CLASSWORK:<br>Monday:            workbook page 114<br>Tuesday: 
            workbook page 115<br>Wednesday:      workbook page 116<br>Thurs
 day:          workbook page 117<br>Friday:               Spelling test<br>
 <br>HOMEWORK:<br>Monday:            Study words and review workbook page 1
 14.<br>Tuesday:\n<a href=' https://www.pillowacademy.com/apps/classes/1061
 984/assignments/#hw-11644516'>Read more</a>
URL:https://www.pillowacademy.com/apps/classes/1061984/assignments/#hw-1164
 4516
ORGANIZER;CN="Edlio Calendar":MAILTO:noreply@www.pillowacademy.com
DTSTAMP:20260424T131011Z
END:VEVENT
BEGIN:VEVENT
UID:11770268@www.pillowacademy.com#20260501
SEQUENCE:0
CREATED:20260421T161544Z
LAST-MODIFIED:20260421T161544Z
DTSTART;TZID=US/Central:20260501T235800
DTEND;TZID=US/Central:20260501T235900
SUMMARY:Assignment: Spelling: Week 33/List 30-April 27-May 1\, 2026
DESCRIPTION:CLASSWORK:<br>Monday:             workbook page 118<br>Tuesday:
              workbook page 119<br>Wednesday:       workbook page 120<br>Th
 ursday:           workbook page 121<br>Friday:                Spelling tes
 t<br><br>HOMEWORK:<br>Monday:            Study words and review workbook p
 age 118.<br>Tue\n<a href=' https://www.pillowacademy.com/apps/classes/1061
 984/assignments/#hw-11770268'>Read more</a>
URL:https://www.pillowacademy.com/apps/classes/1061984/assignments/#hw-1177
 0268
ORGANIZER;CN="Edlio Calendar":MAILTO:noreply@www.pillowacademy.com
DTSTAMP:20260424T131011Z
END:VEVENT
END:VCALENDAR
