BEGIN:VCALENDAR
VERSION:2.0
PRODID:-//Edlio Inc//Edlio Calendar//EN
CALSCALE:GREGORIAN
METHOD:PUBLISH
X-WR-CALNAME:Second Grade - Pillow Academy
X-ORIGINAL-URL:https://www.pillowacademy.com
X-WR-CALDESC:Events calendar for www.pillowacademy.com
X-WR-TIMEZONE:US/Central
REFRESH-INTERVAL;VALUE=DURATION:PT1H
X-Robots-Tag:noindex
X-PUBLISHED-TTL:PT1H
BEGIN:VTIMEZONE
TZID:US/Central
BEGIN:STANDARD
TZOFFSETFROM:-0500
TZOFFSETTO:-0600
DTSTART:20071104T020000
RRULE:FREQ=YEARLY;BYMONTH=11;BYDAY=1SU
END:STANDARD
BEGIN:DAYLIGHT
TZOFFSETFROM:-0600
TZOFFSETTO:-0500
DTSTART:20070311T020000
RRULE:FREQ=YEARLY;BYMONTH=3;BYDAY=2SU
END:DAYLIGHT
END:VTIMEZONE
BEGIN:VTIMEZONE
TZID:US/East-Indiana
BEGIN:STANDARD
TZOFFSETFROM:-0500
TZOFFSETTO:-0500
DTSTART:19701025T020000
END:STANDARD
END:VTIMEZONE
BEGIN:VTIMEZONE
TZID:US/Eastern
BEGIN:STANDARD
TZOFFSETFROM:-0400
TZOFFSETTO:-0500
DTSTART:19701025T020000
RRULE:FREQ=YEARLY;BYMONTH=10;BYDAY=-1SU;UNTIL=20070311T020000
END:STANDARD
BEGIN:STANDARD
TZOFFSETFROM:-0400
TZOFFSETTO:-0500
DTSTART:20071104T020000
RRULE:FREQ=YEARLY;BYMONTH=11;BYDAY=1SU
END:STANDARD
BEGIN:DAYLIGHT
TZOFFSETFROM:-0500
TZOFFSETTO:-0400
DTSTART:19870405T020000
RRULE:FREQ=YEARLY;BYMONTH=4;BYDAY=1SU;UNTIL=20061029T020000
END:DAYLIGHT
BEGIN:DAYLIGHT
TZOFFSETFROM:-0500
TZOFFSETTO:-0400
DTSTART:20070311T020000
RRULE:FREQ=YEARLY;BYMONTH=3;BYDAY=2SU
END:DAYLIGHT
END:VTIMEZONE
BEGIN:VTIMEZONE
TZID:US/Michigan
BEGIN:STANDARD
TZOFFSETFROM:-0400
TZOFFSETTO:-0500
DTSTART:19701025T020000
RRULE:FREQ=YEARLY;BYMONTH=10;BYDAY=-1SU;UNTIL=20070311T020000
END:STANDARD
BEGIN:STANDARD
TZOFFSETFROM:-0400
TZOFFSETTO:-0500
DTSTART:20071104T020000
RRULE:FREQ=YEARLY;BYMONTH=11;BYDAY=1SU
END:STANDARD
BEGIN:DAYLIGHT
TZOFFSETFROM:-0500
TZOFFSETTO:-0400
DTSTART:19870405T020000
RRULE:FREQ=YEARLY;BYMONTH=4;BYDAY=1SU;UNTIL=20061029T020000
END:DAYLIGHT
BEGIN:DAYLIGHT
TZOFFSETFROM:-0500
TZOFFSETTO:-0400
DTSTART:20070311T020000
RRULE:FREQ=YEARLY;BYMONTH=3;BYDAY=2SU
END:DAYLIGHT
END:VTIMEZONE
BEGIN:VTIMEZONE
TZID:US/Central
BEGIN:STANDARD
TZOFFSETFROM:-0500
TZOFFSETTO:-0600
DTSTART:19701025T020000
RRULE:FREQ=YEARLY;BYMONTH=10;BYDAY=-1SU;UNTIL=20070311T020000
END:STANDARD
BEGIN:STANDARD
TZOFFSETFROM:-0500
TZOFFSETTO:-0600
DTSTART:20071104T020000
RRULE:FREQ=YEARLY;BYMONTH=11;BYDAY=1SU
END:STANDARD
BEGIN:DAYLIGHT
TZOFFSETFROM:-0600
TZOFFSETTO:-0500
DTSTART:19870405T020000
RRULE:FREQ=YEARLY;BYMONTH=4;BYDAY=1SU;UNTIL=20061029T020000
END:DAYLIGHT
BEGIN:DAYLIGHT
TZOFFSETFROM:-0600
TZOFFSETTO:-0500
DTSTART:20070311T020000
RRULE:FREQ=YEARLY;BYMONTH=3;BYDAY=2SU
END:DAYLIGHT
END:VTIMEZONE
BEGIN:VTIMEZONE
TZID:US/Mountain
BEGIN:STANDARD
TZOFFSETFROM:-0600
TZOFFSETTO:-0700
DTSTART:19701025T020000
RRULE:FREQ=YEARLY;BYMONTH=10;BYDAY=-1SU;UNTIL=20070311T020000
END:STANDARD
BEGIN:STANDARD
TZOFFSETFROM:-0600
TZOFFSETTO:-0700
DTSTART:20071104T020000
RRULE:FREQ=YEARLY;BYMONTH=11;BYDAY=1SU
END:STANDARD
BEGIN:DAYLIGHT
TZOFFSETFROM:-0700
TZOFFSETTO:-0600
DTSTART:19870405T020000
RRULE:FREQ=YEARLY;BYMONTH=4;BYDAY=1SU;UNTIL=20061029T020000
END:DAYLIGHT
BEGIN:DAYLIGHT
TZOFFSETFROM:-0700
TZOFFSETTO:-0600
DTSTART:20070311T020000
RRULE:FREQ=YEARLY;BYMONTH=3;BYDAY=2SU
END:DAYLIGHT
END:VTIMEZONE
BEGIN:VTIMEZONE
TZID:US/Arizona
BEGIN:STANDARD
TZOFFSETFROM:-0700
TZOFFSETTO:-0700
DTSTART:19701025T020000
END:STANDARD
END:VTIMEZONE
BEGIN:VTIMEZONE
TZID:US/Pacific
BEGIN:STANDARD
TZOFFSETFROM:-0700
TZOFFSETTO:-0800
DTSTART:19701025T020000
RRULE:FREQ=YEARLY;BYMONTH=10;BYDAY=-1SU;UNTIL=20070311T020000
END:STANDARD
BEGIN:STANDARD
TZOFFSETFROM:-0700
TZOFFSETTO:-0800
DTSTART:20071104T020000
RRULE:FREQ=YEARLY;BYMONTH=11;BYDAY=1SU
END:STANDARD
BEGIN:DAYLIGHT
TZOFFSETFROM:-0800
TZOFFSETTO:-0700
DTSTART:19870405T020000
RRULE:FREQ=YEARLY;BYMONTH=4;BYDAY=1SU;UNTIL=20061029T020000
END:DAYLIGHT
BEGIN:DAYLIGHT
TZOFFSETFROM:-0800
TZOFFSETTO:-0700
DTSTART:20070311T020000
RRULE:FREQ=YEARLY;BYMONTH=3;BYDAY=2SU
END:DAYLIGHT
END:VTIMEZONE
BEGIN:VTIMEZONE
TZID:US/Alaska
BEGIN:STANDARD
TZOFFSETFROM:-0800
TZOFFSETTO:-0900
DTSTART:19701025T020000
RRULE:FREQ=YEARLY;BYMONTH=10;BYDAY=-1SU;UNTIL=20070311T020000
END:STANDARD
BEGIN:STANDARD
TZOFFSETFROM:-0800
TZOFFSETTO:-0900
DTSTART:20071104T020000
RRULE:FREQ=YEARLY;BYMONTH=11;BYDAY=1SU
END:STANDARD
BEGIN:DAYLIGHT
TZOFFSETFROM:-0900
TZOFFSETTO:-0800
DTSTART:19870405T020000
RRULE:FREQ=YEARLY;BYMONTH=4;BYDAY=1SU;UNTIL=20061029T020000
END:DAYLIGHT
BEGIN:DAYLIGHT
TZOFFSETFROM:-0900
TZOFFSETTO:-0800
DTSTART:20070311T020000
RRULE:FREQ=YEARLY;BYMONTH=3;BYDAY=2SU
END:DAYLIGHT
END:VTIMEZONE
BEGIN:VTIMEZONE
TZID:US/Hawaii
BEGIN:STANDARD
TZOFFSETFROM:-1000
TZOFFSETTO:-1000
DTSTART:19701025T020000
END:STANDARD
END:VTIMEZONE
BEGIN:VTIMEZONE
TZID:US/Aleutian
BEGIN:STANDARD
TZOFFSETFROM:-1000
TZOFFSETTO:-1000
DTSTART:19701025T020000
END:STANDARD
END:VTIMEZONE
BEGIN:VTIMEZONE
TZID:US/Samoa
BEGIN:STANDARD
TZOFFSETFROM:-1100
TZOFFSETTO:-1100
DTSTART:19701025T020000
END:STANDARD
END:VTIMEZONE
BEGIN:VEVENT
UID:11680456@www.pillowacademy.com#20260423
SEQUENCE:0
CREATED:20260417T221853Z
LAST-MODIFIED:20260417T221853Z
DTSTART;TZID=US/Central:20260423T235800
DTEND;TZID=US/Central:20260423T235900
SUMMARY:Assignment: English- Thursday\, 4/23/26
DESCRIPTION:Skill: Pronouns<br><br>Take test on Pronouns. <br><br>Homework:
 <br>none\n<a href=' https://www.pillowacademy.com/apps/classes/1062096/ass
 ignments/#hw-11680456'>Read more</a>
URL:https://www.pillowacademy.com/apps/classes/1062096/assignments/#hw-1168
 0456
ORGANIZER;CN="Edlio Calendar":MAILTO:noreply@www.pillowacademy.com
DTSTAMP:20260424T130947Z
END:VEVENT
BEGIN:VEVENT
UID:11061096@www.pillowacademy.com#20260902
SEQUENCE:0
CREATED:20260225T132145Z
LAST-MODIFIED:20260225T132145Z
DTSTART;TZID=US/Central:20260902T235800
DTEND;TZID=US/Central:20260902T235900
SUMMARY:Assignment: English- Wednesday\, 10/1/25
DESCRIPTION:Lesson 50- pages 103-104<br>Practice (for Daily Grade)<br><br>H
 omework<br>Review pages in homework folder\n<a href=' https://www.pillowac
 ademy.com/apps/classes/1062096/assignments/#hw-11061096'>Read more</a>
URL:https://www.pillowacademy.com/apps/classes/1062096/assignments/#hw-1106
 1096
ORGANIZER;CN="Edlio Calendar":MAILTO:noreply@www.pillowacademy.com
DTSTAMP:20260424T130947Z
END:VEVENT
BEGIN:VEVENT
UID:11717645@www.pillowacademy.com#20260424
SEQUENCE:0
CREATED:20260419T131209Z
LAST-MODIFIED:20260419T131209Z
DTSTART;TZID=US/Central:20260424T235800
DTEND;TZID=US/Central:20260424T235900
SUMMARY:Assignment: Math - Friday - 04/24/26
DESCRIPTION:Open day - no lesson<br><br>Speed Drill - Practice- 60 mixed ad
 dition and subtraction facts in 4 minutes.  <br><br>HW: none\n<a href=' ht
 tps://www.pillowacademy.com/apps/classes/1062096/assignments/#hw-11717645'
 >Read more</a>
URL:https://www.pillowacademy.com/apps/classes/1062096/assignments/#hw-1171
 7645
ORGANIZER;CN="Edlio Calendar":MAILTO:noreply@www.pillowacademy.com
DTSTAMP:20260424T130947Z
END:VEVENT
BEGIN:VEVENT
UID:11717647@www.pillowacademy.com#20260424
SEQUENCE:0
CREATED:20260419T131209Z
LAST-MODIFIED:20260419T131209Z
DTSTART;TZID=US/Central:20260424T235800
DTEND;TZID=US/Central:20260424T235900
SUMMARY:Assignment: Math - Thursday - 04/23/26
DESCRIPTION:Test 18 and Skill Drill 96-100<br>Speed Drill - Practice- 60 mi
 xed addition and subtraction facts in 4 minutes.  <br><br>HW:none\n<a href
 =' https://www.pillowacademy.com/apps/classes/1062096/assignments/#hw-1171
 7647'>Read more</a>
URL:https://www.pillowacademy.com/apps/classes/1062096/assignments/#hw-1171
 7647
ORGANIZER;CN="Edlio Calendar":MAILTO:noreply@www.pillowacademy.com
DTSTAMP:20260424T130947Z
END:VEVENT
BEGIN:VEVENT
UID:11722118@www.pillowacademy.com#20260424
SEQUENCE:0
CREATED:20260420T131537Z
LAST-MODIFIED:20260420T131537Z
DTSTART;TZID=US/Central:20260424T235800
DTEND;TZID=US/Central:20260424T235900
SUMMARY:Assignment: Reading- Friday\, 4/24/26
DESCRIPTION:The students will continue reading Charlotte's Web as a class f
 or the next 2 weeks. This is our fourth and final chapter book this year. 
 Each student will receive a packet (book\, questions and vocabulary words)
 . This packet needs to come back to school each day. We will break the boo
 k up into secti\n<a href=' https://www.pillowacademy.com/apps/classes/1062
 096/assignments/#hw-11722118'>Read more</a>
URL:https://www.pillowacademy.com/apps/classes/1062096/assignments/#hw-1172
 2118
ORGANIZER;CN="Edlio Calendar":MAILTO:noreply@www.pillowacademy.com
DTSTAMP:20260424T130947Z
END:VEVENT
BEGIN:VEVENT
UID:11722116@www.pillowacademy.com#20260423
SEQUENCE:0
CREATED:20260420T131537Z
LAST-MODIFIED:20260420T131537Z
DTSTART;TZID=US/Central:20260423T235800
DTEND;TZID=US/Central:20260423T235900
SUMMARY:Assignment: Reading- Thursday\, 4/23/26
DESCRIPTION:The students will continue reading Charlotte's Web as a class f
 or the next 2 weeks. This is our fourth and final chapter book this year. 
 Each student will receive a packet (book\, questions and vocabulary words)
 . This packet needs to come back to school each day. We will break the boo
 k up into secti\n<a href=' https://www.pillowacademy.com/apps/classes/1062
 096/assignments/#hw-11722116'>Read more</a>
URL:https://www.pillowacademy.com/apps/classes/1062096/assignments/#hw-1172
 2116
ORGANIZER;CN="Edlio Calendar":MAILTO:noreply@www.pillowacademy.com
DTSTAMP:20260424T130947Z
END:VEVENT
BEGIN:VEVENT
UID:11745033@www.pillowacademy.com#20260424
SEQUENCE:0
CREATED:20260420T102008Z
LAST-MODIFIED:20260420T102008Z
DTSTART;TZID=US/Central:20260424T235800
DTEND;TZID=US/Central:20260424T235900
SUMMARY:Assignment: Spelling- Friday\, 4/24/26
DESCRIPTION:SkillThe /oo| sound can be spelled oo. look<br>Workbook pages11
 4-117<br>1. Finish any incomplete workbook pages.<br>Homework<br>*None\n<a
  href=' https://www.pillowacademy.com/apps/classes/1062096/assignments/#hw
 -11745033'>Read more</a>
URL:https://www.pillowacademy.com/apps/classes/1062096/assignments/#hw-1174
 5033
ORGANIZER;CN="Edlio Calendar":MAILTO:noreply@www.pillowacademy.com
DTSTAMP:20260424T130947Z
END:VEVENT
BEGIN:VEVENT
UID:11745038@www.pillowacademy.com#20260424
SEQUENCE:0
CREATED:20260420T102034Z
LAST-MODIFIED:20260420T102034Z
DTSTART;TZID=US/Central:20260424T235800
DTEND;TZID=US/Central:20260424T235900
SUMMARY:Assignment: Spelling- Friday\, 4/24/26
DESCRIPTION:Skill- The /oo| sound can be spelled oo. look<br>Workbook pages
  114-117<br><br>1. Finish any incomplete workbook pages.<br><br>Homework<b
 r>*None\n<a href=' https://www.pillowacademy.com/apps/classes/1062096/assi
 gnments/#hw-11745038'>Read more</a>
URL:https://www.pillowacademy.com/apps/classes/1062096/assignments/#hw-1174
 5038
ORGANIZER;CN="Edlio Calendar":MAILTO:noreply@www.pillowacademy.com
DTSTAMP:20260424T130947Z
END:VEVENT
BEGIN:VEVENT
UID:11745035@www.pillowacademy.com#20260423
SEQUENCE:0
CREATED:20260420T102008Z
LAST-MODIFIED:20260420T102008Z
DTSTART;TZID=US/Central:20260423T235800
DTEND;TZID=US/Central:20260423T235900
SUMMARY:Assignment: Spelling- Thursday\, 4/23/26
DESCRIPTION:Skill- The /oo| sound can be spelled oo. look<br>Workbook pages
  114-117<br><br><br>1. Review spelling words.<br>2. Take spelling/dictatio
 n test.<br><br>Homework<br>*None\n<a href=' https://www.pillowacademy.com/
 apps/classes/1062096/assignments/#hw-11745035'>Read more</a>
URL:https://www.pillowacademy.com/apps/classes/1062096/assignments/#hw-1174
 5035
ORGANIZER;CN="Edlio Calendar":MAILTO:noreply@www.pillowacademy.com
DTSTAMP:20260424T130947Z
END:VEVENT
BEGIN:VEVENT
UID:11745040@www.pillowacademy.com#20260423
SEQUENCE:0
CREATED:20260420T102008Z
LAST-MODIFIED:20260420T102008Z
DTSTART;TZID=US/Central:20260423T235800
DTEND;TZID=US/Central:20260423T235900
SUMMARY:Assignment: Spelling- Thursday\, 4/23/26
DESCRIPTION:Skill- The /oo| sound can be spelled oo. look<br>Workbook pages
  114-117<br><br><br>1. Review spelling words.<br>2. Take spelling/dictatio
 n test.<br><br>Homework<br>*None\n<a href=' https://www.pillowacademy.com/
 apps/classes/1062096/assignments/#hw-11745040'>Read more</a>
URL:https://www.pillowacademy.com/apps/classes/1062096/assignments/#hw-1174
 5040
ORGANIZER;CN="Edlio Calendar":MAILTO:noreply@www.pillowacademy.com
DTSTAMP:20260424T130947Z
END:VEVENT
END:VCALENDAR
