BEGIN:VCALENDAR
VERSION:2.0
PRODID:-//Edlio Inc//Edlio Calendar//EN
CALSCALE:GREGORIAN
METHOD:PUBLISH
X-WR-CALNAME:5th Grade Math/Spelling 2025-2026-5A 5B 5C - Pillow Academy
X-ORIGINAL-URL:https://www.pillowacademy.com
X-WR-CALDESC:Events calendar for www.pillowacademy.com
X-WR-TIMEZONE:US/Central
REFRESH-INTERVAL;VALUE=DURATION:PT1H
X-Robots-Tag:noindex
X-PUBLISHED-TTL:PT1H
BEGIN:VTIMEZONE
TZID:US/Central
BEGIN:STANDARD
TZOFFSETFROM:-0500
TZOFFSETTO:-0600
DTSTART:20071104T020000
RRULE:FREQ=YEARLY;BYMONTH=11;BYDAY=1SU
END:STANDARD
BEGIN:DAYLIGHT
TZOFFSETFROM:-0600
TZOFFSETTO:-0500
DTSTART:20070311T020000
RRULE:FREQ=YEARLY;BYMONTH=3;BYDAY=2SU
END:DAYLIGHT
END:VTIMEZONE
BEGIN:VTIMEZONE
TZID:US/East-Indiana
BEGIN:STANDARD
TZOFFSETFROM:-0500
TZOFFSETTO:-0500
DTSTART:19701025T020000
END:STANDARD
END:VTIMEZONE
BEGIN:VTIMEZONE
TZID:US/Eastern
BEGIN:STANDARD
TZOFFSETFROM:-0400
TZOFFSETTO:-0500
DTSTART:19701025T020000
RRULE:FREQ=YEARLY;BYMONTH=10;BYDAY=-1SU;UNTIL=20070311T020000
END:STANDARD
BEGIN:STANDARD
TZOFFSETFROM:-0400
TZOFFSETTO:-0500
DTSTART:20071104T020000
RRULE:FREQ=YEARLY;BYMONTH=11;BYDAY=1SU
END:STANDARD
BEGIN:DAYLIGHT
TZOFFSETFROM:-0500
TZOFFSETTO:-0400
DTSTART:19870405T020000
RRULE:FREQ=YEARLY;BYMONTH=4;BYDAY=1SU;UNTIL=20061029T020000
END:DAYLIGHT
BEGIN:DAYLIGHT
TZOFFSETFROM:-0500
TZOFFSETTO:-0400
DTSTART:20070311T020000
RRULE:FREQ=YEARLY;BYMONTH=3;BYDAY=2SU
END:DAYLIGHT
END:VTIMEZONE
BEGIN:VTIMEZONE
TZID:US/Michigan
BEGIN:STANDARD
TZOFFSETFROM:-0400
TZOFFSETTO:-0500
DTSTART:19701025T020000
RRULE:FREQ=YEARLY;BYMONTH=10;BYDAY=-1SU;UNTIL=20070311T020000
END:STANDARD
BEGIN:STANDARD
TZOFFSETFROM:-0400
TZOFFSETTO:-0500
DTSTART:20071104T020000
RRULE:FREQ=YEARLY;BYMONTH=11;BYDAY=1SU
END:STANDARD
BEGIN:DAYLIGHT
TZOFFSETFROM:-0500
TZOFFSETTO:-0400
DTSTART:19870405T020000
RRULE:FREQ=YEARLY;BYMONTH=4;BYDAY=1SU;UNTIL=20061029T020000
END:DAYLIGHT
BEGIN:DAYLIGHT
TZOFFSETFROM:-0500
TZOFFSETTO:-0400
DTSTART:20070311T020000
RRULE:FREQ=YEARLY;BYMONTH=3;BYDAY=2SU
END:DAYLIGHT
END:VTIMEZONE
BEGIN:VTIMEZONE
TZID:US/Central
BEGIN:STANDARD
TZOFFSETFROM:-0500
TZOFFSETTO:-0600
DTSTART:19701025T020000
RRULE:FREQ=YEARLY;BYMONTH=10;BYDAY=-1SU;UNTIL=20070311T020000
END:STANDARD
BEGIN:STANDARD
TZOFFSETFROM:-0500
TZOFFSETTO:-0600
DTSTART:20071104T020000
RRULE:FREQ=YEARLY;BYMONTH=11;BYDAY=1SU
END:STANDARD
BEGIN:DAYLIGHT
TZOFFSETFROM:-0600
TZOFFSETTO:-0500
DTSTART:19870405T020000
RRULE:FREQ=YEARLY;BYMONTH=4;BYDAY=1SU;UNTIL=20061029T020000
END:DAYLIGHT
BEGIN:DAYLIGHT
TZOFFSETFROM:-0600
TZOFFSETTO:-0500
DTSTART:20070311T020000
RRULE:FREQ=YEARLY;BYMONTH=3;BYDAY=2SU
END:DAYLIGHT
END:VTIMEZONE
BEGIN:VTIMEZONE
TZID:US/Mountain
BEGIN:STANDARD
TZOFFSETFROM:-0600
TZOFFSETTO:-0700
DTSTART:19701025T020000
RRULE:FREQ=YEARLY;BYMONTH=10;BYDAY=-1SU;UNTIL=20070311T020000
END:STANDARD
BEGIN:STANDARD
TZOFFSETFROM:-0600
TZOFFSETTO:-0700
DTSTART:20071104T020000
RRULE:FREQ=YEARLY;BYMONTH=11;BYDAY=1SU
END:STANDARD
BEGIN:DAYLIGHT
TZOFFSETFROM:-0700
TZOFFSETTO:-0600
DTSTART:19870405T020000
RRULE:FREQ=YEARLY;BYMONTH=4;BYDAY=1SU;UNTIL=20061029T020000
END:DAYLIGHT
BEGIN:DAYLIGHT
TZOFFSETFROM:-0700
TZOFFSETTO:-0600
DTSTART:20070311T020000
RRULE:FREQ=YEARLY;BYMONTH=3;BYDAY=2SU
END:DAYLIGHT
END:VTIMEZONE
BEGIN:VTIMEZONE
TZID:US/Arizona
BEGIN:STANDARD
TZOFFSETFROM:-0700
TZOFFSETTO:-0700
DTSTART:19701025T020000
END:STANDARD
END:VTIMEZONE
BEGIN:VTIMEZONE
TZID:US/Pacific
BEGIN:STANDARD
TZOFFSETFROM:-0700
TZOFFSETTO:-0800
DTSTART:19701025T020000
RRULE:FREQ=YEARLY;BYMONTH=10;BYDAY=-1SU;UNTIL=20070311T020000
END:STANDARD
BEGIN:STANDARD
TZOFFSETFROM:-0700
TZOFFSETTO:-0800
DTSTART:20071104T020000
RRULE:FREQ=YEARLY;BYMONTH=11;BYDAY=1SU
END:STANDARD
BEGIN:DAYLIGHT
TZOFFSETFROM:-0800
TZOFFSETTO:-0700
DTSTART:19870405T020000
RRULE:FREQ=YEARLY;BYMONTH=4;BYDAY=1SU;UNTIL=20061029T020000
END:DAYLIGHT
BEGIN:DAYLIGHT
TZOFFSETFROM:-0800
TZOFFSETTO:-0700
DTSTART:20070311T020000
RRULE:FREQ=YEARLY;BYMONTH=3;BYDAY=2SU
END:DAYLIGHT
END:VTIMEZONE
BEGIN:VTIMEZONE
TZID:US/Alaska
BEGIN:STANDARD
TZOFFSETFROM:-0800
TZOFFSETTO:-0900
DTSTART:19701025T020000
RRULE:FREQ=YEARLY;BYMONTH=10;BYDAY=-1SU;UNTIL=20070311T020000
END:STANDARD
BEGIN:STANDARD
TZOFFSETFROM:-0800
TZOFFSETTO:-0900
DTSTART:20071104T020000
RRULE:FREQ=YEARLY;BYMONTH=11;BYDAY=1SU
END:STANDARD
BEGIN:DAYLIGHT
TZOFFSETFROM:-0900
TZOFFSETTO:-0800
DTSTART:19870405T020000
RRULE:FREQ=YEARLY;BYMONTH=4;BYDAY=1SU;UNTIL=20061029T020000
END:DAYLIGHT
BEGIN:DAYLIGHT
TZOFFSETFROM:-0900
TZOFFSETTO:-0800
DTSTART:20070311T020000
RRULE:FREQ=YEARLY;BYMONTH=3;BYDAY=2SU
END:DAYLIGHT
END:VTIMEZONE
BEGIN:VTIMEZONE
TZID:US/Hawaii
BEGIN:STANDARD
TZOFFSETFROM:-1000
TZOFFSETTO:-1000
DTSTART:19701025T020000
END:STANDARD
END:VTIMEZONE
BEGIN:VTIMEZONE
TZID:US/Aleutian
BEGIN:STANDARD
TZOFFSETFROM:-1000
TZOFFSETTO:-1000
DTSTART:19701025T020000
END:STANDARD
END:VTIMEZONE
BEGIN:VTIMEZONE
TZID:US/Samoa
BEGIN:STANDARD
TZOFFSETFROM:-1100
TZOFFSETTO:-1100
DTSTART:19701025T020000
END:STANDARD
END:VTIMEZONE
BEGIN:VEVENT
UID:11735734@www.pillowacademy.com#20260424
SEQUENCE:0
CREATED:20260420T030339Z
LAST-MODIFIED:20260420T030339Z
DTSTART;TZID=US/Central:20260424T235800
DTEND;TZID=US/Central:20260424T235900
SUMMARY:Assignment: Friday\, April 24th 
DESCRIPTION:Math Test <br>Spelling Test\n<a href=' https://www.pillowacadem
 y.com/apps/classes/1062453/assignments/#hw-11735734'>Read more</a>
URL:https://www.pillowacademy.com/apps/classes/1062453/assignments/#hw-1173
 5734
ORGANIZER;CN="Edlio Calendar":MAILTO:noreply@www.pillowacademy.com
DTSTAMP:20260422T123351Z
END:VEVENT
BEGIN:VEVENT
UID:11735735@www.pillowacademy.com#20260424
SEQUENCE:0
CREATED:20260420T030339Z
LAST-MODIFIED:20260420T030339Z
DTSTART;TZID=US/Central:20260424T235800
DTEND;TZID=US/Central:20260424T235900
SUMMARY:Assignment: Friday\, April 24th 
DESCRIPTION:Math Test <br>Spelling Test\n<a href=' https://www.pillowacadem
 y.com/apps/classes/1062453/assignments/#hw-11735735'>Read more</a>
URL:https://www.pillowacademy.com/apps/classes/1062453/assignments/#hw-1173
 5735
ORGANIZER;CN="Edlio Calendar":MAILTO:noreply@www.pillowacademy.com
DTSTAMP:20260422T123351Z
END:VEVENT
BEGIN:VEVENT
UID:11735737@www.pillowacademy.com#20260424
SEQUENCE:0
CREATED:20260420T030340Z
LAST-MODIFIED:20260420T030340Z
DTSTART;TZID=US/Central:20260424T235800
DTEND;TZID=US/Central:20260424T235900
SUMMARY:Assignment: Friday\, April 24th 
DESCRIPTION:Math Test <br>Spelling Test\n<a href=' https://www.pillowacadem
 y.com/apps/classes/1062453/assignments/#hw-11735737'>Read more</a>
URL:https://www.pillowacademy.com/apps/classes/1062453/assignments/#hw-1173
 5737
ORGANIZER;CN="Edlio Calendar":MAILTO:noreply@www.pillowacademy.com
DTSTAMP:20260422T123351Z
END:VEVENT
BEGIN:VEVENT
UID:11735732@www.pillowacademy.com#20260423
SEQUENCE:0
CREATED:20260420T030339Z
LAST-MODIFIED:20260420T030339Z
DTSTART;TZID=US/Central:20260423T235800
DTEND;TZID=US/Central:20260423T235900
SUMMARY:Assignment: Thursday\, April 23rd
DESCRIPTION:Complete the division of fractions review on pg. 235 to help re
 view for the test tomorrow. Check together on the smartboard. <br>Speed Dr
 ill for a daily grade ( 3 minutes) <br><br>Homework: study for math a test
  tomorrow on lesson 127-129 and a spelling test on lesson 27<br>\n<a href=
 ' https://www.pillowacademy.com/apps/classes/1062453/assignments/#hw-11735
 732'>Read more</a>
URL:https://www.pillowacademy.com/apps/classes/1062453/assignments/#hw-1173
 5732
ORGANIZER;CN="Edlio Calendar":MAILTO:noreply@www.pillowacademy.com
DTSTAMP:20260422T123351Z
END:VEVENT
BEGIN:VEVENT
UID:11735733@www.pillowacademy.com#20260423
SEQUENCE:0
CREATED:20260420T030339Z
LAST-MODIFIED:20260420T030339Z
DTSTART;TZID=US/Central:20260423T235800
DTEND;TZID=US/Central:20260423T235900
SUMMARY:Assignment: Thursday\, April 23rd
DESCRIPTION:Complete the division of fractions review on pg. 235 to help re
 view for the test tomorrow. Check together on the smartboard. <br>Speed Dr
 ill for a daily grade ( 3 minutes) <br><br>Homework: study for math a test
  tomorrow on lesson 127-129 and a spelling test on lesson 27<br>\n<a href=
 ' https://www.pillowacademy.com/apps/classes/1062453/assignments/#hw-11735
 733'>Read more</a>
URL:https://www.pillowacademy.com/apps/classes/1062453/assignments/#hw-1173
 5733
ORGANIZER;CN="Edlio Calendar":MAILTO:noreply@www.pillowacademy.com
DTSTAMP:20260422T123351Z
END:VEVENT
BEGIN:VEVENT
UID:11735736@www.pillowacademy.com#20260423
SEQUENCE:0
CREATED:20260420T030340Z
LAST-MODIFIED:20260420T030340Z
DTSTART;TZID=US/Central:20260423T235800
DTEND;TZID=US/Central:20260423T235900
SUMMARY:Assignment: Thursday\, April 23rd
DESCRIPTION:Complete the division of fractions review on pg. 235 to help re
 view for the test tomorrow. Check together on the smartboard. <br>Speed Dr
 ill for a daily grade ( 3 minutes) <br><br>Homework: study for math a test
  tomorrow on lesson 127-129 and a spelling test on lesson 27<br>\n<a href=
 ' https://www.pillowacademy.com/apps/classes/1062453/assignments/#hw-11735
 736'>Read more</a>
URL:https://www.pillowacademy.com/apps/classes/1062453/assignments/#hw-1173
 5736
ORGANIZER;CN="Edlio Calendar":MAILTO:noreply@www.pillowacademy.com
DTSTAMP:20260422T123351Z
END:VEVENT
BEGIN:VEVENT
UID:11735728@www.pillowacademy.com#20260421
SEQUENCE:0
CREATED:20260420T030339Z
LAST-MODIFIED:20260420T030339Z
DTSTART;TZID=US/Central:20260421T235800
DTEND;TZID=US/Central:20260421T235900
SUMMARY:Assignment: Tuesday\, April 21st
DESCRIPTION:Lesson 128 Dividing Fractions by whole number. Work pg. 231 tog
 ether<br>Students will work pg. 232 independently <br><br>Homework: pg. 37
 4 Lesson 126 Work on notebook paper. Write out the problems. SKIP #'s 10 a
 nd 11\n<a href=' https://www.pillowacademy.com/apps/classes/1062453/assign
 ments/#hw-11735728'>Read more</a>
URL:https://www.pillowacademy.com/apps/classes/1062453/assignments/#hw-1173
 5728
ORGANIZER;CN="Edlio Calendar":MAILTO:noreply@www.pillowacademy.com
DTSTAMP:20260422T123351Z
END:VEVENT
BEGIN:VEVENT
UID:11735729@www.pillowacademy.com#20260421
SEQUENCE:0
CREATED:20260420T030339Z
LAST-MODIFIED:20260420T030339Z
DTSTART;TZID=US/Central:20260421T235800
DTEND;TZID=US/Central:20260421T235900
SUMMARY:Assignment: Tuesday\, April 21st
DESCRIPTION:Lesson 128 Dividing Fractions by whole number. Work pg. 231 tog
 ether<br>Students will work pg. 232 independently <br><br>Homework: pg. 37
 4 Lesson 126 Work on notebook paper. Write out the problems. SKIP #'s 10 a
 nd 11\n<a href=' https://www.pillowacademy.com/apps/classes/1062453/assign
 ments/#hw-11735729'>Read more</a>
URL:https://www.pillowacademy.com/apps/classes/1062453/assignments/#hw-1173
 5729
ORGANIZER;CN="Edlio Calendar":MAILTO:noreply@www.pillowacademy.com
DTSTAMP:20260422T123351Z
END:VEVENT
BEGIN:VEVENT
UID:11735730@www.pillowacademy.com#20260422
SEQUENCE:0
CREATED:20260420T030339Z
LAST-MODIFIED:20260420T030339Z
DTSTART;TZID=US/Central:20260422T235800
DTEND;TZID=US/Central:20260422T235900
SUMMARY:Assignment: Wednesday\, April 22nd
DESCRIPTION:Lesson 129 Dividing by a mixed number - Work pg. 233 together. 
 <br>Students will work pg. 234 independently <br><br>\n<a href=' https://w
 ww.pillowacademy.com/apps/classes/1062453/assignments/#hw-11735730'>Read m
 ore</a>
URL:https://www.pillowacademy.com/apps/classes/1062453/assignments/#hw-1173
 5730
ORGANIZER;CN="Edlio Calendar":MAILTO:noreply@www.pillowacademy.com
DTSTAMP:20260422T123351Z
END:VEVENT
BEGIN:VEVENT
UID:11735731@www.pillowacademy.com#20260422
SEQUENCE:0
CREATED:20260420T030339Z
LAST-MODIFIED:20260420T030339Z
DTSTART;TZID=US/Central:20260422T235800
DTEND;TZID=US/Central:20260422T235900
SUMMARY:Assignment: Wednesday\, April 22nd
DESCRIPTION:Lesson 129 Dividing by a mixed number - Work pg. 233 together. 
 <br>Students will work pg. 234 independently <br><br>\n<a href=' https://w
 ww.pillowacademy.com/apps/classes/1062453/assignments/#hw-11735731'>Read m
 ore</a>
URL:https://www.pillowacademy.com/apps/classes/1062453/assignments/#hw-1173
 5731
ORGANIZER;CN="Edlio Calendar":MAILTO:noreply@www.pillowacademy.com
DTSTAMP:20260422T123351Z
END:VEVENT
END:VCALENDAR
