BEGIN:VCALENDAR
VERSION:2.0
PRODID:-//Edlio Inc//Edlio Calendar//EN
CALSCALE:GREGORIAN
METHOD:PUBLISH
X-WR-CALNAME:Donna Wilson-3rd Period/ American History - Pillow Academy
X-ORIGINAL-URL:https://www.pillowacademy.com
X-WR-CALDESC:Events calendar for www.pillowacademy.com
X-WR-TIMEZONE:US/Central
REFRESH-INTERVAL;VALUE=DURATION:PT1H
X-Robots-Tag:noindex
X-PUBLISHED-TTL:PT1H
BEGIN:VTIMEZONE
TZID:US/Central
BEGIN:STANDARD
TZOFFSETFROM:-0500
TZOFFSETTO:-0600
DTSTART:20071104T020000
RRULE:FREQ=YEARLY;BYMONTH=11;BYDAY=1SU
END:STANDARD
BEGIN:DAYLIGHT
TZOFFSETFROM:-0600
TZOFFSETTO:-0500
DTSTART:20070311T020000
RRULE:FREQ=YEARLY;BYMONTH=3;BYDAY=2SU
END:DAYLIGHT
END:VTIMEZONE
BEGIN:VTIMEZONE
TZID:US/East-Indiana
BEGIN:STANDARD
TZOFFSETFROM:-0500
TZOFFSETTO:-0500
DTSTART:19701025T020000
END:STANDARD
END:VTIMEZONE
BEGIN:VTIMEZONE
TZID:US/Eastern
BEGIN:STANDARD
TZOFFSETFROM:-0400
TZOFFSETTO:-0500
DTSTART:19701025T020000
RRULE:FREQ=YEARLY;BYMONTH=10;BYDAY=-1SU;UNTIL=20070311T020000
END:STANDARD
BEGIN:STANDARD
TZOFFSETFROM:-0400
TZOFFSETTO:-0500
DTSTART:20071104T020000
RRULE:FREQ=YEARLY;BYMONTH=11;BYDAY=1SU
END:STANDARD
BEGIN:DAYLIGHT
TZOFFSETFROM:-0500
TZOFFSETTO:-0400
DTSTART:19870405T020000
RRULE:FREQ=YEARLY;BYMONTH=4;BYDAY=1SU;UNTIL=20061029T020000
END:DAYLIGHT
BEGIN:DAYLIGHT
TZOFFSETFROM:-0500
TZOFFSETTO:-0400
DTSTART:20070311T020000
RRULE:FREQ=YEARLY;BYMONTH=3;BYDAY=2SU
END:DAYLIGHT
END:VTIMEZONE
BEGIN:VTIMEZONE
TZID:US/Michigan
BEGIN:STANDARD
TZOFFSETFROM:-0400
TZOFFSETTO:-0500
DTSTART:19701025T020000
RRULE:FREQ=YEARLY;BYMONTH=10;BYDAY=-1SU;UNTIL=20070311T020000
END:STANDARD
BEGIN:STANDARD
TZOFFSETFROM:-0400
TZOFFSETTO:-0500
DTSTART:20071104T020000
RRULE:FREQ=YEARLY;BYMONTH=11;BYDAY=1SU
END:STANDARD
BEGIN:DAYLIGHT
TZOFFSETFROM:-0500
TZOFFSETTO:-0400
DTSTART:19870405T020000
RRULE:FREQ=YEARLY;BYMONTH=4;BYDAY=1SU;UNTIL=20061029T020000
END:DAYLIGHT
BEGIN:DAYLIGHT
TZOFFSETFROM:-0500
TZOFFSETTO:-0400
DTSTART:20070311T020000
RRULE:FREQ=YEARLY;BYMONTH=3;BYDAY=2SU
END:DAYLIGHT
END:VTIMEZONE
BEGIN:VTIMEZONE
TZID:US/Central
BEGIN:STANDARD
TZOFFSETFROM:-0500
TZOFFSETTO:-0600
DTSTART:19701025T020000
RRULE:FREQ=YEARLY;BYMONTH=10;BYDAY=-1SU;UNTIL=20070311T020000
END:STANDARD
BEGIN:STANDARD
TZOFFSETFROM:-0500
TZOFFSETTO:-0600
DTSTART:20071104T020000
RRULE:FREQ=YEARLY;BYMONTH=11;BYDAY=1SU
END:STANDARD
BEGIN:DAYLIGHT
TZOFFSETFROM:-0600
TZOFFSETTO:-0500
DTSTART:19870405T020000
RRULE:FREQ=YEARLY;BYMONTH=4;BYDAY=1SU;UNTIL=20061029T020000
END:DAYLIGHT
BEGIN:DAYLIGHT
TZOFFSETFROM:-0600
TZOFFSETTO:-0500
DTSTART:20070311T020000
RRULE:FREQ=YEARLY;BYMONTH=3;BYDAY=2SU
END:DAYLIGHT
END:VTIMEZONE
BEGIN:VTIMEZONE
TZID:US/Mountain
BEGIN:STANDARD
TZOFFSETFROM:-0600
TZOFFSETTO:-0700
DTSTART:19701025T020000
RRULE:FREQ=YEARLY;BYMONTH=10;BYDAY=-1SU;UNTIL=20070311T020000
END:STANDARD
BEGIN:STANDARD
TZOFFSETFROM:-0600
TZOFFSETTO:-0700
DTSTART:20071104T020000
RRULE:FREQ=YEARLY;BYMONTH=11;BYDAY=1SU
END:STANDARD
BEGIN:DAYLIGHT
TZOFFSETFROM:-0700
TZOFFSETTO:-0600
DTSTART:19870405T020000
RRULE:FREQ=YEARLY;BYMONTH=4;BYDAY=1SU;UNTIL=20061029T020000
END:DAYLIGHT
BEGIN:DAYLIGHT
TZOFFSETFROM:-0700
TZOFFSETTO:-0600
DTSTART:20070311T020000
RRULE:FREQ=YEARLY;BYMONTH=3;BYDAY=2SU
END:DAYLIGHT
END:VTIMEZONE
BEGIN:VTIMEZONE
TZID:US/Arizona
BEGIN:STANDARD
TZOFFSETFROM:-0700
TZOFFSETTO:-0700
DTSTART:19701025T020000
END:STANDARD
END:VTIMEZONE
BEGIN:VTIMEZONE
TZID:US/Pacific
BEGIN:STANDARD
TZOFFSETFROM:-0700
TZOFFSETTO:-0800
DTSTART:19701025T020000
RRULE:FREQ=YEARLY;BYMONTH=10;BYDAY=-1SU;UNTIL=20070311T020000
END:STANDARD
BEGIN:STANDARD
TZOFFSETFROM:-0700
TZOFFSETTO:-0800
DTSTART:20071104T020000
RRULE:FREQ=YEARLY;BYMONTH=11;BYDAY=1SU
END:STANDARD
BEGIN:DAYLIGHT
TZOFFSETFROM:-0800
TZOFFSETTO:-0700
DTSTART:19870405T020000
RRULE:FREQ=YEARLY;BYMONTH=4;BYDAY=1SU;UNTIL=20061029T020000
END:DAYLIGHT
BEGIN:DAYLIGHT
TZOFFSETFROM:-0800
TZOFFSETTO:-0700
DTSTART:20070311T020000
RRULE:FREQ=YEARLY;BYMONTH=3;BYDAY=2SU
END:DAYLIGHT
END:VTIMEZONE
BEGIN:VTIMEZONE
TZID:US/Alaska
BEGIN:STANDARD
TZOFFSETFROM:-0800
TZOFFSETTO:-0900
DTSTART:19701025T020000
RRULE:FREQ=YEARLY;BYMONTH=10;BYDAY=-1SU;UNTIL=20070311T020000
END:STANDARD
BEGIN:STANDARD
TZOFFSETFROM:-0800
TZOFFSETTO:-0900
DTSTART:20071104T020000
RRULE:FREQ=YEARLY;BYMONTH=11;BYDAY=1SU
END:STANDARD
BEGIN:DAYLIGHT
TZOFFSETFROM:-0900
TZOFFSETTO:-0800
DTSTART:19870405T020000
RRULE:FREQ=YEARLY;BYMONTH=4;BYDAY=1SU;UNTIL=20061029T020000
END:DAYLIGHT
BEGIN:DAYLIGHT
TZOFFSETFROM:-0900
TZOFFSETTO:-0800
DTSTART:20070311T020000
RRULE:FREQ=YEARLY;BYMONTH=3;BYDAY=2SU
END:DAYLIGHT
END:VTIMEZONE
BEGIN:VTIMEZONE
TZID:US/Hawaii
BEGIN:STANDARD
TZOFFSETFROM:-1000
TZOFFSETTO:-1000
DTSTART:19701025T020000
END:STANDARD
END:VTIMEZONE
BEGIN:VTIMEZONE
TZID:US/Aleutian
BEGIN:STANDARD
TZOFFSETFROM:-1000
TZOFFSETTO:-1000
DTSTART:19701025T020000
END:STANDARD
END:VTIMEZONE
BEGIN:VTIMEZONE
TZID:US/Samoa
BEGIN:STANDARD
TZOFFSETFROM:-1100
TZOFFSETTO:-1100
DTSTART:19701025T020000
END:STANDARD
END:VTIMEZONE
BEGIN:VEVENT
UID:11110417@www.pillowacademy.com#20270203
SEQUENCE:0
CREATED:20260302T071214Z
LAST-MODIFIED:20260302T071214Z
DTSTART;TZID=US/Central:20270203T121200
DTEND;TZID=US/Central:20270203T121300
SUMMARY:Assignment: Indian Review
DESCRIPTION:Click on the link below to start the game\n<a href=' https://ww
 w.pillowacademy.com/apps/classes/1062461/assignments/#hw-11110417'>Read mo
 re</a>
URL:https://www.pillowacademy.com/apps/classes/1062461/assignments/#hw-1111
 0417
ORGANIZER;CN="Edlio Calendar":MAILTO:noreply@www.pillowacademy.com
DTSTAMP:20260424T130257Z
END:VEVENT
BEGIN:VEVENT
UID:11110438@www.pillowacademy.com#20270203
SEQUENCE:0
CREATED:20260302T071214Z
LAST-MODIFIED:20260302T071214Z
DTSTART;TZID=US/Central:20270203T121200
DTEND;TZID=US/Central:20270203T121300
SUMMARY:Assignment: Indian Review
DESCRIPTION:Click on the link below to start the game\n<a href=' https://ww
 w.pillowacademy.com/apps/classes/1062461/assignments/#hw-11110438'>Read mo
 re</a>
URL:https://www.pillowacademy.com/apps/classes/1062461/assignments/#hw-1111
 0438
ORGANIZER;CN="Edlio Calendar":MAILTO:noreply@www.pillowacademy.com
DTSTAMP:20260424T130257Z
END:VEVENT
BEGIN:VEVENT
UID:11110443@www.pillowacademy.com#20270203
SEQUENCE:0
CREATED:20260302T071215Z
LAST-MODIFIED:20260302T071215Z
DTSTART;TZID=US/Central:20270203T121200
DTEND;TZID=US/Central:20270203T121300
SUMMARY:Assignment: Indian Review
DESCRIPTION:Click on the link below to start the game\n<a href=' https://ww
 w.pillowacademy.com/apps/classes/1062461/assignments/#hw-11110443'>Read mo
 re</a>
URL:https://www.pillowacademy.com/apps/classes/1062461/assignments/#hw-1111
 0443
ORGANIZER;CN="Edlio Calendar":MAILTO:noreply@www.pillowacademy.com
DTSTAMP:20260424T130257Z
END:VEVENT
BEGIN:VEVENT
UID:11110461@www.pillowacademy.com#20270203
SEQUENCE:0
CREATED:20260302T071215Z
LAST-MODIFIED:20260302T071215Z
DTSTART;TZID=US/Central:20270203T121200
DTEND;TZID=US/Central:20270203T121300
SUMMARY:Assignment: Indian Review
DESCRIPTION:Click on the link below to start the game\n<a href=' https://ww
 w.pillowacademy.com/apps/classes/1062461/assignments/#hw-11110461'>Read mo
 re</a>
URL:https://www.pillowacademy.com/apps/classes/1062461/assignments/#hw-1111
 0461
ORGANIZER;CN="Edlio Calendar":MAILTO:noreply@www.pillowacademy.com
DTSTAMP:20260424T130257Z
END:VEVENT
BEGIN:VEVENT
UID:11110441@www.pillowacademy.com#20270203
SEQUENCE:0
CREATED:20260302T071215Z
LAST-MODIFIED:20260302T071215Z
DTSTART;TZID=US/Central:20270203T121200
DTEND;TZID=US/Central:20270203T121300
SUMMARY:Assignment: vocabulary review
DESCRIPTION:Click on the link below to start the game\n<a href=' https://ww
 w.pillowacademy.com/apps/classes/1062461/assignments/#hw-11110441'>Read mo
 re</a>
URL:https://www.pillowacademy.com/apps/classes/1062461/assignments/#hw-1111
 0441
ORGANIZER;CN="Edlio Calendar":MAILTO:noreply@www.pillowacademy.com
DTSTAMP:20260424T130257Z
END:VEVENT
BEGIN:VEVENT
UID:11110459@www.pillowacademy.com#20270203
SEQUENCE:0
CREATED:20260302T071215Z
LAST-MODIFIED:20260302T071215Z
DTSTART;TZID=US/Central:20270203T121200
DTEND;TZID=US/Central:20270203T121300
SUMMARY:Assignment: vocabulary review
DESCRIPTION:Click on the link below to start the game\n<a href=' https://ww
 w.pillowacademy.com/apps/classes/1062461/assignments/#hw-11110459'>Read mo
 re</a>
URL:https://www.pillowacademy.com/apps/classes/1062461/assignments/#hw-1111
 0459
ORGANIZER;CN="Edlio Calendar":MAILTO:noreply@www.pillowacademy.com
DTSTAMP:20260424T130257Z
END:VEVENT
BEGIN:VEVENT
UID:11110463@www.pillowacademy.com#20270203
SEQUENCE:0
CREATED:20260302T071215Z
LAST-MODIFIED:20260302T071215Z
DTSTART;TZID=US/Central:20270203T121200
DTEND;TZID=US/Central:20270203T121300
SUMMARY:Assignment: vocabulary review
DESCRIPTION:Click on the link below to start the game\n<a href=' https://ww
 w.pillowacademy.com/apps/classes/1062461/assignments/#hw-11110463'>Read mo
 re</a>
URL:https://www.pillowacademy.com/apps/classes/1062461/assignments/#hw-1111
 0463
ORGANIZER;CN="Edlio Calendar":MAILTO:noreply@www.pillowacademy.com
DTSTAMP:20260424T130257Z
END:VEVENT
BEGIN:VEVENT
UID:11110472@www.pillowacademy.com#20270203
SEQUENCE:0
CREATED:20260302T071215Z
LAST-MODIFIED:20260302T071215Z
DTSTART;TZID=US/Central:20270203T121200
DTEND;TZID=US/Central:20270203T121300
SUMMARY:Assignment: vocabulary review
DESCRIPTION:Click on the link below to start the game\n<a href=' https://ww
 w.pillowacademy.com/apps/classes/1062461/assignments/#hw-11110472'>Read mo
 re</a>
URL:https://www.pillowacademy.com/apps/classes/1062461/assignments/#hw-1111
 0472
ORGANIZER;CN="Edlio Calendar":MAILTO:noreply@www.pillowacademy.com
DTSTAMP:20260424T130257Z
END:VEVENT
BEGIN:VEVENT
UID:11110421@www.pillowacademy.com#20270131
SEQUENCE:0
CREATED:20260302T071214Z
LAST-MODIFIED:20260302T071214Z
DTSTART;TZID=US/Central:20270131T171400
DTEND;TZID=US/Central:20270131T171500
SUMMARY:Assignment: Quizizz Indian Review for Test
DESCRIPTION:Click on the link below to start the game\n<a href=' https://ww
 w.pillowacademy.com/apps/classes/1062461/assignments/#hw-11110421'>Read mo
 re</a>
URL:https://www.pillowacademy.com/apps/classes/1062461/assignments/#hw-1111
 0421
ORGANIZER;CN="Edlio Calendar":MAILTO:noreply@www.pillowacademy.com
DTSTAMP:20260424T130257Z
END:VEVENT
BEGIN:VEVENT
UID:11110442@www.pillowacademy.com#20270131
SEQUENCE:0
CREATED:20260302T071215Z
LAST-MODIFIED:20260302T071215Z
DTSTART;TZID=US/Central:20270131T171400
DTEND;TZID=US/Central:20270131T171500
SUMMARY:Assignment: Quizizz Indian Review for Test
DESCRIPTION:Click on the link below to start the game\n<a href=' https://ww
 w.pillowacademy.com/apps/classes/1062461/assignments/#hw-11110442'>Read mo
 re</a>
URL:https://www.pillowacademy.com/apps/classes/1062461/assignments/#hw-1111
 0442
ORGANIZER;CN="Edlio Calendar":MAILTO:noreply@www.pillowacademy.com
DTSTAMP:20260424T130257Z
END:VEVENT
BEGIN:VEVENT
UID:11110447@www.pillowacademy.com#20270131
SEQUENCE:0
CREATED:20260302T071215Z
LAST-MODIFIED:20260302T071215Z
DTSTART;TZID=US/Central:20270131T171400
DTEND;TZID=US/Central:20270131T171500
SUMMARY:Assignment: Quizizz Indian Review for Test
DESCRIPTION:Click on the link below to start the game\n<a href=' https://ww
 w.pillowacademy.com/apps/classes/1062461/assignments/#hw-11110447'>Read mo
 re</a>
URL:https://www.pillowacademy.com/apps/classes/1062461/assignments/#hw-1111
 0447
ORGANIZER;CN="Edlio Calendar":MAILTO:noreply@www.pillowacademy.com
DTSTAMP:20260424T130257Z
END:VEVENT
BEGIN:VEVENT
UID:11110464@www.pillowacademy.com#20270131
SEQUENCE:0
CREATED:20260302T071215Z
LAST-MODIFIED:20260302T071215Z
DTSTART;TZID=US/Central:20270131T171400
DTEND;TZID=US/Central:20270131T171500
SUMMARY:Assignment: Quizizz Indian Review for Test
DESCRIPTION:Click on the link below to start the game\n<a href=' https://ww
 w.pillowacademy.com/apps/classes/1062461/assignments/#hw-11110464'>Read mo
 re</a>
URL:https://www.pillowacademy.com/apps/classes/1062461/assignments/#hw-1111
 0464
ORGANIZER;CN="Edlio Calendar":MAILTO:noreply@www.pillowacademy.com
DTSTAMP:20260424T130257Z
END:VEVENT
BEGIN:VEVENT
UID:11110270@www.pillowacademy.com#20270131
SEQUENCE:0
CREATED:20260302T071212Z
LAST-MODIFIED:20260302T071212Z
DTSTART;TZID=US/Central:20270131T182900
DTEND;TZID=US/Central:20270131T183000
SUMMARY:Assignment: Indian Vocabulary/Quizizz
DESCRIPTION:Click on the link below to start the game\n<a href=' https://ww
 w.pillowacademy.com/apps/classes/1062461/assignments/#hw-11110270'>Read mo
 re</a>
URL:https://www.pillowacademy.com/apps/classes/1062461/assignments/#hw-1111
 0270
ORGANIZER;CN="Edlio Calendar":MAILTO:noreply@www.pillowacademy.com
DTSTAMP:20260424T130257Z
END:VEVENT
BEGIN:VEVENT
UID:11110282@www.pillowacademy.com#20270131
SEQUENCE:0
CREATED:20260302T071212Z
LAST-MODIFIED:20260302T071212Z
DTSTART;TZID=US/Central:20270131T182900
DTEND;TZID=US/Central:20270131T183000
SUMMARY:Assignment: Indian Vocabulary/Quizizz
DESCRIPTION:Click on the link below to start the game\n<a href=' https://ww
 w.pillowacademy.com/apps/classes/1062461/assignments/#hw-11110282'>Read mo
 re</a>
URL:https://www.pillowacademy.com/apps/classes/1062461/assignments/#hw-1111
 0282
ORGANIZER;CN="Edlio Calendar":MAILTO:noreply@www.pillowacademy.com
DTSTAMP:20260424T130257Z
END:VEVENT
BEGIN:VEVENT
UID:11110290@www.pillowacademy.com#20270131
SEQUENCE:0
CREATED:20260302T071212Z
LAST-MODIFIED:20260302T071212Z
DTSTART;TZID=US/Central:20270131T182900
DTEND;TZID=US/Central:20270131T183000
SUMMARY:Assignment: Indian Vocabulary/Quizizz
DESCRIPTION:Click on the link below to start the game\n<a href=' https://ww
 w.pillowacademy.com/apps/classes/1062461/assignments/#hw-11110290'>Read mo
 re</a>
URL:https://www.pillowacademy.com/apps/classes/1062461/assignments/#hw-1111
 0290
ORGANIZER;CN="Edlio Calendar":MAILTO:noreply@www.pillowacademy.com
DTSTAMP:20260424T130257Z
END:VEVENT
BEGIN:VEVENT
UID:11110313@www.pillowacademy.com#20270131
SEQUENCE:0
CREATED:20260302T071213Z
LAST-MODIFIED:20260302T071213Z
DTSTART;TZID=US/Central:20270131T182900
DTEND;TZID=US/Central:20270131T183000
SUMMARY:Assignment: Indian Vocabulary/Quizizz
DESCRIPTION:Click on the link below to start the game\n<a href=' https://ww
 w.pillowacademy.com/apps/classes/1062461/assignments/#hw-11110313'>Read mo
 re</a>
URL:https://www.pillowacademy.com/apps/classes/1062461/assignments/#hw-1111
 0313
ORGANIZER;CN="Edlio Calendar":MAILTO:noreply@www.pillowacademy.com
DTSTAMP:20260424T130257Z
END:VEVENT
END:VCALENDAR
