BEGIN:VCALENDAR
VERSION:2.0
PRODID:-//Edlio Inc//Edlio Calendar//EN
CALSCALE:GREGORIAN
METHOD:PUBLISH
X-WR-CALNAME:5th Grade Reading - Pillow Academy
X-ORIGINAL-URL:https://www.pillowacademy.com
X-WR-CALDESC:Events calendar for www.pillowacademy.com
X-WR-TIMEZONE:US/Central
REFRESH-INTERVAL;VALUE=DURATION:PT1H
X-Robots-Tag:noindex
X-PUBLISHED-TTL:PT1H
BEGIN:VTIMEZONE
TZID:US/Central
BEGIN:STANDARD
TZOFFSETFROM:-0500
TZOFFSETTO:-0600
DTSTART:20071104T020000
RRULE:FREQ=YEARLY;BYMONTH=11;BYDAY=1SU
END:STANDARD
BEGIN:DAYLIGHT
TZOFFSETFROM:-0600
TZOFFSETTO:-0500
DTSTART:20070311T020000
RRULE:FREQ=YEARLY;BYMONTH=3;BYDAY=2SU
END:DAYLIGHT
END:VTIMEZONE
BEGIN:VTIMEZONE
TZID:US/East-Indiana
BEGIN:STANDARD
TZOFFSETFROM:-0500
TZOFFSETTO:-0500
DTSTART:19701025T020000
END:STANDARD
END:VTIMEZONE
BEGIN:VTIMEZONE
TZID:US/Eastern
BEGIN:STANDARD
TZOFFSETFROM:-0400
TZOFFSETTO:-0500
DTSTART:19701025T020000
RRULE:FREQ=YEARLY;BYMONTH=10;BYDAY=-1SU;UNTIL=20070311T020000
END:STANDARD
BEGIN:STANDARD
TZOFFSETFROM:-0400
TZOFFSETTO:-0500
DTSTART:20071104T020000
RRULE:FREQ=YEARLY;BYMONTH=11;BYDAY=1SU
END:STANDARD
BEGIN:DAYLIGHT
TZOFFSETFROM:-0500
TZOFFSETTO:-0400
DTSTART:19870405T020000
RRULE:FREQ=YEARLY;BYMONTH=4;BYDAY=1SU;UNTIL=20061029T020000
END:DAYLIGHT
BEGIN:DAYLIGHT
TZOFFSETFROM:-0500
TZOFFSETTO:-0400
DTSTART:20070311T020000
RRULE:FREQ=YEARLY;BYMONTH=3;BYDAY=2SU
END:DAYLIGHT
END:VTIMEZONE
BEGIN:VTIMEZONE
TZID:US/Michigan
BEGIN:STANDARD
TZOFFSETFROM:-0400
TZOFFSETTO:-0500
DTSTART:19701025T020000
RRULE:FREQ=YEARLY;BYMONTH=10;BYDAY=-1SU;UNTIL=20070311T020000
END:STANDARD
BEGIN:STANDARD
TZOFFSETFROM:-0400
TZOFFSETTO:-0500
DTSTART:20071104T020000
RRULE:FREQ=YEARLY;BYMONTH=11;BYDAY=1SU
END:STANDARD
BEGIN:DAYLIGHT
TZOFFSETFROM:-0500
TZOFFSETTO:-0400
DTSTART:19870405T020000
RRULE:FREQ=YEARLY;BYMONTH=4;BYDAY=1SU;UNTIL=20061029T020000
END:DAYLIGHT
BEGIN:DAYLIGHT
TZOFFSETFROM:-0500
TZOFFSETTO:-0400
DTSTART:20070311T020000
RRULE:FREQ=YEARLY;BYMONTH=3;BYDAY=2SU
END:DAYLIGHT
END:VTIMEZONE
BEGIN:VTIMEZONE
TZID:US/Central
BEGIN:STANDARD
TZOFFSETFROM:-0500
TZOFFSETTO:-0600
DTSTART:19701025T020000
RRULE:FREQ=YEARLY;BYMONTH=10;BYDAY=-1SU;UNTIL=20070311T020000
END:STANDARD
BEGIN:STANDARD
TZOFFSETFROM:-0500
TZOFFSETTO:-0600
DTSTART:20071104T020000
RRULE:FREQ=YEARLY;BYMONTH=11;BYDAY=1SU
END:STANDARD
BEGIN:DAYLIGHT
TZOFFSETFROM:-0600
TZOFFSETTO:-0500
DTSTART:19870405T020000
RRULE:FREQ=YEARLY;BYMONTH=4;BYDAY=1SU;UNTIL=20061029T020000
END:DAYLIGHT
BEGIN:DAYLIGHT
TZOFFSETFROM:-0600
TZOFFSETTO:-0500
DTSTART:20070311T020000
RRULE:FREQ=YEARLY;BYMONTH=3;BYDAY=2SU
END:DAYLIGHT
END:VTIMEZONE
BEGIN:VTIMEZONE
TZID:US/Mountain
BEGIN:STANDARD
TZOFFSETFROM:-0600
TZOFFSETTO:-0700
DTSTART:19701025T020000
RRULE:FREQ=YEARLY;BYMONTH=10;BYDAY=-1SU;UNTIL=20070311T020000
END:STANDARD
BEGIN:STANDARD
TZOFFSETFROM:-0600
TZOFFSETTO:-0700
DTSTART:20071104T020000
RRULE:FREQ=YEARLY;BYMONTH=11;BYDAY=1SU
END:STANDARD
BEGIN:DAYLIGHT
TZOFFSETFROM:-0700
TZOFFSETTO:-0600
DTSTART:19870405T020000
RRULE:FREQ=YEARLY;BYMONTH=4;BYDAY=1SU;UNTIL=20061029T020000
END:DAYLIGHT
BEGIN:DAYLIGHT
TZOFFSETFROM:-0700
TZOFFSETTO:-0600
DTSTART:20070311T020000
RRULE:FREQ=YEARLY;BYMONTH=3;BYDAY=2SU
END:DAYLIGHT
END:VTIMEZONE
BEGIN:VTIMEZONE
TZID:US/Arizona
BEGIN:STANDARD
TZOFFSETFROM:-0700
TZOFFSETTO:-0700
DTSTART:19701025T020000
END:STANDARD
END:VTIMEZONE
BEGIN:VTIMEZONE
TZID:US/Pacific
BEGIN:STANDARD
TZOFFSETFROM:-0700
TZOFFSETTO:-0800
DTSTART:19701025T020000
RRULE:FREQ=YEARLY;BYMONTH=10;BYDAY=-1SU;UNTIL=20070311T020000
END:STANDARD
BEGIN:STANDARD
TZOFFSETFROM:-0700
TZOFFSETTO:-0800
DTSTART:20071104T020000
RRULE:FREQ=YEARLY;BYMONTH=11;BYDAY=1SU
END:STANDARD
BEGIN:DAYLIGHT
TZOFFSETFROM:-0800
TZOFFSETTO:-0700
DTSTART:19870405T020000
RRULE:FREQ=YEARLY;BYMONTH=4;BYDAY=1SU;UNTIL=20061029T020000
END:DAYLIGHT
BEGIN:DAYLIGHT
TZOFFSETFROM:-0800
TZOFFSETTO:-0700
DTSTART:20070311T020000
RRULE:FREQ=YEARLY;BYMONTH=3;BYDAY=2SU
END:DAYLIGHT
END:VTIMEZONE
BEGIN:VTIMEZONE
TZID:US/Alaska
BEGIN:STANDARD
TZOFFSETFROM:-0800
TZOFFSETTO:-0900
DTSTART:19701025T020000
RRULE:FREQ=YEARLY;BYMONTH=10;BYDAY=-1SU;UNTIL=20070311T020000
END:STANDARD
BEGIN:STANDARD
TZOFFSETFROM:-0800
TZOFFSETTO:-0900
DTSTART:20071104T020000
RRULE:FREQ=YEARLY;BYMONTH=11;BYDAY=1SU
END:STANDARD
BEGIN:DAYLIGHT
TZOFFSETFROM:-0900
TZOFFSETTO:-0800
DTSTART:19870405T020000
RRULE:FREQ=YEARLY;BYMONTH=4;BYDAY=1SU;UNTIL=20061029T020000
END:DAYLIGHT
BEGIN:DAYLIGHT
TZOFFSETFROM:-0900
TZOFFSETTO:-0800
DTSTART:20070311T020000
RRULE:FREQ=YEARLY;BYMONTH=3;BYDAY=2SU
END:DAYLIGHT
END:VTIMEZONE
BEGIN:VTIMEZONE
TZID:US/Hawaii
BEGIN:STANDARD
TZOFFSETFROM:-1000
TZOFFSETTO:-1000
DTSTART:19701025T020000
END:STANDARD
END:VTIMEZONE
BEGIN:VTIMEZONE
TZID:US/Aleutian
BEGIN:STANDARD
TZOFFSETFROM:-1000
TZOFFSETTO:-1000
DTSTART:19701025T020000
END:STANDARD
END:VTIMEZONE
BEGIN:VTIMEZONE
TZID:US/Samoa
BEGIN:STANDARD
TZOFFSETFROM:-1100
TZOFFSETTO:-1100
DTSTART:19701025T020000
END:STANDARD
END:VTIMEZONE
BEGIN:VEVENT
UID:11732407@www.pillowacademy.com#20260424
SEQUENCE:0
CREATED:20260419T210407Z
LAST-MODIFIED:20260419T210407Z
DTSTART;TZID=US/Central:20260424T235800
DTEND;TZID=US/Central:20260424T235900
SUMMARY:Assignment: Friday: Poetry Cont.
DESCRIPTION:1. Review different types of poems for next week's test.<br>2. 
 Continue reading Wonder\n<a href=' https://www.pillowacademy.com/apps/clas
 ses/1062470/assignments/#hw-11732407'>Read more</a>
URL:https://www.pillowacademy.com/apps/classes/1062470/assignments/#hw-1173
 2407
ORGANIZER;CN="Edlio Calendar":MAILTO:noreply@www.pillowacademy.com
DTSTAMP:20260422T042621Z
END:VEVENT
BEGIN:VEVENT
UID:11732411@www.pillowacademy.com#20260424
SEQUENCE:0
CREATED:20260419T210407Z
LAST-MODIFIED:20260419T210407Z
DTSTART;TZID=US/Central:20260424T235800
DTEND;TZID=US/Central:20260424T235900
SUMMARY:Assignment: Friday: Poetry Cont.
DESCRIPTION:1. Review different types of poems for next week's test.<br>2. 
 Continue reading Wonder\n<a href=' https://www.pillowacademy.com/apps/clas
 ses/1062470/assignments/#hw-11732411'>Read more</a>
URL:https://www.pillowacademy.com/apps/classes/1062470/assignments/#hw-1173
 2411
ORGANIZER;CN="Edlio Calendar":MAILTO:noreply@www.pillowacademy.com
DTSTAMP:20260422T042621Z
END:VEVENT
BEGIN:VEVENT
UID:11732417@www.pillowacademy.com#20260424
SEQUENCE:0
CREATED:20260419T210408Z
LAST-MODIFIED:20260419T210408Z
DTSTART;TZID=US/Central:20260424T235800
DTEND;TZID=US/Central:20260424T235900
SUMMARY:Assignment: Friday: Poetry Cont.
DESCRIPTION:1. Review different types of poems for next week's test.<br>2. 
 Continue reading Wonder\n<a href=' https://www.pillowacademy.com/apps/clas
 ses/1062470/assignments/#hw-11732417'>Read more</a>
URL:https://www.pillowacademy.com/apps/classes/1062470/assignments/#hw-1173
 2417
ORGANIZER;CN="Edlio Calendar":MAILTO:noreply@www.pillowacademy.com
DTSTAMP:20260422T042621Z
END:VEVENT
BEGIN:VEVENT
UID:11732422@www.pillowacademy.com#20260424
SEQUENCE:0
CREATED:20260419T210408Z
LAST-MODIFIED:20260419T210408Z
DTSTART;TZID=US/Central:20260424T235800
DTEND;TZID=US/Central:20260424T235900
SUMMARY:Assignment: Friday: Poetry Cont.
DESCRIPTION:1. Review different types of poems for next week's test.<br>2. 
 Continue reading Wonder\n<a href=' https://www.pillowacademy.com/apps/clas
 ses/1062470/assignments/#hw-11732422'>Read more</a>
URL:https://www.pillowacademy.com/apps/classes/1062470/assignments/#hw-1173
 2422
ORGANIZER;CN="Edlio Calendar":MAILTO:noreply@www.pillowacademy.com
DTSTAMP:20260422T042621Z
END:VEVENT
BEGIN:VEVENT
UID:11732408@www.pillowacademy.com#20260420
SEQUENCE:0
CREATED:20260419T210407Z
LAST-MODIFIED:20260419T210407Z
DTSTART;TZID=US/Central:20260420T235800
DTEND;TZID=US/Central:20260420T235900
SUMMARY:Assignment: Monday: Recite Poems
DESCRIPTION:1. Students will recite "My Shadow" by Robert Louis Stevenson. 
 <br>2. We will review poetry test from last week.<br>3. Begin reading Wond
 er part 5<br><br>***Homework: Read Wonder pgs. \n<a href=' https://www.pil
 lowacademy.com/apps/classes/1062470/assignments/#hw-11732408'>Read more</a
 >
URL:https://www.pillowacademy.com/apps/classes/1062470/assignments/#hw-1173
 2408
ORGANIZER;CN="Edlio Calendar":MAILTO:noreply@www.pillowacademy.com
DTSTAMP:20260422T042621Z
END:VEVENT
BEGIN:VEVENT
UID:11732413@www.pillowacademy.com#20260420
SEQUENCE:0
CREATED:20260419T210408Z
LAST-MODIFIED:20260419T210408Z
DTSTART;TZID=US/Central:20260420T235800
DTEND;TZID=US/Central:20260420T235900
SUMMARY:Assignment: Monday: Recite Poems
DESCRIPTION:1. Students will recite "My Shadow" by Robert Louis Stevenson. 
 <br>2. We will review poetry test from last week.<br>3. Begin reading Wond
 er part 5<br><br>***Homework: Read Wonder pgs. \n<a href=' https://www.pil
 lowacademy.com/apps/classes/1062470/assignments/#hw-11732413'>Read more</a
 >
URL:https://www.pillowacademy.com/apps/classes/1062470/assignments/#hw-1173
 2413
ORGANIZER;CN="Edlio Calendar":MAILTO:noreply@www.pillowacademy.com
DTSTAMP:20260422T042621Z
END:VEVENT
BEGIN:VEVENT
UID:11732418@www.pillowacademy.com#20260420
SEQUENCE:0
CREATED:20260419T210408Z
LAST-MODIFIED:20260419T210408Z
DTSTART;TZID=US/Central:20260420T235800
DTEND;TZID=US/Central:20260420T235900
SUMMARY:Assignment: Monday: Recite Poems
DESCRIPTION:1. Students will recite "My Shadow" by Robert Louis Stevenson. 
 <br>2. We will review poetry test from last week.<br>3. Begin reading Wond
 er part 5<br><br>***Homework: Read Wonder pgs. \n<a href=' https://www.pil
 lowacademy.com/apps/classes/1062470/assignments/#hw-11732418'>Read more</a
 >
URL:https://www.pillowacademy.com/apps/classes/1062470/assignments/#hw-1173
 2418
ORGANIZER;CN="Edlio Calendar":MAILTO:noreply@www.pillowacademy.com
DTSTAMP:20260422T042621Z
END:VEVENT
BEGIN:VEVENT
UID:11732423@www.pillowacademy.com#20260420
SEQUENCE:0
CREATED:20260420T210525Z
LAST-MODIFIED:20260420T210525Z
DTSTART;TZID=US/Central:20260420T235800
DTEND;TZID=US/Central:20260420T235900
SUMMARY:Assignment: Monday: Recite Poems
DESCRIPTION:1. Students will recite "My Shadow" by Robert Louis Stevenson. 
 <br>2. We will review poetry test from last week.<br>3. Begin reading Wond
 er part 5<br><br>***Homework: Some classes took a little longer than other
 s to finish reciting poems today so we will hold off on reading homework t
 onight. \n<a href=' https://www.pillowacademy.com/apps/classes/1062470/ass
 ignments/#hw-11732423'>Read more</a>
URL:https://www.pillowacademy.com/apps/classes/1062470/assignments/#hw-1173
 2423
ORGANIZER;CN="Edlio Calendar":MAILTO:noreply@www.pillowacademy.com
DTSTAMP:20260422T042621Z
END:VEVENT
BEGIN:VEVENT
UID:11732412@www.pillowacademy.com#20260423
SEQUENCE:0
CREATED:20260419T210407Z
LAST-MODIFIED:20260419T210407Z
DTSTART;TZID=US/Central:20260423T235800
DTEND;TZID=US/Central:20260423T235900
SUMMARY:Assignment: Thursday: Poetry Cont.
DESCRIPTION:1. Give out notes on concrete poems.<br>2. Look up examples <br
 >3. Continue reading Wonder. \n<a href=' https://www.pillowacademy.com/app
 s/classes/1062470/assignments/#hw-11732412'>Read more</a>
URL:https://www.pillowacademy.com/apps/classes/1062470/assignments/#hw-1173
 2412
ORGANIZER;CN="Edlio Calendar":MAILTO:noreply@www.pillowacademy.com
DTSTAMP:20260422T042621Z
END:VEVENT
BEGIN:VEVENT
UID:11732416@www.pillowacademy.com#20260423
SEQUENCE:0
CREATED:20260419T210408Z
LAST-MODIFIED:20260419T210408Z
DTSTART;TZID=US/Central:20260423T235800
DTEND;TZID=US/Central:20260423T235900
SUMMARY:Assignment: Thursday: Poetry Cont.
DESCRIPTION:1. Give out notes on concrete poems.<br>2. Look up examples <br
 >3. Continue reading Wonder. \n<a href=' https://www.pillowacademy.com/app
 s/classes/1062470/assignments/#hw-11732416'>Read more</a>
URL:https://www.pillowacademy.com/apps/classes/1062470/assignments/#hw-1173
 2416
ORGANIZER;CN="Edlio Calendar":MAILTO:noreply@www.pillowacademy.com
DTSTAMP:20260422T042621Z
END:VEVENT
BEGIN:VEVENT
UID:11732421@www.pillowacademy.com#20260423
SEQUENCE:0
CREATED:20260419T210408Z
LAST-MODIFIED:20260419T210408Z
DTSTART;TZID=US/Central:20260423T235800
DTEND;TZID=US/Central:20260423T235900
SUMMARY:Assignment: Thursday: Poetry Cont.
DESCRIPTION:1. Give out notes on concrete poems.<br>2. Look up examples <br
 >3. Continue reading Wonder. \n<a href=' https://www.pillowacademy.com/app
 s/classes/1062470/assignments/#hw-11732421'>Read more</a>
URL:https://www.pillowacademy.com/apps/classes/1062470/assignments/#hw-1173
 2421
ORGANIZER;CN="Edlio Calendar":MAILTO:noreply@www.pillowacademy.com
DTSTAMP:20260422T042621Z
END:VEVENT
BEGIN:VEVENT
UID:11732426@www.pillowacademy.com#20260423
SEQUENCE:0
CREATED:20260419T210408Z
LAST-MODIFIED:20260419T210408Z
DTSTART;TZID=US/Central:20260423T235800
DTEND;TZID=US/Central:20260423T235900
SUMMARY:Assignment: Thursday: Poetry Cont.
DESCRIPTION:1. Give out notes on concrete poems.<br>2. Look up examples <br
 >3. Continue reading Wonder. \n<a href=' https://www.pillowacademy.com/app
 s/classes/1062470/assignments/#hw-11732426'>Read more</a>
URL:https://www.pillowacademy.com/apps/classes/1062470/assignments/#hw-1173
 2426
ORGANIZER;CN="Edlio Calendar":MAILTO:noreply@www.pillowacademy.com
DTSTAMP:20260422T042621Z
END:VEVENT
BEGIN:VEVENT
UID:11732409@www.pillowacademy.com#20260421
SEQUENCE:0
CREATED:20260419T210407Z
LAST-MODIFIED:20260419T210407Z
DTSTART;TZID=US/Central:20260421T235800
DTEND;TZID=US/Central:20260421T235900
SUMMARY:Assignment: Tuesday: Poetry Cont.
DESCRIPTION:1. Hand out notes on Haiku poems. <br>2. Practice writing Haiku
  poem.<br>3. Wonder part 4 assignment<br>4. Continue reading Wonder\n<a hr
 ef=' https://www.pillowacademy.com/apps/classes/1062470/assignments/#hw-11
 732409'>Read more</a>
URL:https://www.pillowacademy.com/apps/classes/1062470/assignments/#hw-1173
 2409
ORGANIZER;CN="Edlio Calendar":MAILTO:noreply@www.pillowacademy.com
DTSTAMP:20260422T042621Z
END:VEVENT
BEGIN:VEVENT
UID:11732414@www.pillowacademy.com#20260421
SEQUENCE:0
CREATED:20260419T210408Z
LAST-MODIFIED:20260419T210408Z
DTSTART;TZID=US/Central:20260421T235800
DTEND;TZID=US/Central:20260421T235900
SUMMARY:Assignment: Tuesday: Poetry Cont.
DESCRIPTION:1. Hand out notes on Haiku poems. <br>2. Practice writing Haiku
  poem.<br>3. Wonder part 4 assignment<br>4. Continue reading Wonder\n<a hr
 ef=' https://www.pillowacademy.com/apps/classes/1062470/assignments/#hw-11
 732414'>Read more</a>
URL:https://www.pillowacademy.com/apps/classes/1062470/assignments/#hw-1173
 2414
ORGANIZER;CN="Edlio Calendar":MAILTO:noreply@www.pillowacademy.com
DTSTAMP:20260422T042621Z
END:VEVENT
BEGIN:VEVENT
UID:11732419@www.pillowacademy.com#20260421
SEQUENCE:0
CREATED:20260419T210408Z
LAST-MODIFIED:20260419T210408Z
DTSTART;TZID=US/Central:20260421T235800
DTEND;TZID=US/Central:20260421T235900
SUMMARY:Assignment: Tuesday: Poetry Cont.
DESCRIPTION:1. Hand out notes on Haiku poems. <br>2. Practice writing Haiku
  poem.<br>3. Wonder part 4 assignment<br>4. Continue reading Wonder\n<a hr
 ef=' https://www.pillowacademy.com/apps/classes/1062470/assignments/#hw-11
 732419'>Read more</a>
URL:https://www.pillowacademy.com/apps/classes/1062470/assignments/#hw-1173
 2419
ORGANIZER;CN="Edlio Calendar":MAILTO:noreply@www.pillowacademy.com
DTSTAMP:20260422T042621Z
END:VEVENT
BEGIN:VEVENT
UID:11732424@www.pillowacademy.com#20260421
SEQUENCE:0
CREATED:20260419T210408Z
LAST-MODIFIED:20260419T210408Z
DTSTART;TZID=US/Central:20260421T235800
DTEND;TZID=US/Central:20260421T235900
SUMMARY:Assignment: Tuesday: Poetry Cont.
DESCRIPTION:1. Hand out notes on Haiku poems. <br>2. Practice writing Haiku
  poem.<br>3. Wonder part 4 assignment<br>4. Continue reading Wonder\n<a hr
 ef=' https://www.pillowacademy.com/apps/classes/1062470/assignments/#hw-11
 732424'>Read more</a>
URL:https://www.pillowacademy.com/apps/classes/1062470/assignments/#hw-1173
 2424
ORGANIZER;CN="Edlio Calendar":MAILTO:noreply@www.pillowacademy.com
DTSTAMP:20260422T042621Z
END:VEVENT
BEGIN:VEVENT
UID:11732410@www.pillowacademy.com#20260422
SEQUENCE:0
CREATED:20260419T210407Z
LAST-MODIFIED:20260419T210407Z
DTSTART;TZID=US/Central:20260422T235800
DTEND;TZID=US/Central:20260422T235900
SUMMARY:Assignment: Wednesday: Poetry Cont.
DESCRIPTION:1. Hand out notes on Limerick poems. <br>2. Practice writing Li
 merick poems.<br>3. Continue reading Wonder.\n<a href=' https://www.pillow
 academy.com/apps/classes/1062470/assignments/#hw-11732410'>Read more</a>
URL:https://www.pillowacademy.com/apps/classes/1062470/assignments/#hw-1173
 2410
ORGANIZER;CN="Edlio Calendar":MAILTO:noreply@www.pillowacademy.com
DTSTAMP:20260422T042621Z
END:VEVENT
BEGIN:VEVENT
UID:11732415@www.pillowacademy.com#20260422
SEQUENCE:0
CREATED:20260419T210408Z
LAST-MODIFIED:20260419T210408Z
DTSTART;TZID=US/Central:20260422T235800
DTEND;TZID=US/Central:20260422T235900
SUMMARY:Assignment: Wednesday: Poetry Cont.
DESCRIPTION:1. Hand out notes on Limerick poems. <br>2. Practice writing Li
 merick poems.<br>3. Continue reading Wonder.\n<a href=' https://www.pillow
 academy.com/apps/classes/1062470/assignments/#hw-11732415'>Read more</a>
URL:https://www.pillowacademy.com/apps/classes/1062470/assignments/#hw-1173
 2415
ORGANIZER;CN="Edlio Calendar":MAILTO:noreply@www.pillowacademy.com
DTSTAMP:20260422T042621Z
END:VEVENT
BEGIN:VEVENT
UID:11732420@www.pillowacademy.com#20260422
SEQUENCE:0
CREATED:20260419T210408Z
LAST-MODIFIED:20260419T210408Z
DTSTART;TZID=US/Central:20260422T235800
DTEND;TZID=US/Central:20260422T235900
SUMMARY:Assignment: Wednesday: Poetry Cont.
DESCRIPTION:1. Hand out notes on Limerick poems. <br>2. Practice writing Li
 merick poems.<br>3. Continue reading Wonder.\n<a href=' https://www.pillow
 academy.com/apps/classes/1062470/assignments/#hw-11732420'>Read more</a>
URL:https://www.pillowacademy.com/apps/classes/1062470/assignments/#hw-1173
 2420
ORGANIZER;CN="Edlio Calendar":MAILTO:noreply@www.pillowacademy.com
DTSTAMP:20260422T042621Z
END:VEVENT
BEGIN:VEVENT
UID:11732425@www.pillowacademy.com#20260422
SEQUENCE:0
CREATED:20260419T210408Z
LAST-MODIFIED:20260419T210408Z
DTSTART;TZID=US/Central:20260422T235800
DTEND;TZID=US/Central:20260422T235900
SUMMARY:Assignment: Wednesday: Poetry Cont.
DESCRIPTION:1. Hand out notes on Limerick poems. <br>2. Practice writing Li
 merick poems.<br>3. Continue reading Wonder.\n<a href=' https://www.pillow
 academy.com/apps/classes/1062470/assignments/#hw-11732425'>Read more</a>
URL:https://www.pillowacademy.com/apps/classes/1062470/assignments/#hw-1173
 2425
ORGANIZER;CN="Edlio Calendar":MAILTO:noreply@www.pillowacademy.com
DTSTAMP:20260422T042621Z
END:VEVENT
END:VCALENDAR
