BEGIN:VCALENDAR
VERSION:2.0
PRODID:-//Edlio Inc//Edlio Calendar//EN
CALSCALE:GREGORIAN
METHOD:PUBLISH
X-WR-CALNAME:Phonics 2025-2026 - Pillow Academy
X-ORIGINAL-URL:https://www.pillowacademy.com
X-WR-CALDESC:Events calendar for www.pillowacademy.com
X-WR-TIMEZONE:US/Central
REFRESH-INTERVAL;VALUE=DURATION:PT1H
X-Robots-Tag:noindex
X-PUBLISHED-TTL:PT1H
BEGIN:VTIMEZONE
TZID:US/Central
BEGIN:STANDARD
TZOFFSETFROM:-0500
TZOFFSETTO:-0600
DTSTART:20071104T020000
RRULE:FREQ=YEARLY;BYMONTH=11;BYDAY=1SU
END:STANDARD
BEGIN:DAYLIGHT
TZOFFSETFROM:-0600
TZOFFSETTO:-0500
DTSTART:20070311T020000
RRULE:FREQ=YEARLY;BYMONTH=3;BYDAY=2SU
END:DAYLIGHT
END:VTIMEZONE
BEGIN:VTIMEZONE
TZID:US/East-Indiana
BEGIN:STANDARD
TZOFFSETFROM:-0500
TZOFFSETTO:-0500
DTSTART:19701025T020000
END:STANDARD
END:VTIMEZONE
BEGIN:VTIMEZONE
TZID:US/Eastern
BEGIN:STANDARD
TZOFFSETFROM:-0400
TZOFFSETTO:-0500
DTSTART:19701025T020000
RRULE:FREQ=YEARLY;BYMONTH=10;BYDAY=-1SU;UNTIL=20070311T020000
END:STANDARD
BEGIN:STANDARD
TZOFFSETFROM:-0400
TZOFFSETTO:-0500
DTSTART:20071104T020000
RRULE:FREQ=YEARLY;BYMONTH=11;BYDAY=1SU
END:STANDARD
BEGIN:DAYLIGHT
TZOFFSETFROM:-0500
TZOFFSETTO:-0400
DTSTART:19870405T020000
RRULE:FREQ=YEARLY;BYMONTH=4;BYDAY=1SU;UNTIL=20061029T020000
END:DAYLIGHT
BEGIN:DAYLIGHT
TZOFFSETFROM:-0500
TZOFFSETTO:-0400
DTSTART:20070311T020000
RRULE:FREQ=YEARLY;BYMONTH=3;BYDAY=2SU
END:DAYLIGHT
END:VTIMEZONE
BEGIN:VTIMEZONE
TZID:US/Michigan
BEGIN:STANDARD
TZOFFSETFROM:-0400
TZOFFSETTO:-0500
DTSTART:19701025T020000
RRULE:FREQ=YEARLY;BYMONTH=10;BYDAY=-1SU;UNTIL=20070311T020000
END:STANDARD
BEGIN:STANDARD
TZOFFSETFROM:-0400
TZOFFSETTO:-0500
DTSTART:20071104T020000
RRULE:FREQ=YEARLY;BYMONTH=11;BYDAY=1SU
END:STANDARD
BEGIN:DAYLIGHT
TZOFFSETFROM:-0500
TZOFFSETTO:-0400
DTSTART:19870405T020000
RRULE:FREQ=YEARLY;BYMONTH=4;BYDAY=1SU;UNTIL=20061029T020000
END:DAYLIGHT
BEGIN:DAYLIGHT
TZOFFSETFROM:-0500
TZOFFSETTO:-0400
DTSTART:20070311T020000
RRULE:FREQ=YEARLY;BYMONTH=3;BYDAY=2SU
END:DAYLIGHT
END:VTIMEZONE
BEGIN:VTIMEZONE
TZID:US/Central
BEGIN:STANDARD
TZOFFSETFROM:-0500
TZOFFSETTO:-0600
DTSTART:19701025T020000
RRULE:FREQ=YEARLY;BYMONTH=10;BYDAY=-1SU;UNTIL=20070311T020000
END:STANDARD
BEGIN:STANDARD
TZOFFSETFROM:-0500
TZOFFSETTO:-0600
DTSTART:20071104T020000
RRULE:FREQ=YEARLY;BYMONTH=11;BYDAY=1SU
END:STANDARD
BEGIN:DAYLIGHT
TZOFFSETFROM:-0600
TZOFFSETTO:-0500
DTSTART:19870405T020000
RRULE:FREQ=YEARLY;BYMONTH=4;BYDAY=1SU;UNTIL=20061029T020000
END:DAYLIGHT
BEGIN:DAYLIGHT
TZOFFSETFROM:-0600
TZOFFSETTO:-0500
DTSTART:20070311T020000
RRULE:FREQ=YEARLY;BYMONTH=3;BYDAY=2SU
END:DAYLIGHT
END:VTIMEZONE
BEGIN:VTIMEZONE
TZID:US/Mountain
BEGIN:STANDARD
TZOFFSETFROM:-0600
TZOFFSETTO:-0700
DTSTART:19701025T020000
RRULE:FREQ=YEARLY;BYMONTH=10;BYDAY=-1SU;UNTIL=20070311T020000
END:STANDARD
BEGIN:STANDARD
TZOFFSETFROM:-0600
TZOFFSETTO:-0700
DTSTART:20071104T020000
RRULE:FREQ=YEARLY;BYMONTH=11;BYDAY=1SU
END:STANDARD
BEGIN:DAYLIGHT
TZOFFSETFROM:-0700
TZOFFSETTO:-0600
DTSTART:19870405T020000
RRULE:FREQ=YEARLY;BYMONTH=4;BYDAY=1SU;UNTIL=20061029T020000
END:DAYLIGHT
BEGIN:DAYLIGHT
TZOFFSETFROM:-0700
TZOFFSETTO:-0600
DTSTART:20070311T020000
RRULE:FREQ=YEARLY;BYMONTH=3;BYDAY=2SU
END:DAYLIGHT
END:VTIMEZONE
BEGIN:VTIMEZONE
TZID:US/Arizona
BEGIN:STANDARD
TZOFFSETFROM:-0700
TZOFFSETTO:-0700
DTSTART:19701025T020000
END:STANDARD
END:VTIMEZONE
BEGIN:VTIMEZONE
TZID:US/Pacific
BEGIN:STANDARD
TZOFFSETFROM:-0700
TZOFFSETTO:-0800
DTSTART:19701025T020000
RRULE:FREQ=YEARLY;BYMONTH=10;BYDAY=-1SU;UNTIL=20070311T020000
END:STANDARD
BEGIN:STANDARD
TZOFFSETFROM:-0700
TZOFFSETTO:-0800
DTSTART:20071104T020000
RRULE:FREQ=YEARLY;BYMONTH=11;BYDAY=1SU
END:STANDARD
BEGIN:DAYLIGHT
TZOFFSETFROM:-0800
TZOFFSETTO:-0700
DTSTART:19870405T020000
RRULE:FREQ=YEARLY;BYMONTH=4;BYDAY=1SU;UNTIL=20061029T020000
END:DAYLIGHT
BEGIN:DAYLIGHT
TZOFFSETFROM:-0800
TZOFFSETTO:-0700
DTSTART:20070311T020000
RRULE:FREQ=YEARLY;BYMONTH=3;BYDAY=2SU
END:DAYLIGHT
END:VTIMEZONE
BEGIN:VTIMEZONE
TZID:US/Alaska
BEGIN:STANDARD
TZOFFSETFROM:-0800
TZOFFSETTO:-0900
DTSTART:19701025T020000
RRULE:FREQ=YEARLY;BYMONTH=10;BYDAY=-1SU;UNTIL=20070311T020000
END:STANDARD
BEGIN:STANDARD
TZOFFSETFROM:-0800
TZOFFSETTO:-0900
DTSTART:20071104T020000
RRULE:FREQ=YEARLY;BYMONTH=11;BYDAY=1SU
END:STANDARD
BEGIN:DAYLIGHT
TZOFFSETFROM:-0900
TZOFFSETTO:-0800
DTSTART:19870405T020000
RRULE:FREQ=YEARLY;BYMONTH=4;BYDAY=1SU;UNTIL=20061029T020000
END:DAYLIGHT
BEGIN:DAYLIGHT
TZOFFSETFROM:-0900
TZOFFSETTO:-0800
DTSTART:20070311T020000
RRULE:FREQ=YEARLY;BYMONTH=3;BYDAY=2SU
END:DAYLIGHT
END:VTIMEZONE
BEGIN:VTIMEZONE
TZID:US/Hawaii
BEGIN:STANDARD
TZOFFSETFROM:-1000
TZOFFSETTO:-1000
DTSTART:19701025T020000
END:STANDARD
END:VTIMEZONE
BEGIN:VTIMEZONE
TZID:US/Aleutian
BEGIN:STANDARD
TZOFFSETFROM:-1000
TZOFFSETTO:-1000
DTSTART:19701025T020000
END:STANDARD
END:VTIMEZONE
BEGIN:VTIMEZONE
TZID:US/Samoa
BEGIN:STANDARD
TZOFFSETFROM:-1100
TZOFFSETTO:-1100
DTSTART:19701025T020000
END:STANDARD
END:VTIMEZONE
BEGIN:VEVENT
UID:11716851@www.pillowacademy.com#20260424
SEQUENCE:0
CREATED:20260419T115324Z
LAST-MODIFIED:20260419T115324Z
DTSTART;TZID=US/Central:20260424T235800
DTEND;TZID=US/Central:20260424T235900
SUMMARY:Assignment: Friday April 24 Phonics
DESCRIPTION:Phonics Daily Grade- encourage students to self check sounds an
 d codes with the Focus Wall\n<a href=' https://www.pillowacademy.com/apps/
 classes/1062515/assignments/#hw-11716851'>Read more</a>
URL:https://www.pillowacademy.com/apps/classes/1062515/assignments/#hw-1171
 6851
ORGANIZER;CN="Edlio Calendar":MAILTO:noreply@www.pillowacademy.com
DTSTAMP:20260424T130257Z
END:VEVENT
BEGIN:VEVENT
UID:11716856@www.pillowacademy.com#20260424
SEQUENCE:0
CREATED:20260419T115324Z
LAST-MODIFIED:20260419T115324Z
DTSTART;TZID=US/Central:20260424T235800
DTEND;TZID=US/Central:20260424T235900
SUMMARY:Assignment: Friday April 24 Phonics
DESCRIPTION:Phonics Daily Grade- encourage students to self check sounds an
 d codes with the Focus Wall\n<a href=' https://www.pillowacademy.com/apps/
 classes/1062515/assignments/#hw-11716856'>Read more</a>
URL:https://www.pillowacademy.com/apps/classes/1062515/assignments/#hw-1171
 6856
ORGANIZER;CN="Edlio Calendar":MAILTO:noreply@www.pillowacademy.com
DTSTAMP:20260424T130257Z
END:VEVENT
BEGIN:VEVENT
UID:11716861@www.pillowacademy.com#20260424
SEQUENCE:0
CREATED:20260419T115324Z
LAST-MODIFIED:20260419T115324Z
DTSTART;TZID=US/Central:20260424T235800
DTEND;TZID=US/Central:20260424T235900
SUMMARY:Assignment: Friday April 24 Phonics
DESCRIPTION:Phonics Daily Grade- encourage students to self check sounds an
 d codes with the Focus Wall\n<a href=' https://www.pillowacademy.com/apps/
 classes/1062515/assignments/#hw-11716861'>Read more</a>
URL:https://www.pillowacademy.com/apps/classes/1062515/assignments/#hw-1171
 6861
ORGANIZER;CN="Edlio Calendar":MAILTO:noreply@www.pillowacademy.com
DTSTAMP:20260424T130257Z
END:VEVENT
BEGIN:VEVENT
UID:11716849@www.pillowacademy.com#20260423
SEQUENCE:0
CREATED:20260419T115324Z
LAST-MODIFIED:20260419T115324Z
DTSTART;TZID=US/Central:20260423T235800
DTEND;TZID=US/Central:20260423T235900
SUMMARY:Assignment: Thursday April 23 Phonics
DESCRIPTION:Spelling test and dictation test<br>Lesson 132-Project page on 
 smart board<br>Review of diphthongs and vowel digraphs<br>Spell words with
  <br><br>diphthongs and vowel digraphs<br>Read\, spell\, and code words wi
 th combinations<br>Complete worksheet 132 – work together as the teacher c
 alls each one.<\n<a href=' https://www.pillowacademy.com/apps/classes/1062
 515/assignments/#hw-11716849'>Read more</a>
URL:https://www.pillowacademy.com/apps/classes/1062515/assignments/#hw-1171
 6849
ORGANIZER;CN="Edlio Calendar":MAILTO:noreply@www.pillowacademy.com
DTSTAMP:20260424T130257Z
END:VEVENT
BEGIN:VEVENT
UID:11716854@www.pillowacademy.com#20260423
SEQUENCE:0
CREATED:20260419T115324Z
LAST-MODIFIED:20260419T115324Z
DTSTART;TZID=US/Central:20260423T235800
DTEND;TZID=US/Central:20260423T235900
SUMMARY:Assignment: Thursday April 23 Phonics
DESCRIPTION:Spelling test and dictation test<br>Lesson 132-Project page on 
 smart board<br>Review of diphthongs and vowel digraphs<br>Spell words with
  <br><br>diphthongs and vowel digraphs<br>Read\, spell\, and code words wi
 th combinations<br>Complete worksheet 132 – work together as the teacher c
 alls each one.<\n<a href=' https://www.pillowacademy.com/apps/classes/1062
 515/assignments/#hw-11716854'>Read more</a>
URL:https://www.pillowacademy.com/apps/classes/1062515/assignments/#hw-1171
 6854
ORGANIZER;CN="Edlio Calendar":MAILTO:noreply@www.pillowacademy.com
DTSTAMP:20260424T130257Z
END:VEVENT
BEGIN:VEVENT
UID:11716857@www.pillowacademy.com#20260423
SEQUENCE:0
CREATED:20260419T115324Z
LAST-MODIFIED:20260419T115324Z
DTSTART;TZID=US/Central:20260423T235800
DTEND;TZID=US/Central:20260423T235900
SUMMARY:Assignment: Thursday April 23 Phonics
DESCRIPTION:Spelling test and dictation test<br>Lesson 132-Project page on 
 smart board<br>Review of diphthongs and vowel digraphs<br>Spell words with
  <br><br>diphthongs and vowel digraphs<br>Read\, spell\, and code words wi
 th combinations<br>Complete worksheet 132 – work together as the teacher c
 alls each one.<\n<a href=' https://www.pillowacademy.com/apps/classes/1062
 515/assignments/#hw-11716857'>Read more</a>
URL:https://www.pillowacademy.com/apps/classes/1062515/assignments/#hw-1171
 6857
ORGANIZER;CN="Edlio Calendar":MAILTO:noreply@www.pillowacademy.com
DTSTAMP:20260424T130257Z
END:VEVENT
BEGIN:VEVENT
UID:11716853@www.pillowacademy.com#20260423
SEQUENCE:0
CREATED:20260419T115324Z
LAST-MODIFIED:20260419T115324Z
DTSTART;TZID=US/Central:20260423T235800
DTEND;TZID=US/Central:20260423T235900
SUMMARY:Assignment: Wednesday April 23 Phonics
DESCRIPTION:Lesson 133-Project page on smart board<br>Review of vowels and 
 vowel digraphs<br>Read and spell words with vowel digraphs<br>Read\, spell
 \, and code words with vowel digraphs<br>Complete worksheet 133 – work tog
 ether as the teacher calls each one. <br>Read practice sentences for reade
 r<br>Check answ\n<a href=' https://www.pillowacademy.com/apps/classes/1062
 515/assignments/#hw-11716853'>Read more</a>
URL:https://www.pillowacademy.com/apps/classes/1062515/assignments/#hw-1171
 6853
ORGANIZER;CN="Edlio Calendar":MAILTO:noreply@www.pillowacademy.com
DTSTAMP:20260424T130257Z
END:VEVENT
BEGIN:VEVENT
UID:11716860@www.pillowacademy.com#20260423
SEQUENCE:0
CREATED:20260419T115324Z
LAST-MODIFIED:20260419T115324Z
DTSTART;TZID=US/Central:20260423T235800
DTEND;TZID=US/Central:20260423T235900
SUMMARY:Assignment: Wednesday April 23 Phonics
DESCRIPTION:Lesson 133-Project page on smart board<br>Review of vowels and 
 vowel digraphs<br>Read and spell words with vowel digraphs<br>Read\, spell
 \, and code words with vowel digraphs<br>Complete worksheet 133 – work tog
 ether as the teacher calls each one. <br>Read practice sentences for reade
 r<br>Check answ\n<a href=' https://www.pillowacademy.com/apps/classes/1062
 515/assignments/#hw-11716860'>Read more</a>
URL:https://www.pillowacademy.com/apps/classes/1062515/assignments/#hw-1171
 6860
ORGANIZER;CN="Edlio Calendar":MAILTO:noreply@www.pillowacademy.com
DTSTAMP:20260424T130257Z
END:VEVENT
BEGIN:VEVENT
UID:11716863@www.pillowacademy.com#20260423
SEQUENCE:0
CREATED:20260419T115324Z
LAST-MODIFIED:20260419T115324Z
DTSTART;TZID=US/Central:20260423T235800
DTEND;TZID=US/Central:20260423T235900
SUMMARY:Assignment: Wednesday April 23 Phonics
DESCRIPTION:Lesson 133-Project page on smart board<br>Review of vowels and 
 vowel digraphs<br>Read and spell words with vowel digraphs<br>Read\, spell
 \, and code words with vowel digraphs<br>Complete worksheet 133 – work tog
 ether as the teacher calls each one. <br>Read practice sentences for reade
 r<br>Check answ\n<a href=' https://www.pillowacademy.com/apps/classes/1062
 515/assignments/#hw-11716863'>Read more</a>
URL:https://www.pillowacademy.com/apps/classes/1062515/assignments/#hw-1171
 6863
ORGANIZER;CN="Edlio Calendar":MAILTO:noreply@www.pillowacademy.com
DTSTAMP:20260424T130257Z
END:VEVENT
END:VCALENDAR
