BEGIN:VCALENDAR
VERSION:2.0
PRODID:-//Edlio Inc//Edlio Calendar//EN
CALSCALE:GREGORIAN
METHOD:PUBLISH
X-WR-CALNAME:3rd Grade Math - Pillow Academy
X-ORIGINAL-URL:https://www.pillowacademy.com
X-WR-CALDESC:Events calendar for www.pillowacademy.com
X-WR-TIMEZONE:US/Central
REFRESH-INTERVAL;VALUE=DURATION:PT1H
X-Robots-Tag:noindex
X-PUBLISHED-TTL:PT1H
BEGIN:VTIMEZONE
TZID:US/Central
BEGIN:STANDARD
TZOFFSETFROM:-0500
TZOFFSETTO:-0600
DTSTART:20071104T020000
RRULE:FREQ=YEARLY;BYMONTH=11;BYDAY=1SU
END:STANDARD
BEGIN:DAYLIGHT
TZOFFSETFROM:-0600
TZOFFSETTO:-0500
DTSTART:20070311T020000
RRULE:FREQ=YEARLY;BYMONTH=3;BYDAY=2SU
END:DAYLIGHT
END:VTIMEZONE
BEGIN:VTIMEZONE
TZID:US/East-Indiana
BEGIN:STANDARD
TZOFFSETFROM:-0500
TZOFFSETTO:-0500
DTSTART:19701025T020000
END:STANDARD
END:VTIMEZONE
BEGIN:VTIMEZONE
TZID:US/Eastern
BEGIN:STANDARD
TZOFFSETFROM:-0400
TZOFFSETTO:-0500
DTSTART:19701025T020000
RRULE:FREQ=YEARLY;BYMONTH=10;BYDAY=-1SU;UNTIL=20070311T020000
END:STANDARD
BEGIN:STANDARD
TZOFFSETFROM:-0400
TZOFFSETTO:-0500
DTSTART:20071104T020000
RRULE:FREQ=YEARLY;BYMONTH=11;BYDAY=1SU
END:STANDARD
BEGIN:DAYLIGHT
TZOFFSETFROM:-0500
TZOFFSETTO:-0400
DTSTART:19870405T020000
RRULE:FREQ=YEARLY;BYMONTH=4;BYDAY=1SU;UNTIL=20061029T020000
END:DAYLIGHT
BEGIN:DAYLIGHT
TZOFFSETFROM:-0500
TZOFFSETTO:-0400
DTSTART:20070311T020000
RRULE:FREQ=YEARLY;BYMONTH=3;BYDAY=2SU
END:DAYLIGHT
END:VTIMEZONE
BEGIN:VTIMEZONE
TZID:US/Michigan
BEGIN:STANDARD
TZOFFSETFROM:-0400
TZOFFSETTO:-0500
DTSTART:19701025T020000
RRULE:FREQ=YEARLY;BYMONTH=10;BYDAY=-1SU;UNTIL=20070311T020000
END:STANDARD
BEGIN:STANDARD
TZOFFSETFROM:-0400
TZOFFSETTO:-0500
DTSTART:20071104T020000
RRULE:FREQ=YEARLY;BYMONTH=11;BYDAY=1SU
END:STANDARD
BEGIN:DAYLIGHT
TZOFFSETFROM:-0500
TZOFFSETTO:-0400
DTSTART:19870405T020000
RRULE:FREQ=YEARLY;BYMONTH=4;BYDAY=1SU;UNTIL=20061029T020000
END:DAYLIGHT
BEGIN:DAYLIGHT
TZOFFSETFROM:-0500
TZOFFSETTO:-0400
DTSTART:20070311T020000
RRULE:FREQ=YEARLY;BYMONTH=3;BYDAY=2SU
END:DAYLIGHT
END:VTIMEZONE
BEGIN:VTIMEZONE
TZID:US/Central
BEGIN:STANDARD
TZOFFSETFROM:-0500
TZOFFSETTO:-0600
DTSTART:19701025T020000
RRULE:FREQ=YEARLY;BYMONTH=10;BYDAY=-1SU;UNTIL=20070311T020000
END:STANDARD
BEGIN:STANDARD
TZOFFSETFROM:-0500
TZOFFSETTO:-0600
DTSTART:20071104T020000
RRULE:FREQ=YEARLY;BYMONTH=11;BYDAY=1SU
END:STANDARD
BEGIN:DAYLIGHT
TZOFFSETFROM:-0600
TZOFFSETTO:-0500
DTSTART:19870405T020000
RRULE:FREQ=YEARLY;BYMONTH=4;BYDAY=1SU;UNTIL=20061029T020000
END:DAYLIGHT
BEGIN:DAYLIGHT
TZOFFSETFROM:-0600
TZOFFSETTO:-0500
DTSTART:20070311T020000
RRULE:FREQ=YEARLY;BYMONTH=3;BYDAY=2SU
END:DAYLIGHT
END:VTIMEZONE
BEGIN:VTIMEZONE
TZID:US/Mountain
BEGIN:STANDARD
TZOFFSETFROM:-0600
TZOFFSETTO:-0700
DTSTART:19701025T020000
RRULE:FREQ=YEARLY;BYMONTH=10;BYDAY=-1SU;UNTIL=20070311T020000
END:STANDARD
BEGIN:STANDARD
TZOFFSETFROM:-0600
TZOFFSETTO:-0700
DTSTART:20071104T020000
RRULE:FREQ=YEARLY;BYMONTH=11;BYDAY=1SU
END:STANDARD
BEGIN:DAYLIGHT
TZOFFSETFROM:-0700
TZOFFSETTO:-0600
DTSTART:19870405T020000
RRULE:FREQ=YEARLY;BYMONTH=4;BYDAY=1SU;UNTIL=20061029T020000
END:DAYLIGHT
BEGIN:DAYLIGHT
TZOFFSETFROM:-0700
TZOFFSETTO:-0600
DTSTART:20070311T020000
RRULE:FREQ=YEARLY;BYMONTH=3;BYDAY=2SU
END:DAYLIGHT
END:VTIMEZONE
BEGIN:VTIMEZONE
TZID:US/Arizona
BEGIN:STANDARD
TZOFFSETFROM:-0700
TZOFFSETTO:-0700
DTSTART:19701025T020000
END:STANDARD
END:VTIMEZONE
BEGIN:VTIMEZONE
TZID:US/Pacific
BEGIN:STANDARD
TZOFFSETFROM:-0700
TZOFFSETTO:-0800
DTSTART:19701025T020000
RRULE:FREQ=YEARLY;BYMONTH=10;BYDAY=-1SU;UNTIL=20070311T020000
END:STANDARD
BEGIN:STANDARD
TZOFFSETFROM:-0700
TZOFFSETTO:-0800
DTSTART:20071104T020000
RRULE:FREQ=YEARLY;BYMONTH=11;BYDAY=1SU
END:STANDARD
BEGIN:DAYLIGHT
TZOFFSETFROM:-0800
TZOFFSETTO:-0700
DTSTART:19870405T020000
RRULE:FREQ=YEARLY;BYMONTH=4;BYDAY=1SU;UNTIL=20061029T020000
END:DAYLIGHT
BEGIN:DAYLIGHT
TZOFFSETFROM:-0800
TZOFFSETTO:-0700
DTSTART:20070311T020000
RRULE:FREQ=YEARLY;BYMONTH=3;BYDAY=2SU
END:DAYLIGHT
END:VTIMEZONE
BEGIN:VTIMEZONE
TZID:US/Alaska
BEGIN:STANDARD
TZOFFSETFROM:-0800
TZOFFSETTO:-0900
DTSTART:19701025T020000
RRULE:FREQ=YEARLY;BYMONTH=10;BYDAY=-1SU;UNTIL=20070311T020000
END:STANDARD
BEGIN:STANDARD
TZOFFSETFROM:-0800
TZOFFSETTO:-0900
DTSTART:20071104T020000
RRULE:FREQ=YEARLY;BYMONTH=11;BYDAY=1SU
END:STANDARD
BEGIN:DAYLIGHT
TZOFFSETFROM:-0900
TZOFFSETTO:-0800
DTSTART:19870405T020000
RRULE:FREQ=YEARLY;BYMONTH=4;BYDAY=1SU;UNTIL=20061029T020000
END:DAYLIGHT
BEGIN:DAYLIGHT
TZOFFSETFROM:-0900
TZOFFSETTO:-0800
DTSTART:20070311T020000
RRULE:FREQ=YEARLY;BYMONTH=3;BYDAY=2SU
END:DAYLIGHT
END:VTIMEZONE
BEGIN:VTIMEZONE
TZID:US/Hawaii
BEGIN:STANDARD
TZOFFSETFROM:-1000
TZOFFSETTO:-1000
DTSTART:19701025T020000
END:STANDARD
END:VTIMEZONE
BEGIN:VTIMEZONE
TZID:US/Aleutian
BEGIN:STANDARD
TZOFFSETFROM:-1000
TZOFFSETTO:-1000
DTSTART:19701025T020000
END:STANDARD
END:VTIMEZONE
BEGIN:VTIMEZONE
TZID:US/Samoa
BEGIN:STANDARD
TZOFFSETFROM:-1100
TZOFFSETTO:-1100
DTSTART:19701025T020000
END:STANDARD
END:VTIMEZONE
BEGIN:VEVENT
UID:11745245@www.pillowacademy.com#20260424
SEQUENCE:0
CREATED:20260420T131526Z
LAST-MODIFIED:20260420T131526Z
DTSTART;TZID=US/Central:20260424T235800
DTEND;TZID=US/Central:20260424T235900
SUMMARY:Assignment: Friday\, April 24\, 2026
DESCRIPTION:<br>Lesson 136- p 271 and 272<br>complete p 363-story problems 
 <br><br>Homework: <br>No speed drill Monday <br>Test 13 Wednesday the 29th
 \n<a href=' https://www.pillowacademy.com/apps/classes/1063003/assignments
 /#hw-11745245'>Read more</a>
URL:https://www.pillowacademy.com/apps/classes/1063003/assignments/#hw-1174
 5245
ORGANIZER;CN="Edlio Calendar":MAILTO:noreply@www.pillowacademy.com
DTSTAMP:20260421T233342Z
END:VEVENT
BEGIN:VEVENT
UID:11745250@www.pillowacademy.com#20260424
SEQUENCE:0
CREATED:20260420T131527Z
LAST-MODIFIED:20260420T131527Z
DTSTART;TZID=US/Central:20260424T235800
DTEND;TZID=US/Central:20260424T235900
SUMMARY:Assignment: Friday\, April 24\, 2026
DESCRIPTION:<br>Lesson 136- p 271 and 272<br>complete p 363-story problems 
 <br><br>Homework: <br>No speed drill Monday <br>Test 13 Wednesday the 29th
 \n<a href=' https://www.pillowacademy.com/apps/classes/1063003/assignments
 /#hw-11745250'>Read more</a>
URL:https://www.pillowacademy.com/apps/classes/1063003/assignments/#hw-1174
 5250
ORGANIZER;CN="Edlio Calendar":MAILTO:noreply@www.pillowacademy.com
DTSTAMP:20260421T233342Z
END:VEVENT
BEGIN:VEVENT
UID:11745243@www.pillowacademy.com#20260420
SEQUENCE:0
CREATED:20260420T131525Z
LAST-MODIFIED:20260420T131525Z
DTSTART;TZID=US/Central:20260420T235800
DTEND;TZID=US/Central:20260420T235900
SUMMARY:Assignment: Monday\, April 20\, 2026
DESCRIPTION:Lesson 129<br>rounding to the nearest dollar<br>Skill drill Tue
 sday-skills covered: single digit mult and div.\n<a href=' https://www.pil
 lowacademy.com/apps/classes/1063003/assignments/#hw-11745243'>Read more</a
 >
URL:https://www.pillowacademy.com/apps/classes/1063003/assignments/#hw-1174
 5243
ORGANIZER;CN="Edlio Calendar":MAILTO:noreply@www.pillowacademy.com
DTSTAMP:20260421T233342Z
END:VEVENT
BEGIN:VEVENT
UID:11745248@www.pillowacademy.com#20260420
SEQUENCE:0
CREATED:20260420T131527Z
LAST-MODIFIED:20260420T131527Z
DTSTART;TZID=US/Central:20260420T235800
DTEND;TZID=US/Central:20260420T235900
SUMMARY:Assignment: Monday\, April 20\, 2026
DESCRIPTION:Lesson 129<br>rounding to the nearest dollar<br>Skill drill Tue
 sday-skills covered: single digit mult and div.\n<a href=' https://www.pil
 lowacademy.com/apps/classes/1063003/assignments/#hw-11745248'>Read more</a
 >
URL:https://www.pillowacademy.com/apps/classes/1063003/assignments/#hw-1174
 5248
ORGANIZER;CN="Edlio Calendar":MAILTO:noreply@www.pillowacademy.com
DTSTAMP:20260421T233342Z
END:VEVENT
BEGIN:VEVENT
UID:11745241@www.pillowacademy.com#20260423
SEQUENCE:0
CREATED:20260420T131525Z
LAST-MODIFIED:20260420T131525Z
DTSTART;TZID=US/Central:20260423T235800
DTEND;TZID=US/Central:20260423T235900
SUMMARY:Assignment: Thursday April 23\, 2026
DESCRIPTION:<br>Lesson 135 pg. 269 and 270. work independently.  Check page
 s together.  <br><br>Homework: <br><br>Test 13 Wednesday 4/29\n<a href=' h
 ttps://www.pillowacademy.com/apps/classes/1063003/assignments/#hw-11745241
 '>Read more</a>
URL:https://www.pillowacademy.com/apps/classes/1063003/assignments/#hw-1174
 5241
ORGANIZER;CN="Edlio Calendar":MAILTO:noreply@www.pillowacademy.com
DTSTAMP:20260421T233342Z
END:VEVENT
BEGIN:VEVENT
UID:11745246@www.pillowacademy.com#20260423
SEQUENCE:0
CREATED:20260420T131527Z
LAST-MODIFIED:20260420T131527Z
DTSTART;TZID=US/Central:20260423T235800
DTEND;TZID=US/Central:20260423T235900
SUMMARY:Assignment: Thursday April 23\, 2026
DESCRIPTION:<br>Lesson 135 pg. 269 and 270. work independently.  Check page
 s together.  <br><br>Homework: <br><br>Test 13 Wednesday 4/29\n<a href=' h
 ttps://www.pillowacademy.com/apps/classes/1063003/assignments/#hw-11745246
 '>Read more</a>
URL:https://www.pillowacademy.com/apps/classes/1063003/assignments/#hw-1174
 5246
ORGANIZER;CN="Edlio Calendar":MAILTO:noreply@www.pillowacademy.com
DTSTAMP:20260421T233342Z
END:VEVENT
BEGIN:VEVENT
UID:11745242@www.pillowacademy.com#20260421
SEQUENCE:0
CREATED:20260420T131525Z
LAST-MODIFIED:20260420T131525Z
DTSTART;TZID=US/Central:20260421T235800
DTEND;TZID=US/Central:20260421T235900
SUMMARY:Assignment: Tuesday\, April 21\, 2026
DESCRIPTION:<br>skill drill 126-130<br><br>Lesson 130- more mixed numbers <
 br><br><br>Homework: Quiz 13 tomorrow<br>Complete pages 261 and 262 to pre
 pare.\n<a href=' https://www.pillowacademy.com/apps/classes/1063003/assign
 ments/#hw-11745242'>Read more</a>
URL:https://www.pillowacademy.com/apps/classes/1063003/assignments/#hw-1174
 5242
ORGANIZER;CN="Edlio Calendar":MAILTO:noreply@www.pillowacademy.com
DTSTAMP:20260421T233342Z
END:VEVENT
BEGIN:VEVENT
UID:11745247@www.pillowacademy.com#20260421
SEQUENCE:0
CREATED:20260420T131527Z
LAST-MODIFIED:20260420T131527Z
DTSTART;TZID=US/Central:20260421T235800
DTEND;TZID=US/Central:20260421T235900
SUMMARY:Assignment: Tuesday\, April 21\, 2026
DESCRIPTION:<br>skill drill 126-130<br><br>Lesson 130- more mixed numbers <
 br><br><br>Homework: Quiz 13 tomorrow<br>Complete pages 261 and 262 to pre
 pare.\n<a href=' https://www.pillowacademy.com/apps/classes/1063003/assign
 ments/#hw-11745247'>Read more</a>
URL:https://www.pillowacademy.com/apps/classes/1063003/assignments/#hw-1174
 5247
ORGANIZER;CN="Edlio Calendar":MAILTO:noreply@www.pillowacademy.com
DTSTAMP:20260421T233342Z
END:VEVENT
BEGIN:VEVENT
UID:11745244@www.pillowacademy.com#20260422
SEQUENCE:0
CREATED:20260420T131526Z
LAST-MODIFIED:20260420T131526Z
DTSTART;TZID=US/Central:20260422T235800
DTEND;TZID=US/Central:20260422T235900
SUMMARY:Assignment: Wednesday\, April 22\, 2026
DESCRIPTION:<br>Lesson 133 - page 265 and 266 Review work as practice  befo
 re Quiz 13 - <br><br>take quiz 13\n<a href=' https://www.pillowacademy.com
 /apps/classes/1063003/assignments/#hw-11745244'>Read more</a>
URL:https://www.pillowacademy.com/apps/classes/1063003/assignments/#hw-1174
 5244
ORGANIZER;CN="Edlio Calendar":MAILTO:noreply@www.pillowacademy.com
DTSTAMP:20260421T233342Z
END:VEVENT
BEGIN:VEVENT
UID:11745249@www.pillowacademy.com#20260422
SEQUENCE:0
CREATED:20260420T131527Z
LAST-MODIFIED:20260420T131527Z
DTSTART;TZID=US/Central:20260422T235800
DTEND;TZID=US/Central:20260422T235900
SUMMARY:Assignment: Wednesday\, April 22\, 2026
DESCRIPTION:<br>Lesson 133 - page 265 and 266 Review work as practice  befo
 re Quiz 13 - <br><br>take quiz 13\n<a href=' https://www.pillowacademy.com
 /apps/classes/1063003/assignments/#hw-11745249'>Read more</a>
URL:https://www.pillowacademy.com/apps/classes/1063003/assignments/#hw-1174
 5249
ORGANIZER;CN="Edlio Calendar":MAILTO:noreply@www.pillowacademy.com
DTSTAMP:20260421T233342Z
END:VEVENT
END:VCALENDAR
